﻿BEGIN:VCALENDAR
VERSION:2.0
PRODID:-//IACS - ECPv6.15.11//NONSGML v1.0//EN
CALSCALE:GREGORIAN
METHOD:PUBLISH
X-WR-CALNAME:IACS
X-ORIGINAL-URL:https://www.iacs.es
X-WR-CALDESC:Eventos para IACS
REFRESH-INTERVAL;VALUE=DURATION:PT1H
X-Robots-Tag:noindex
X-PUBLISHED-TTL:PT1H
BEGIN:VTIMEZONE
TZID:Europe/Madrid
BEGIN:DAYLIGHT
TZOFFSETFROM:+0100
TZOFFSETTO:+0200
TZNAME:CEST
DTSTART:20210328T010000
END:DAYLIGHT
BEGIN:STANDARD
TZOFFSETFROM:+0200
TZOFFSETTO:+0100
TZNAME:CET
DTSTART:20211031T010000
END:STANDARD
BEGIN:DAYLIGHT
TZOFFSETFROM:+0100
TZOFFSETTO:+0200
TZNAME:CEST
DTSTART:20220327T010000
END:DAYLIGHT
BEGIN:STANDARD
TZOFFSETFROM:+0200
TZOFFSETTO:+0100
TZNAME:CET
DTSTART:20221030T010000
END:STANDARD
BEGIN:DAYLIGHT
TZOFFSETFROM:+0100
TZOFFSETTO:+0200
TZNAME:CEST
DTSTART:20230326T010000
END:DAYLIGHT
BEGIN:STANDARD
TZOFFSETFROM:+0200
TZOFFSETTO:+0100
TZNAME:CET
DTSTART:20231029T010000
END:STANDARD
END:VTIMEZONE
BEGIN:VEVENT
DTSTART;TZID=Europe/Madrid:20220114T080000
DTEND;TZID=Europe/Madrid:20220628T120000
DTSTAMP:20260423T002620
CREATED:20220114T090049Z
LAST-MODIFIED:20220204T073433Z
UID:10001639-1642147200-1656417600@www.iacs.es
SUMMARY:NUEVA CONVOCATORIA EUROPEA EN EL ÁMBITO DE LAS ENFERMEDADES NEURODEGENERATIVAS
DESCRIPTION:El European Joint Programme » Neurodegenerative Disease Research (JPND)» ha publicado una nueva convocatoria para 2022 en el ámbito de las enfermedades neurodegenerativas. \nEsta convocatoria tiene como finalidad financiar consorcios transnacionales y multidisciplinares de investigación para comprender los mecanismos de intervención no farmacológicos en el ámbito de las enfermedades neurodegenerativas con el propósito de mejorar las intervenciones personalizadas o una combinación de intervenciones farmacológicas y no farmacológicas. \nLa evaluación de las propuestas se realizará en 2 fases:\nPre-proposals deben enviarse antes del 01-03-2022 a través de la plataforma electrónica de la JP. \nFull proposals deben enviarse antes del 28-06-2022 a través de la plataforma electrónica de la JP. \nLas ayudas serán de 3 años de duración.\nEn este enlace se puede encontrar más información sobre la convocatoria\, así como los enlaces para descargar todos los documentos asociados a la misma (call text\, guidelines for applicants\, etc): https://www.neurodegenerationresearch.eu/initiatives/annual-calls-for-proposals/understanding-the-mechanisms-of-non-pharmacological-interventions/ \nPara ampliar esta información o para cualquier otra consulta\, no dudes en contactar con Elena Portero (eportero.iacs@aragon.es)
URL:https://www.iacs.es/evento/nueva-convocatoria-europea-en-el-ambito-de-las-enfermedades-neurodegenerativas/
LOCATION:on-line\, España
CATEGORIES:Ayudas y subvenciones,Convocatoria,Convocatoria internacional
GEO:40.463667;-3.74922
END:VEVENT
BEGIN:VEVENT
DTSTART;TZID=Europe/Madrid:20220117T080000
DTEND;TZID=Europe/Madrid:20220308T170000
DTSTAMP:20260423T002620
CREATED:20220117T114622Z
LAST-MODIFIED:20220204T083342Z
UID:10001642-1642406400-1646758800@www.iacs.es
SUMMARY:NUEVA CONVOCATORIA EUROPEA EN EL ÁMBITO DE LAS ENFERMEDADES CEREBROVASCULARES
DESCRIPTION:La ERA-Net de NEURON ha publicado su nueva convocatoria para 2022 en el ámbito de las enfermedades cerebrovasculares. \nEsta convocatoria tiene como finalidad financiar consorcios transnacionales y multidisciplinares de investigación para desarrollar nuevas estrategias en prevención\, diagnóstico\, terapia y rehabilitación en enfermedades cerebrovasculares. \nLa convocatoria estará abierta hasta el 8 de Marzo de 2022. \nEn este enlace se puede encontrar más información sobre la convocatoria\, así como los enlaces para descargar todos los documentos asociados a la misma (call text\, guidelines for applicants\, etc):https://www.neuron-eranet.eu/joint-calls/bio-medical/2022-cerebrovascular-diseases/ \nLas ayudas serán de 3 años de duración. \nAdicionalmente\, se van a realizar los siguientes eventos informativos dirigidos a investigadores en el ámbito de Neurociencias: \n– Webinars organizados por NEURON sobre los recursos disponibles en las Infraestructuras Europeas de Investigación Biomédica (ESFRIS) para neurocientíficos los días 1 y 3\, Febrero de 2022. \n– Workshop organizado por ESFRI sobre Infraestructuras de Investigación (RI) y «European Open Science Cloud» (EOSC). 25 y 26\, Enero\, 2022. \nEn el siguiente enlace aparece toda la información adicional sobre los eventos: https://www.neuron-eranet.eu/about/activities/ \nPara ampliar esta información o para cualquier otra consulta\, no dudes en contactar con Elena Portero (eportero.iacs@aragon.es)
URL:https://www.iacs.es/evento/nueva-convocatoria-europea-en-el-ambito-de-las-enfermedades-cerebrovasculares/
LOCATION:on-line\, España
CATEGORIES:Ayudas y subvenciones,Convocatoria,Convocatoria internacional
ORGANIZER;CN="ERA-NET NEURON - The Network of European Funding for Neuroscience Research":MAILTO:info@neuron-eranet.eu
GEO:40.463667;-3.74922
END:VEVENT
BEGIN:VEVENT
DTSTART;TZID=Europe/Madrid:20220118T080000
DTEND;TZID=Europe/Madrid:20220705T170000
DTSTAMP:20260423T002620
CREATED:20220118T094739Z
LAST-MODIFIED:20220128T073939Z
UID:10001643-1642492800-1657040400@www.iacs.es
SUMMARY:NUEVA CONVOCATORIA EUROPEA EN EL ÁMBITO DE LAS RESISTENCIAS ANTIMICROBIANAS
DESCRIPTION:La ERA-NET dedicada a las resistencias antimicrobianas JPIAMR (AntimiCrobial Transmission InterventiONs) ha publicado su nueva convocatoria para 2022 en el ámbito de las resistencias antimicrobianas bajo el título «Disrupting drug resistance using innovative design». \nEsta convocatoria tiene como finalidad financiar consorcios transnacionales y multidisciplinares de investigación para mejorar el tratamiento de las infecciones bacterianas y fúngicas en los seres humanos\, los animales o las plantas a través de la mejora de la eficacia\, la especificidad\, la entrega\, las combinaciones y/o la reutilización de los medicamentos y los agentes fitosanitarios. \nLas ayudas serán de 3 años de duración. \nLa evaluación de las propuestas se realizará en 2 fases: \nPre-proposals deben enviarse antes del 08-03-2022. \nFull proposals deben enviarse antes del 05-07-2022. \nEn este enlace se puede encontrar más información sobre la convocatoria\, así como los enlaces para descargar todos los documentos asociados a la misma (call text\, guidelines for applicants\, etc): https://www.jpiamr.eu/calls/therapeutics-call-2022/ \nAsimismo en este enlace se accede al registro en el webinar\, 25 de enero de 2022 (16:00-17:30)\, dirigido a investigadores en el que se presentará la convocatoria «Disrupting drug resistance using innovative design» y a la herramienta de búsqueda de socios: \n\n\nhttps://www.jpiamr.eu/events/call-on-drug-resistance-live-webinar-for-applicants/ \nPara ampliar esta información o para cualquier otra consulta\, no dudes en contactar con Elena Portero (eportero.iacs@aragon.es)
URL:https://www.iacs.es/evento/nueva-convocatoria-europea-en-el-ambito-de-las-resistencias-antimicrobianas/
LOCATION:on-line\, España
CATEGORIES:Ayudas y subvenciones,Convocatoria,Convocatoria internacional
GEO:40.463667;-3.74922
END:VEVENT
BEGIN:VEVENT
DTSTART;TZID=Europe/Madrid:20220124T080000
DTEND;TZID=Europe/Madrid:20220209T150000
DTSTAMP:20260423T002620
CREATED:20220127T092637Z
LAST-MODIFIED:20220127T092637Z
UID:10001646-1643011200-1644418800@www.iacs.es
SUMMARY:Proyectos en Colaboración Público-Privada 2021 AEI
DESCRIPTION:El objetivo de la convocatoria de ayudas a proyectos de colaboración público-privada es el apoyo a proyectos de desarrollo experimental en cooperación entre empresas y organismos de investigación\, con el fin de promover el desarrollo de nuevas tecnologías\, la aplicación empresarial de nuevas ideas y técnicas\, y contribuir a la creación de nuevos productos y servicios. \nOrden Bases \nDocumentación y tramitación de la ayuda \n 
URL:https://www.iacs.es/evento/proyectos-en-colaboracion-publico-privada-2021-aei/
LOCATION:San Juan Bosco\, 13\, Zaragoza\, Zaragoza\, 50009\, España
CATEGORIES:Ayudas y subvenciones,Convocatoria,Convocatoria - proyectos
GEO:41.64381;-0.9024
X-APPLE-STRUCTURED-LOCATION;VALUE=URI;X-ADDRESS=San Juan Bosco 13 Zaragoza Zaragoza 50009 España;X-APPLE-RADIUS=500;X-TITLE=San Juan Bosco\, 13:geo:-0.9024,41.64381
END:VEVENT
BEGIN:VEVENT
DTSTART;TZID=Europe/Madrid:20220127T080000
DTEND;TZID=Europe/Madrid:20220224T140000
DTSTAMP:20260423T002620
CREATED:20220127T103751Z
LAST-MODIFIED:20220203T141929Z
UID:10001647-1643270400-1645711200@www.iacs.es
SUMMARY:Ayudas para contratos de Personal Técnico de Apoyo (PTA) 2021
DESCRIPTION:El objetivo de estas ayudas es incentivar la contratación laboral de personal técnico de apoyo en organismos de investigación y van destinado a dar soporte en el manejo de equipos\, instalaciones y demás infraestructuras de I+D+i a fin de incrementar y mejorar las prestaciones y rendimiento de las infraestructuras científico-tecnológicas.\nSe requiere titulación universitaria: licenciatura\, ingeniería\, arquitectura\, grado\, master\, diplomatura\, ingeniería técnica o arquitectura técnica o técnico superior en el marco de la formación profesional del sistema educativo.\nLas solicitudes de participación las presentan los centros de I+D incluyendo en ellas a las personas participantes. La selección se fundamenta en un proceso de concurrencia competitiva\, siendo\, los criterios de evaluación de las solicitudes los siguientes: 1) Impacto sobre la actividad científica del equipamiento (valoración entre 0-50 puntos); 2) Trayectoria académica o profesional del candidato/a (valoración entre 0-30 puntos) y 3) Relevancia de las actividades de los servicios de I+D prestados por la entidad (valoración entre 0-20 puntos). \nOrden de bases \nConvocatoria \nPlazos de solicitud: \n\nCentros: 07/02/2022 – 24/02/2022\n\n\nCandidatos  07/02/2022 – 17/02/2022
URL:https://www.iacs.es/evento/ayudas-para-contratos-de-personal-tecnico-de-apoyo-pta-2021/
LOCATION:San Juan Bosco\, 13\, Zaragoza\, Zaragoza\, 50009\, España
CATEGORIES:Ayudas y subvenciones,Convocatoria,Convocatoria - personas,Convocatoria MICINN,Convocatoria nacional
GEO:41.64381;-0.9024
X-APPLE-STRUCTURED-LOCATION;VALUE=URI;X-ADDRESS=San Juan Bosco 13 Zaragoza Zaragoza 50009 España;X-APPLE-RADIUS=500;X-TITLE=San Juan Bosco\, 13:geo:-0.9024,41.64381
END:VEVENT
BEGIN:VEVENT
DTSTART;TZID=Europe/Madrid:20220127T080000
DTEND;TZID=Europe/Madrid:20220228T140000
DTSTAMP:20260423T002620
CREATED:20220127T111515Z
LAST-MODIFIED:20220127T111515Z
UID:10001650-1643270400-1646056800@www.iacs.es
SUMMARY:ARAID 2021
DESCRIPTION:ABIERTA! La Fundación ARAID lanza una nueva Convocatoria Internacional para contratar hasta un máximo de 11 investigadores de distintas áreas de investigación que demuestren una sólida trayectoria investigadora y una gran capacidad de liderazgo. Dicha convocatoria está abierta a candidatos de cualquier nacionalidad que cumplan los requisitos de formación académica y experiencia investigadora exigidos. El número final de contrataciones estará supeditado a la calidad de las propuestas y la disponibilidad del presupuesto. \nSe admitirán hasta un máximo de 3 solicitudes por entidad y/o centro de los Organismos con los que ARAID tiene suscrito un convenio de colaboración para la incorporación de investigadores. \nSe exige que los candidatos reúnan 6 o más años de experiencia postdoctoral (al finalizar el plazo de presentación de solicitudes)\, con al menos 2 años en centros de reconocido prestigio nacionales e internacional\, fuera de Aragón. No podrán enviar solicitud los candidatos que formen parte del personal fijo adscrito al centro que solicita la plaza\, solo aquellos candidatos que tengan contrato temporal no anterior a 01/01/2021. \nÁreas prioritarias: \n\nBiomedicina y ciencias de la salud\nIngeniería de tecnologías de la información y las comunicaciones (TIC)\nCiencia y tecnologías agroalimentarias\nDesarrollo social y cultural\nMedioambiente y sostenibilidad\nNanociencia y nanotecnología\nDesarrollo tecnológico basado en nuevos materiales y procesos\nEn esta convocatoria y de modo excepcional\, se valorarán candidaturas que trabajen con grupos de investigación implicados en alguno de los cuatro Planes Complementarios del Ministerio concedidos a Aragón. Estos Planes Complementarios de I+D+I con las Comunidades Autónomas\, son un nuevo instrumento para establecer colaboraciones entre el Estado y las Comunidades Autónomas en acciones de I+D+I en las que confluyan prioridades comunes de los planes regionales y estatal\, siendo una de las herramientas derivadas del Plan de Recuperación\, Transformación y Resiliencia para la superar la crisis de la COVID-19 y responder a los retos de la próxima década. Específicamente se valorarán propuestas alineadas con las siguientes áreas:\nEnergía e hidrógeno verde. Descarbonización del sector de transporte pesado y la industria a través de la aplicación de las tecnologías del hidrógeno verde (Instituto Tecnológico de Aragón – ITAINNOVA\, Fundación del Hidrógeno de Aragón y Universidad de Zaragoza)\nAgroalimentación. Agrifood Transition (Centro de Investigación Agroalimentaria de Aragón – CITA)\nAstrofísica y física de altas energías. Iluminando El Universo Oscuro: Materia Y Energía Oscura (Centro de Estudios de Física del Cosmos de Aragón – CEFCA\, Instituto Tecnológico de Aragón – ITAINNOVA y Universidad de Zaragoza)\nMateriales avanzados. Materiales funcionales avanzados para dispositivos inteligentes (Instituto de Nanociencia y Materiales de Aragón – INMA\, Instituto Tecnológico de Aragón – ITAINNOVA)\n\n  \nPlazo interno: 7 febrero
URL:https://www.iacs.es/evento/araid-2021/
LOCATION:San Juan Bosco\, 13\, Zaragoza\, Zaragoza\, 50009\, España
CATEGORIES:Ayudas y subvenciones,Convocatoria,Convocatoria - personas
GEO:41.64381;-0.9024
X-APPLE-STRUCTURED-LOCATION;VALUE=URI;X-ADDRESS=San Juan Bosco 13 Zaragoza Zaragoza 50009 España;X-APPLE-RADIUS=500;X-TITLE=San Juan Bosco\, 13:geo:-0.9024,41.64381
END:VEVENT
BEGIN:VEVENT
DTSTART;TZID=Europe/Madrid:20220210T080000
DTEND;TZID=Europe/Madrid:20221108T150000
DTSTAMP:20260423T002620
CREATED:20220210T125013Z
LAST-MODIFIED:20220211T143538Z
UID:10001656-1644480000-1667919600@www.iacs.es
SUMMARY:Acción Estratégica en Salud 2022
DESCRIPTION:PUBLICADA LA CONVOCATORIA DE LA ACCIÓN ESTRATÉGICA EN SALUD 2022 \nANUNCIO ISCIII \nEXTRACTO DE RESOLUCIÓN  \nCONVOCATORIA \nJORNADA INFORMATIVA ISCIII_15 DE FEBRERO 9-12h \nActuaciones objeto de ayuda de los Subprogramas Estatales de Generación de Conocimiento: \n\nPROYECTOS DE INVESTIGACIÓN EN SALUD (FIS): 2 al 24 de marzo de 2022 a las 15:00h (horario peninsular)\nPROYECTOS DE DESARROLLO TECNOLÓGICO EN SALUD (DTS): 9 al 31 de marzo de 2022 a las 15:00h (horario peninsular)\nProyectos de Investigación Clínica Independiente: 5 al 27 de abril de 2022\nIncorporación de una nueva área temática y nuevos grupos a CIBER: 5 de abril al 27 de abril de 2022\n\nActuaciones objeto de ayuda de los Subprogramas Estatales de Formación\, Incorporación y Movilidad \nContratos PFIS: 17 de marzo al 6 de abril de 2022\nContratos Río Hortega: 9 de marzo al 29 de marzo de 2022\nContratos Miguel Servet: 2 de marzo al 23 de marzo de 2022\nContratos Miguel Servet tipo II: 2 de marzo al 23 de marzo de 2022\nContratos Sara Borrell: 9 de marzo al 29 de marzo de 2022\nContratos Juan Rodés: 2 de marzo al 23 de marzo de 2022\nContratos para la intensificación de la actividad investigadora en el Sistema Nacional de Salud: 2 de marzo al 23 de marzo de 2022 \nAyudas para la movilidad del personal investigador (Modalidad M-BAE):1 de marzo al 22 de marzo de 2022\nAyudas para la movilidad del personal investigador (Modalidad M-AES): : 1\nde marzo al 22 de marzo de 2022 \nActuaciones objeto de ayuda del Subprograma Estatal de Internacionalización:  \n\nPROYECTOS DE PROGRAMACIÓN CONJUNTA INTERNACIONAL:25 de octubre al 8 de noviembre de 2022 a las 15:00h (horario peninsular)\n\nA lo largo de 2022\, de forma complementaria a la AES2022 y bajo su paraguas\, se lanzarán una serie de convocatorias con financiación procedente del Plan de Recuperación y vinculadas al PERTE de Salud de Vanguardia​​\, entre ellos dos convocatorias extraordinarias de Medicina de Precisión e Infraestructuras. \n 
URL:https://www.iacs.es/evento/accion-estrategica-en-salud-2022/
LOCATION:San Juan Bosco\, 13\, Zaragoza\, Zaragoza\, 50009\, España
CATEGORIES:Ayudas y subvenciones,Convocatoria,Convocatoria - proyectos,Convocatoria ISCIII,Convocatoria nacional
GEO:41.64381;-0.9024
X-APPLE-STRUCTURED-LOCATION;VALUE=URI;X-ADDRESS=San Juan Bosco 13 Zaragoza Zaragoza 50009 España;X-APPLE-RADIUS=500;X-TITLE=San Juan Bosco\, 13:geo:-0.9024,41.64381
END:VEVENT
END:VCALENDAR