﻿BEGIN:VCALENDAR
VERSION:2.0
PRODID:-//IACS - ECPv6.15.11//NONSGML v1.0//EN
CALSCALE:GREGORIAN
METHOD:PUBLISH
X-ORIGINAL-URL:https://www.iacs.es
X-WR-CALDESC:Eventos para IACS
REFRESH-INTERVAL;VALUE=DURATION:PT1H
X-Robots-Tag:noindex
X-PUBLISHED-TTL:PT1H
BEGIN:VTIMEZONE
TZID:Europe/Madrid
BEGIN:DAYLIGHT
TZOFFSETFROM:+0100
TZOFFSETTO:+0200
TZNAME:CEST
DTSTART:20210328T010000
END:DAYLIGHT
BEGIN:STANDARD
TZOFFSETFROM:+0200
TZOFFSETTO:+0100
TZNAME:CET
DTSTART:20211031T010000
END:STANDARD
BEGIN:DAYLIGHT
TZOFFSETFROM:+0100
TZOFFSETTO:+0200
TZNAME:CEST
DTSTART:20220327T010000
END:DAYLIGHT
BEGIN:STANDARD
TZOFFSETFROM:+0200
TZOFFSETTO:+0100
TZNAME:CET
DTSTART:20221030T010000
END:STANDARD
BEGIN:DAYLIGHT
TZOFFSETFROM:+0100
TZOFFSETTO:+0200
TZNAME:CEST
DTSTART:20230326T010000
END:DAYLIGHT
BEGIN:STANDARD
TZOFFSETFROM:+0200
TZOFFSETTO:+0100
TZNAME:CET
DTSTART:20231029T010000
END:STANDARD
END:VTIMEZONE
BEGIN:VEVENT
DTSTART;TZID=Europe/Madrid:20220114T080000
DTEND;TZID=Europe/Madrid:20220628T120000
DTSTAMP:20260423T003236
CREATED:20220114T090049Z
LAST-MODIFIED:20220204T073433Z
UID:10001639-1642147200-1656417600@www.iacs.es
SUMMARY:NUEVA CONVOCATORIA EUROPEA EN EL ÁMBITO DE LAS ENFERMEDADES NEURODEGENERATIVAS
DESCRIPTION:El European Joint Programme » Neurodegenerative Disease Research (JPND)» ha publicado una nueva convocatoria para 2022 en el ámbito de las enfermedades neurodegenerativas. \nEsta convocatoria tiene como finalidad financiar consorcios transnacionales y multidisciplinares de investigación para comprender los mecanismos de intervención no farmacológicos en el ámbito de las enfermedades neurodegenerativas con el propósito de mejorar las intervenciones personalizadas o una combinación de intervenciones farmacológicas y no farmacológicas. \nLa evaluación de las propuestas se realizará en 2 fases:\nPre-proposals deben enviarse antes del 01-03-2022 a través de la plataforma electrónica de la JP. \nFull proposals deben enviarse antes del 28-06-2022 a través de la plataforma electrónica de la JP. \nLas ayudas serán de 3 años de duración.\nEn este enlace se puede encontrar más información sobre la convocatoria\, así como los enlaces para descargar todos los documentos asociados a la misma (call text\, guidelines for applicants\, etc): https://www.neurodegenerationresearch.eu/initiatives/annual-calls-for-proposals/understanding-the-mechanisms-of-non-pharmacological-interventions/ \nPara ampliar esta información o para cualquier otra consulta\, no dudes en contactar con Elena Portero (eportero.iacs@aragon.es)
URL:https://www.iacs.es/evento/nueva-convocatoria-europea-en-el-ambito-de-las-enfermedades-neurodegenerativas/
LOCATION:on-line\, España
CATEGORIES:Ayudas y subvenciones,Convocatoria,Convocatoria internacional
GEO:40.463667;-3.74922
END:VEVENT
BEGIN:VEVENT
DTSTART;TZID=Europe/Madrid:20220118T080000
DTEND;TZID=Europe/Madrid:20220705T170000
DTSTAMP:20260423T003236
CREATED:20220118T094739Z
LAST-MODIFIED:20220128T073939Z
UID:10001643-1642492800-1657040400@www.iacs.es
SUMMARY:NUEVA CONVOCATORIA EUROPEA EN EL ÁMBITO DE LAS RESISTENCIAS ANTIMICROBIANAS
DESCRIPTION:La ERA-NET dedicada a las resistencias antimicrobianas JPIAMR (AntimiCrobial Transmission InterventiONs) ha publicado su nueva convocatoria para 2022 en el ámbito de las resistencias antimicrobianas bajo el título «Disrupting drug resistance using innovative design». \nEsta convocatoria tiene como finalidad financiar consorcios transnacionales y multidisciplinares de investigación para mejorar el tratamiento de las infecciones bacterianas y fúngicas en los seres humanos\, los animales o las plantas a través de la mejora de la eficacia\, la especificidad\, la entrega\, las combinaciones y/o la reutilización de los medicamentos y los agentes fitosanitarios. \nLas ayudas serán de 3 años de duración. \nLa evaluación de las propuestas se realizará en 2 fases: \nPre-proposals deben enviarse antes del 08-03-2022. \nFull proposals deben enviarse antes del 05-07-2022. \nEn este enlace se puede encontrar más información sobre la convocatoria\, así como los enlaces para descargar todos los documentos asociados a la misma (call text\, guidelines for applicants\, etc): https://www.jpiamr.eu/calls/therapeutics-call-2022/ \nAsimismo en este enlace se accede al registro en el webinar\, 25 de enero de 2022 (16:00-17:30)\, dirigido a investigadores en el que se presentará la convocatoria «Disrupting drug resistance using innovative design» y a la herramienta de búsqueda de socios: \n\n\nhttps://www.jpiamr.eu/events/call-on-drug-resistance-live-webinar-for-applicants/ \nPara ampliar esta información o para cualquier otra consulta\, no dudes en contactar con Elena Portero (eportero.iacs@aragon.es)
URL:https://www.iacs.es/evento/nueva-convocatoria-europea-en-el-ambito-de-las-resistencias-antimicrobianas/
LOCATION:on-line\, España
CATEGORIES:Ayudas y subvenciones,Convocatoria,Convocatoria internacional
GEO:40.463667;-3.74922
END:VEVENT
BEGIN:VEVENT
DTSTART;TZID=Europe/Madrid:20220210T080000
DTEND;TZID=Europe/Madrid:20221108T150000
DTSTAMP:20260423T003236
CREATED:20220210T125013Z
LAST-MODIFIED:20220211T143538Z
UID:10001656-1644480000-1667919600@www.iacs.es
SUMMARY:Acción Estratégica en Salud 2022
DESCRIPTION:PUBLICADA LA CONVOCATORIA DE LA ACCIÓN ESTRATÉGICA EN SALUD 2022 \nANUNCIO ISCIII \nEXTRACTO DE RESOLUCIÓN  \nCONVOCATORIA \nJORNADA INFORMATIVA ISCIII_15 DE FEBRERO 9-12h \nActuaciones objeto de ayuda de los Subprogramas Estatales de Generación de Conocimiento: \n\nPROYECTOS DE INVESTIGACIÓN EN SALUD (FIS): 2 al 24 de marzo de 2022 a las 15:00h (horario peninsular)\nPROYECTOS DE DESARROLLO TECNOLÓGICO EN SALUD (DTS): 9 al 31 de marzo de 2022 a las 15:00h (horario peninsular)\nProyectos de Investigación Clínica Independiente: 5 al 27 de abril de 2022\nIncorporación de una nueva área temática y nuevos grupos a CIBER: 5 de abril al 27 de abril de 2022\n\nActuaciones objeto de ayuda de los Subprogramas Estatales de Formación\, Incorporación y Movilidad \nContratos PFIS: 17 de marzo al 6 de abril de 2022\nContratos Río Hortega: 9 de marzo al 29 de marzo de 2022\nContratos Miguel Servet: 2 de marzo al 23 de marzo de 2022\nContratos Miguel Servet tipo II: 2 de marzo al 23 de marzo de 2022\nContratos Sara Borrell: 9 de marzo al 29 de marzo de 2022\nContratos Juan Rodés: 2 de marzo al 23 de marzo de 2022\nContratos para la intensificación de la actividad investigadora en el Sistema Nacional de Salud: 2 de marzo al 23 de marzo de 2022 \nAyudas para la movilidad del personal investigador (Modalidad M-BAE):1 de marzo al 22 de marzo de 2022\nAyudas para la movilidad del personal investigador (Modalidad M-AES): : 1\nde marzo al 22 de marzo de 2022 \nActuaciones objeto de ayuda del Subprograma Estatal de Internacionalización:  \n\nPROYECTOS DE PROGRAMACIÓN CONJUNTA INTERNACIONAL:25 de octubre al 8 de noviembre de 2022 a las 15:00h (horario peninsular)\n\nA lo largo de 2022\, de forma complementaria a la AES2022 y bajo su paraguas\, se lanzarán una serie de convocatorias con financiación procedente del Plan de Recuperación y vinculadas al PERTE de Salud de Vanguardia​​\, entre ellos dos convocatorias extraordinarias de Medicina de Precisión e Infraestructuras. \n 
URL:https://www.iacs.es/evento/accion-estrategica-en-salud-2022/
LOCATION:San Juan Bosco\, 13\, Zaragoza\, Zaragoza\, 50009\, España
CATEGORIES:Ayudas y subvenciones,Convocatoria,Convocatoria - proyectos,Convocatoria ISCIII,Convocatoria nacional
GEO:41.64381;-0.9024
X-APPLE-STRUCTURED-LOCATION;VALUE=URI;X-ADDRESS=San Juan Bosco 13 Zaragoza Zaragoza 50009 España;X-APPLE-RADIUS=500;X-TITLE=San Juan Bosco\, 13:geo:-0.9024,41.64381
END:VEVENT
END:VCALENDAR