﻿BEGIN:VCALENDAR
VERSION:2.0
PRODID:-//IACS - ECPv6.15.11//NONSGML v1.0//EN
CALSCALE:GREGORIAN
METHOD:PUBLISH
X-WR-CALNAME:IACS
X-ORIGINAL-URL:https://www.iacs.es
X-WR-CALDESC:Eventos para IACS
REFRESH-INTERVAL;VALUE=DURATION:PT1H
X-Robots-Tag:noindex
X-PUBLISHED-TTL:PT1H
BEGIN:VTIMEZONE
TZID:Europe/Madrid
BEGIN:DAYLIGHT
TZOFFSETFROM:+0100
TZOFFSETTO:+0200
TZNAME:CEST
DTSTART:20210328T010000
END:DAYLIGHT
BEGIN:STANDARD
TZOFFSETFROM:+0200
TZOFFSETTO:+0100
TZNAME:CET
DTSTART:20211031T010000
END:STANDARD
BEGIN:DAYLIGHT
TZOFFSETFROM:+0100
TZOFFSETTO:+0200
TZNAME:CEST
DTSTART:20220327T010000
END:DAYLIGHT
BEGIN:STANDARD
TZOFFSETFROM:+0200
TZOFFSETTO:+0100
TZNAME:CET
DTSTART:20221030T010000
END:STANDARD
BEGIN:DAYLIGHT
TZOFFSETFROM:+0100
TZOFFSETTO:+0200
TZNAME:CEST
DTSTART:20230326T010000
END:DAYLIGHT
BEGIN:STANDARD
TZOFFSETFROM:+0200
TZOFFSETTO:+0100
TZNAME:CET
DTSTART:20231029T010000
END:STANDARD
BEGIN:DAYLIGHT
TZOFFSETFROM:+0100
TZOFFSETTO:+0200
TZNAME:CEST
DTSTART:20240331T010000
END:DAYLIGHT
BEGIN:STANDARD
TZOFFSETFROM:+0200
TZOFFSETTO:+0100
TZNAME:CET
DTSTART:20241027T010000
END:STANDARD
END:VTIMEZONE
BEGIN:VEVENT
DTSTART;TZID=Europe/Madrid:20221125T080000
DTEND;TZID=Europe/Madrid:20230203T150000
DTSTAMP:20260422T010428
CREATED:20221125T091854Z
LAST-MODIFIED:20230111T124721Z
UID:10001727-1669363200-1675436400@www.iacs.es
SUMMARY:NUEVA convocatoria GRUPOS DGA 2023-2025
DESCRIPTION:PUBLICADA la Orden CUS/1638/2022\, de 8 de noviembre\, por la que se aprueban las bases reguladoras y la convocatoria para la concesión de las subvenciones destinadas a fomentar la actividad investigadora de los grupos de investigación que obtengan el reconocimiento del Gobierno de Aragón. \nEste año se unifica el procedimiento de reconocimiento de grupos con el de adjudicación de presupuesto. Las ayudas se concederán a todos los grupos que consigan el reconocimiento\, de acuerdo a los criterios establecidos en la orden. \nEl plazo para la presentación se abre el 10 de enero de 2023 y finaliza el 3 de febrero de 2023. \nPlazo interno presentación IACS: 23 enero 2023 \nDocumentación a presentar: \n\nMemoria descriptiva de la actividad investigadora_Anexo\nDeclaración responsable de cumplimiento de requisitos para ser reconocido como Grupo de Investigación de Referencia _Anexo\nDeclaración responsable de cumplimiento de requisitos para ser reconocido como Grupo de Investigación en Desarrollo._Anexo\nRelación del personal investigador y personal técnico_ Anexo\nRelación con la composición completa de cada grupo de investigación__Anexo\n\nOrden BOA \nFICHA resumen convocatoria \n 
URL:https://www.iacs.es/evento/nueva-convocatoria-grupos-dga-2023-2025/
LOCATION:San Juan Bosco\, 13\, Zaragoza\, Zaragoza\, 50009\, España
CATEGORIES:Ayudas y subvenciones,Convocatoria,Convocatoria Gobierno de Aragón
GEO:41.64381;-0.9024
X-APPLE-STRUCTURED-LOCATION;VALUE=URI;X-ADDRESS=San Juan Bosco 13 Zaragoza Zaragoza 50009 España;X-APPLE-RADIUS=500;X-TITLE=San Juan Bosco\, 13:geo:-0.9024,41.64381
END:VEVENT
END:VCALENDAR