﻿BEGIN:VCALENDAR
VERSION:2.0
PRODID:-//IACS - ECPv6.15.11//NONSGML v1.0//EN
CALSCALE:GREGORIAN
METHOD:PUBLISH
X-WR-CALNAME:IACS
X-ORIGINAL-URL:https://www.iacs.es
X-WR-CALDESC:Eventos para IACS
REFRESH-INTERVAL;VALUE=DURATION:PT1H
X-Robots-Tag:noindex
X-PUBLISHED-TTL:PT1H
BEGIN:VTIMEZONE
TZID:Europe/Madrid
BEGIN:DAYLIGHT
TZOFFSETFROM:+0100
TZOFFSETTO:+0200
TZNAME:CEST
DTSTART:20230326T010000
END:DAYLIGHT
BEGIN:STANDARD
TZOFFSETFROM:+0200
TZOFFSETTO:+0100
TZNAME:CET
DTSTART:20231029T010000
END:STANDARD
BEGIN:DAYLIGHT
TZOFFSETFROM:+0100
TZOFFSETTO:+0200
TZNAME:CEST
DTSTART:20240331T010000
END:DAYLIGHT
BEGIN:STANDARD
TZOFFSETFROM:+0200
TZOFFSETTO:+0100
TZNAME:CET
DTSTART:20241027T010000
END:STANDARD
BEGIN:DAYLIGHT
TZOFFSETFROM:+0100
TZOFFSETTO:+0200
TZNAME:CEST
DTSTART:20250330T010000
END:DAYLIGHT
BEGIN:STANDARD
TZOFFSETFROM:+0200
TZOFFSETTO:+0100
TZNAME:CET
DTSTART:20251026T010000
END:STANDARD
END:VTIMEZONE
BEGIN:VEVENT
DTSTART;TZID=Europe/Madrid:20240601T080000
DTEND;TZID=Europe/Madrid:20240726T140000
DTSTAMP:20260423T044627
CREATED:20240613T123909Z
LAST-MODIFIED:20240613T123909Z
UID:10002078-1717228800-1722002400@www.iacs.es
SUMMARY:Premios Aragón Investiga 2024
DESCRIPTION:Los «Premios Aragón Investiga» tienen como finalidad el reconocimiento público de las contribuciones a la investigación básica o aplicada de investigadores/as individuales\, así como las labores de apoyo a la investigación y a la transferencia de conocimientos realizadas por entidades públicas o privadas. \nPersonas y entidades beneficiarias\n\nInvestigadores/as que desempeñen su labor en Aragón o que mantengan especiales vínculos con la Comunidad Autónoma de Aragón.\nEntidades\, centros u organismos de investigación públicos o privados y universidades públicas o privadas que desempeñen su labor investigadora en Aragón o mantengan especiales vínculos con la Comunidad Autónoma de Aragón.\n\nCategorías\n\nPremio Aragón Investiga a la Excelencia Investigadora “Miguel Servet” : Investigadores/as que se hayan distinguido por su trayectoria investigadora de excelencia\, realizando una labor reconocida nacional e internacionalmente en el campo de la investigación básica\, investigación aplicada o transferencia de tecnología.\nPremio Aragón Investiga para Jóvenes “Blanca Catalán de Ocón”: Jóvenes investigadores/as menores de 35 años en la fecha de publicación de la convocatoria. Este límite de edad se aumentará por una duración equivalente al periodo de baja por situación de maternidad o paternidad\, adopción\, embarazo y lactancia que se acredite. Asimismo\, cuando se trate de personal investigador con discapacidad igual o superior al 33% el límite de edad se ampliará hasta los 40 años.\nPremio Aragón Investiga a Entidades “Fidel Pagés”\, en esta convocatoria se distinguirá dos modalidades\, una para organizaciones públicas y otra para organizaciones privadas\nPremio Aragón Investiga a Investigación con Perspectiva de Género “María Andresa Casamayor”\, se premiara también a aquellos proyectos en los que la integración del análisis de género haya conseguido resultados relevantes en la investigación   ·\nPremio Aragón Investiga “Ramón y Cajal” a personas\, grupos o entidades que hayan desarrollado proyectos de investigación que se hayan distinguido por obtener excelentes resultados en materia de transferencia del conocimiento\n\nEl plazo de presentación de las solicitudes finaliza el 26 de julio de 2024. \nConvocatoria
URL:https://www.iacs.es/evento/premios-aragon-investiga-2024/
CATEGORIES:Convocatoria,Convocatoria Gobierno de Aragón,Premios
ORGANIZER;CN="Arag%C3%B3n Investiga":MAILTO:investigacion@aragon.es
END:VEVENT
END:VCALENDAR