﻿BEGIN:VCALENDAR
VERSION:2.0
PRODID:-//IACS - ECPv6.15.11//NONSGML v1.0//EN
CALSCALE:GREGORIAN
METHOD:PUBLISH
X-ORIGINAL-URL:https://www.iacs.es
X-WR-CALDESC:Eventos para IACS
REFRESH-INTERVAL;VALUE=DURATION:PT1H
X-Robots-Tag:noindex
X-PUBLISHED-TTL:PT1H
BEGIN:VTIMEZONE
TZID:Europe/Madrid
BEGIN:DAYLIGHT
TZOFFSETFROM:+0100
TZOFFSETTO:+0200
TZNAME:CEST
DTSTART:20220327T010000
END:DAYLIGHT
BEGIN:STANDARD
TZOFFSETFROM:+0200
TZOFFSETTO:+0100
TZNAME:CET
DTSTART:20221030T010000
END:STANDARD
BEGIN:DAYLIGHT
TZOFFSETFROM:+0100
TZOFFSETTO:+0200
TZNAME:CEST
DTSTART:20230326T010000
END:DAYLIGHT
BEGIN:STANDARD
TZOFFSETFROM:+0200
TZOFFSETTO:+0100
TZNAME:CET
DTSTART:20231029T010000
END:STANDARD
BEGIN:DAYLIGHT
TZOFFSETFROM:+0100
TZOFFSETTO:+0200
TZNAME:CEST
DTSTART:20240331T010000
END:DAYLIGHT
BEGIN:STANDARD
TZOFFSETFROM:+0200
TZOFFSETTO:+0100
TZNAME:CET
DTSTART:20241027T010000
END:STANDARD
END:VTIMEZONE
BEGIN:VEVENT
DTSTART;TZID=Europe/Madrid:20230413T080000
DTEND;TZID=Europe/Madrid:20230913T170000
DTSTAMP:20260426T053327
CREATED:20230413T113648Z
LAST-MODIFIED:20230413T113648Z
UID:10001759-1681372800-1694624400@www.iacs.es
SUMMARY:MSCA Postdoctoral Fellowships 2023 (HORIZON-MSCA-2023-PF-01)
DESCRIPTION:Type of action\nHORIZON-TMA-MSCA-PF-EF HORIZON TMA MSCA Postdoctoral Fellowships – European Fellowships\n\n\n\n\n\n\n\nType of MGA\n\nHORIZON Unit Grant [HORIZON-AG-UN]\n\n\n\n\n\n\n\n\n\nOpen for submission\n\n\n\n\n\n\n\n\nHORIZON-TMA-MSCA-PF-GF HORIZON TMA MSCA Postdoctoral Fellowships – Global Fellowships\n\n\n\n\n\n\n\n\nHORIZON Unit Grant [HORIZON-AG-UN]\n\n\n\n\nProject results are expected to contribute to the following outcomes: \nFor supported postdoctoral fellows \n\nIncreased set of research and transferable skills and competences\, leading to improved employability and career prospects of MSCA postdoctoral fellows within academia and beyond;\nNew mind-sets and approaches to R&I work forged through international\, inter-sectoral and interdisciplinary experience;\nEnhanced networking and communication capacities with scientific peers\, as well as with the general public that will increase and broaden the research and innovation impact.\n\nFor participating organisations \n\nIncreased alignment of working conditions for researchers in accordance with the principles set out in the European Charter for Researchers and the Code of Conduct for the Recruitment of Researchers;\nEnhanced quality and sustainability of research training and supervision;\nIncreased global attractiveness\, visibility and reputation of the participating organisation(s);\nStronger R&I capacity and output among participating organisations; better transfer of knowledge;\nRegular feedback of research results into teaching and education at participating organisations.\n\n\n\n\n\n\n\n\n\nDeadline model   single-stage\n\n\n\n\n\n\n\n\n\n\n\n\n\nDeadline date  13 September 2023 17:00:00 Brussels time\n\n\n\nPara ampliar esta información\, o para cualquier otra consulta\, no dudes en contactar con Elena Portero (eportero.iacs@aragon.es)\n\n\nFurther information 
URL:https://www.iacs.es/evento/msca-postdoctoral-fellowships-2023-horizon-msca-2023-pf-01/
LOCATION:San Juan Bosco\, 13\, Zaragoza\, Zaragoza\, 50009\, España
CATEGORIES:Convocatoria,Convocatoria internacional
GEO:41.64381;-0.9024
X-APPLE-STRUCTURED-LOCATION;VALUE=URI;X-ADDRESS=San Juan Bosco 13 Zaragoza Zaragoza 50009 España;X-APPLE-RADIUS=500;X-TITLE=San Juan Bosco\, 13:geo:-0.9024,41.64381
END:VEVENT
END:VCALENDAR