﻿BEGIN:VCALENDAR
VERSION:2.0
PRODID:-//IACS - ECPv6.15.11//NONSGML v1.0//EN
CALSCALE:GREGORIAN
METHOD:PUBLISH
X-WR-CALNAME:IACS
X-ORIGINAL-URL:https://www.iacs.es
X-WR-CALDESC:Eventos para IACS
REFRESH-INTERVAL;VALUE=DURATION:PT1H
X-Robots-Tag:noindex
X-PUBLISHED-TTL:PT1H
BEGIN:VTIMEZONE
TZID:Europe/Madrid
BEGIN:DAYLIGHT
TZOFFSETFROM:+0100
TZOFFSETTO:+0200
TZNAME:CEST
DTSTART:20220327T010000
END:DAYLIGHT
BEGIN:STANDARD
TZOFFSETFROM:+0200
TZOFFSETTO:+0100
TZNAME:CET
DTSTART:20221030T010000
END:STANDARD
BEGIN:DAYLIGHT
TZOFFSETFROM:+0100
TZOFFSETTO:+0200
TZNAME:CEST
DTSTART:20230326T010000
END:DAYLIGHT
BEGIN:STANDARD
TZOFFSETFROM:+0200
TZOFFSETTO:+0100
TZNAME:CET
DTSTART:20231029T010000
END:STANDARD
BEGIN:DAYLIGHT
TZOFFSETFROM:+0100
TZOFFSETTO:+0200
TZNAME:CEST
DTSTART:20240331T010000
END:DAYLIGHT
BEGIN:STANDARD
TZOFFSETFROM:+0200
TZOFFSETTO:+0100
TZNAME:CET
DTSTART:20241027T010000
END:STANDARD
END:VTIMEZONE
BEGIN:VEVENT
DTSTART;TZID=Europe/Madrid:20230925T080000
DTEND;TZID=Europe/Madrid:20231024T220000
DTSTAMP:20260426T040354
CREATED:20230925T121345Z
LAST-MODIFIED:20230926T075631Z
UID:10001970-1695628800-1698184800@www.iacs.es
SUMMARY:European Commission: Horizon Implementation Day
DESCRIPTION:La Comisión Europea está organizando una serie de seminarios online\, que tendrán lugar en Octubre\, denominados «Horizon Implementation Day». Estos seminarios incluirán los distintos aspectos de la aplicación de Horizon Europe\, desde la identificación de oportunidades de financiación hasta la presentación de solicitudes y la preparación del acuerdo de subvención hasta la gestión y contabilidad de los proyectos. Todos los actos brindarán la oportunidad de formular preguntas al personal de la Comisión sobre el contenido presentado. \nLos temas de los seminarios incluidos en el  «Horizon Implementation Day»: \n5 de octubre 2023: Finding opportunities and submitting a proposal\n17 de octubre 2023: Grant Agreement Preparation\n24 de octubre 2023: Grant Management \nLa participación está sujeta a registro (se requiere inicio de sesión de la UE) para el seminario respectivo. La inscripción y la información adicional se puede acceder a través de los enlaces (antes mencionados) a los eventos. \n \n 
URL:https://www.iacs.es/evento/european-commission-horizon-implementation-day/
LOCATION:San Juan Bosco\, 13\, Zaragoza\, Zaragoza\, 50009\, España
CATEGORIES:Convocatoria internacional
GEO:41.64381;-0.9024
X-APPLE-STRUCTURED-LOCATION;VALUE=URI;X-ADDRESS=San Juan Bosco 13 Zaragoza Zaragoza 50009 España;X-APPLE-RADIUS=500;X-TITLE=San Juan Bosco\, 13:geo:-0.9024,41.64381
END:VEVENT
BEGIN:VEVENT
DTSTART;TZID=Europe/Madrid:20231024T080000
DTEND;TZID=Europe/Madrid:20231112T010000
DTSTAMP:20260426T040354
CREATED:20231024T114551Z
LAST-MODIFIED:20231024T115023Z
UID:10001988-1698134400-1699750800@www.iacs.es
SUMMARY:16 Conferencia Europea de Salud Pública 2023. Nuestros Alimentos\, Nuestra Salud\, Nuestra Tierra: Un futuro sostenible para la humanidad
DESCRIPTION:La Conferencia Europea de Salud Pública (EPH) es una conferencia científica organizada anualmente sobre cuestiones de salud pública en Europa. Cada año\, la conferencia es organizada en un país diferente por la Fundación de la Conferencia EPH en estrecha cooperación con uno o más socios locales. \nEn esta conferencia se espera abrir discusión\, con un enfoque en la salud y la atención médica. Se analizaran específicamente el género y la salud\, la prestación de servicios de salud en general\, el uso de herramientas digitales y el personal y las habilidades necesarias para proporcionar una buena atención. En línea con el tema general de la conferencia\, se analizará en profundidad la emergencia climática\, y muy específicamente el suministro de alimentos humanos. La invasión de Ucrania por Rusia plantea graves riesgos para la seguridad alimentaria mundial que requerirán una serie de respuestas de los gobiernos y las organizaciones internacionales. La crisis que se está desarrollando en Ucrania impulsará la ya alta inflación de los precios de los alimentos y tendrá graves consecuencias para los países importadores netos de alimentos de bajos ingresos\, muchos de los cuales han experimentado un aumento de las tasas de malnutrición en los últimos años debido a trastornos pandémicos. El conflicto de Ucrania no solo expone el mal del actual gobierno ruso\, sino también nuestro fracaso para crear un suministro mundial de alimentos sostenible y resiliente. Podemos hacerlo mejor\, y tenemos que hacerlo mejor. \nLa conferencia tendrá lugar en Convention Centre Dublin\, Ireland\, 8-11 November 2023 \nPrograma de conferencias previas – 8/11/2023 \nPrograma de la conferencia \nMás información \nPara ampliar esta información\, o para cualquier otra consulta\, no dudes en contactar con Elena Portero (eportero.iacs@aragon.es) \n 
URL:https://www.iacs.es/evento/16-conferencia-europea-de-salud-publica-2023-nuestros-alimentos-nuestra-salud-nuestra-tierra-un-futuro-sostenible-para-la-humanidad/
LOCATION:San Juan Bosco\, 13\, Zaragoza\, Zaragoza\, 50009\, España
CATEGORIES:Convocatoria internacional
GEO:41.64381;-0.9024
X-APPLE-STRUCTURED-LOCATION;VALUE=URI;X-ADDRESS=San Juan Bosco 13 Zaragoza Zaragoza 50009 España;X-APPLE-RADIUS=500;X-TITLE=San Juan Bosco\, 13:geo:-0.9024,41.64381
END:VEVENT
END:VCALENDAR