﻿BEGIN:VCALENDAR
VERSION:2.0
PRODID:-//IACS - ECPv6.15.11//NONSGML v1.0//EN
CALSCALE:GREGORIAN
METHOD:PUBLISH
X-ORIGINAL-URL:https://www.iacs.es
X-WR-CALDESC:Eventos para IACS
REFRESH-INTERVAL;VALUE=DURATION:PT1H
X-Robots-Tag:noindex
X-PUBLISHED-TTL:PT1H
BEGIN:VTIMEZONE
TZID:Europe/Madrid
BEGIN:DAYLIGHT
TZOFFSETFROM:+0100
TZOFFSETTO:+0200
TZNAME:CEST
DTSTART:20230326T010000
END:DAYLIGHT
BEGIN:STANDARD
TZOFFSETFROM:+0200
TZOFFSETTO:+0100
TZNAME:CET
DTSTART:20231029T010000
END:STANDARD
BEGIN:DAYLIGHT
TZOFFSETFROM:+0100
TZOFFSETTO:+0200
TZNAME:CEST
DTSTART:20240331T010000
END:DAYLIGHT
BEGIN:STANDARD
TZOFFSETFROM:+0200
TZOFFSETTO:+0100
TZNAME:CET
DTSTART:20241027T010000
END:STANDARD
BEGIN:DAYLIGHT
TZOFFSETFROM:+0100
TZOFFSETTO:+0200
TZNAME:CEST
DTSTART:20250330T010000
END:DAYLIGHT
BEGIN:STANDARD
TZOFFSETFROM:+0200
TZOFFSETTO:+0100
TZNAME:CET
DTSTART:20251026T010000
END:STANDARD
END:VTIMEZONE
BEGIN:VEVENT
DTSTART;TZID=Europe/Madrid:20240110T080000
DTEND;TZID=Europe/Madrid:20240620T170000
DTSTAMP:20260423T124845
CREATED:20240110T105606Z
LAST-MODIFIED:20240110T110336Z
UID:10002005-1704873600-1718902800@www.iacs.es
SUMMARY:EP PerMed Joint Transnational Call 2024
DESCRIPTION:EP PerMed is launching the first Joint Transnational Call (JTC2024) for proposals on “Identification or Validation of Targets for Personalised Medicine Approaches (PMTargets)”. In total\, 39 funding organisations of 24 countries and 10 European national regions participate in this call with a budget of over 45 Mio€. This call is cofunded by the European Union. \nWith its first JTC\, EP PerMed aims to fund research that fosters the identification or validation of targets for personalised medicine (PM) approaches. The overall objectives of the JTC2024 are to \n\nSupport research projects in human health aiming at identifying or validating targets for personalised medicine approaches in combination with development of companion biomarkers or other markers to allow for monitoring of treatment outcomes and patient stratification;\nEncourage and enable interdisciplinary collaborations by combining pre-clinical and clinical research in translational projects\, and multi-actor research by engaging a range of other relevant disciplines such as bioinformatics/health informatics/data research\, ELSA research\, implementation research or health economics research connected to the proposed research topic\, including end-user perspective analysis to empower the implementation of PM; and\nEncourage cross-sectorial collaborations\, by including the private sector (e.g. SMEs\, small and medium-sized enterprises)\, industry\, as well as regulatory/HTA agencies and patient organisations.\n\nThe core of each application must be the identification or validation of a target for personalised medicine approaches in combination with companion biomarker research. In addition\, the consortia can address accompanying research if this is necessary for the identification or validation of the target and if appropriate to the development status of the project. EP PerMed strongly encourages the active involvement of end-users in the proposed research projects. \nDepending on the development phase of the research\, projects can focus on the following stages: \n\nStage 1: Identification of novel targets for the development of a concrete and feasible PM approach\, based on a clearly circumscribed biological/clinical hypothesis\, in combination with companion biomarker research. Applicants are advised to use existing clinical data as a basis for target identification.\nStage 2: Development or validation of already known but not yet established targets for a PM approach\, in combination with accompanying biomarker research. This includes target validation in vitro and in animal models (proof-of-principle studies)\, early pharmacological and toxicity tests and\, if feasible\, exploratory clinical studies to demonstrate clinical applicability (proof-of-concept studies).\n\nExclusion: Research focussing only on new biomarker discovery. Projects submitted to the JTC2024 focussing on the identification of new biomarkers as the sole purpose of the research are out of the scope. \nStages are not mutually exclusive. They define the overall scope of the JTC2024 to which all proposals must comply. \nResearch projects in all disease areas are encouraged. Consortia are required to start from a relevant clinical (unmet) need and to include activities that support a comprehensive and efficient uptake of the developed PM approach in clinical practice\, with the aim that “Today’s research is tomorrow’s healthcare”. \nPlease refer to the Call Text of the JTC2024 for further information and definitions. \nImportant dates: \n\nOpening of the online submission tool: 12 January 2024\nInformation day introducing the JTC2024 to the research community: January 15\, 2024\, 14:00-16:00 (CET) (registration link will be available soon)\nSubmission deadline for pre-proposals: 05 March 2024\, 17:00 CET\nSubmission deadline for full-proposals: 20 June 2024\, 17:00 CEST\n\n  \nPara ampliar esta información\, o para cualquier otra consulta\, no dudes en contactar con Elena Portero (eportero.iacs@aragon.es) \nCall text  \n\nGuidelines for applicants\n\nPre-proposal form\n\n\n\n\n\nSPAIN (CFN):\nAdditional document for CFN proposals (DOC) (to be sent to CFN in parallel to the pre-proposal submission).\n\n\nFurther information
URL:https://www.iacs.es/evento/ep-permed-joint-transnational-call-2024/
LOCATION:San Juan Bosco\, 13\, Zaragoza\, Zaragoza\, 50009\, España
CATEGORIES:Convocatoria internacional
GEO:41.64381;-0.9024
X-APPLE-STRUCTURED-LOCATION;VALUE=URI;X-ADDRESS=San Juan Bosco 13 Zaragoza Zaragoza 50009 España;X-APPLE-RADIUS=500;X-TITLE=San Juan Bosco\, 13:geo:-0.9024,41.64381
END:VEVENT
BEGIN:VEVENT
DTSTART;TZID=Europe/Madrid:20240430T080000
DTEND;TZID=Europe/Madrid:20241130T170000
DTSTAMP:20260423T124845
CREATED:20240430T121625Z
LAST-MODIFIED:20240430T121625Z
UID:10002058-1714464000-1732986000@www.iacs.es
SUMMARY:Horizonte Europa - Salud: Actualización del Programa de Trabajo 2023-2024
DESCRIPTION:Ya se ha publicado la actualización del Programa de Trabajo 2023-2024 de Horizonte Europa\, que incluye\, entre otros\, la actualización del Clúster de Salud y el Programa de Trabajo de las Misiones. En este último se incluyen los topics 2024 de la Misión Cáncer. \nEn este enlace se puede acceder a los documentos actualizados de las diferentes temáticas:  https://ec.europa.eu/info/funding-tenders/opportunities/portal/screen/how-to-participate/reference-documents?programmePeriod=2021-2027&frameworkProgramme=43108390 \nEl Programa de Trabajo del Clúster Salud  está disponible en este enlace (https://ec.europa.eu/info/funding-tenders/opportunities/docs/2021-2027/horizon/wp-call/2023-2024/wp-4-health_horizon-2023-2024_en.pdf) y el de las Misiones en este otro (  https://ec.europa.eu/info/funding-tenders/opportunities/docs/2021-2027/horizon/wp-call/2023-2024/wp-12-missions_horizon-2023-2024_en.pdf) \nEn estos cuadros se resumen las principales novedades que incluye el Programa de Trabajo del Clúster de Salud: \n \nY las principales novedades que incluye el Programa de la Misión Cáncer: \n \n  \nPara ampliar esta información\, o para cualquier otra consulta\, no dudes en contactar con Elena Portero (eportero.iacs@aragon.es) \n  \n \n 
URL:https://www.iacs.es/evento/horizonte-europa-salud-actualizacion-del-programa-de-trabajo-2023-2024/
CATEGORIES:Convocatoria internacional
END:VEVENT
BEGIN:VEVENT
DTSTART;TZID=Europe/Madrid:20240507T080000
DTEND;TZID=Europe/Madrid:20240731T170000
DTSTAMP:20260423T124845
CREATED:20240507T092715Z
LAST-MODIFIED:20240507T092715Z
UID:10002061-1715068800-1722445200@www.iacs.es
SUMMARY:Conviértete en evaluador de la Comisión Europea en tu área de conocimiento
DESCRIPTION:Las instituciones de la Unión Europea designan expertos externos para ayudar en la evaluación de solicitudes de subvenciones\, proyectos y licitaciones\, y para proporcionar opiniones y asesoramiento en casos específicos. \nAl evaluar proyectos para la Comisión Europea: \nEntras en contacto con personal de la Comisión Europea y sus Agencias Ejecutivas\nEstableces relaciones con otros evaluadores\, que pueden convertirse en potenciales socios para tus propios Proyectos Europeos\nMejoras tu conocimiento sobre el proceso de evaluación de las propuestas\nY por supuesto\, es un trabajo remunerado. \nEl registro es un requisito previo obligatorio para ser contratado por la Comisión Europea\, para trabajar como evaluador o supervisar en cualquier programa de financiación de la UE. \nRegístrate en la base de datos de expertos evaluadores de la CE en ete enlace: https://rea.ec.europa.eu/working-rea/work-expert_en \n 
URL:https://www.iacs.es/evento/conviertete-en-evaluador-de-la-comision-europea-en-tu-area-de-conocimiento/
CATEGORIES:Convocatoria internacional
END:VEVENT
END:VCALENDAR