﻿BEGIN:VCALENDAR
VERSION:2.0
PRODID:-//IACS - ECPv6.15.11//NONSGML v1.0//EN
CALSCALE:GREGORIAN
METHOD:PUBLISH
X-WR-CALNAME:IACS
X-ORIGINAL-URL:https://www.iacs.es
X-WR-CALDESC:Eventos para IACS
REFRESH-INTERVAL;VALUE=DURATION:PT1H
X-Robots-Tag:noindex
X-PUBLISHED-TTL:PT1H
BEGIN:VTIMEZONE
TZID:Europe/Madrid
BEGIN:DAYLIGHT
TZOFFSETFROM:+0100
TZOFFSETTO:+0200
TZNAME:CEST
DTSTART:20240331T010000
END:DAYLIGHT
BEGIN:STANDARD
TZOFFSETFROM:+0200
TZOFFSETTO:+0100
TZNAME:CET
DTSTART:20241027T010000
END:STANDARD
BEGIN:DAYLIGHT
TZOFFSETFROM:+0100
TZOFFSETTO:+0200
TZNAME:CEST
DTSTART:20250330T010000
END:DAYLIGHT
BEGIN:STANDARD
TZOFFSETFROM:+0200
TZOFFSETTO:+0100
TZNAME:CET
DTSTART:20251026T010000
END:STANDARD
BEGIN:DAYLIGHT
TZOFFSETFROM:+0100
TZOFFSETTO:+0200
TZNAME:CEST
DTSTART:20260329T010000
END:DAYLIGHT
BEGIN:STANDARD
TZOFFSETFROM:+0200
TZOFFSETTO:+0100
TZNAME:CET
DTSTART:20261025T010000
END:STANDARD
END:VTIMEZONE
BEGIN:VEVENT
DTSTART;TZID=Europe/Madrid:20250404T080000
DTEND;TZID=Europe/Madrid:20250803T170000
DTSTAMP:20260421T184512
CREATED:20250404T090300Z
LAST-MODIFIED:20250404T090300Z
UID:10002170-1743753600-1754240400@www.iacs.es
SUMMARY:La Comisión Europea busca expertos en salud para evaluar proyectos de Horizon Europe
DESCRIPTION:La Agencia Ejecutiva Europea de Salud y Digital (HaDEA) ha anunciado la necesidad de expertos independientes para evaluar propuestas de proyectos en el ámbito de la salud\, dentro del programa Horizon Europe. Estos expertos desempeñarán un papel crucial en la evaluación de proyectos que competirán por financiación de la UE entre 2025 y 2027.\nHaDEA está buscando profesionales con conocimientos y experiencia en áreas como la inteligencia artificial\, ensayos clínicos\, ciencia ambiental\, dispositivos médicos\, enfermedades raras y comunes\, oncología\, medicina general\, sistemas de salud\, y comunicación. Los candidatos deben tener un excelente dominio del inglés\, tanto escrito como hablado.\nLos interesados pueden registrarse en la base de datos de expertos de la Comisión Europea y actualizar su perfil con las palabras clave y áreas temáticas relevantes. La selección de candidatos se basará en la adecuación de sus perfiles para trabajar como expertos en áreas específicas.\nPara más información visita la página web de HaDEA y para registrarte visita el Portal de la Comisión Europea.\n\nPara ampliar esta información\, o para cualquier otra consulta\, no dudes en contactar con Elena Portero (eportero.iacs@aragon.es)
URL:https://www.iacs.es/evento/la-comision-europea-busca-expertos-en-salud-para-evaluar-proyectos-de-horizon-europe/
CATEGORIES:Convocatoria,Convocatoria internacional
END:VEVENT
END:VCALENDAR