﻿BEGIN:VCALENDAR
VERSION:2.0
PRODID:-//IACS - ECPv6.15.11//NONSGML v1.0//EN
CALSCALE:GREGORIAN
METHOD:PUBLISH
X-WR-CALNAME:IACS
X-ORIGINAL-URL:https://www.iacs.es
X-WR-CALDESC:Eventos para IACS
REFRESH-INTERVAL;VALUE=DURATION:PT1H
X-Robots-Tag:noindex
X-PUBLISHED-TTL:PT1H
BEGIN:VTIMEZONE
TZID:Europe/Helsinki
BEGIN:DAYLIGHT
TZOFFSETFROM:+0200
TZOFFSETTO:+0300
TZNAME:EEST
DTSTART:20200329T010000
END:DAYLIGHT
BEGIN:STANDARD
TZOFFSETFROM:+0300
TZOFFSETTO:+0200
TZNAME:EET
DTSTART:20201025T010000
END:STANDARD
BEGIN:DAYLIGHT
TZOFFSETFROM:+0200
TZOFFSETTO:+0300
TZNAME:EEST
DTSTART:20210328T010000
END:DAYLIGHT
BEGIN:STANDARD
TZOFFSETFROM:+0300
TZOFFSETTO:+0200
TZNAME:EET
DTSTART:20211031T010000
END:STANDARD
BEGIN:DAYLIGHT
TZOFFSETFROM:+0200
TZOFFSETTO:+0300
TZNAME:EEST
DTSTART:20220327T010000
END:DAYLIGHT
BEGIN:STANDARD
TZOFFSETFROM:+0300
TZOFFSETTO:+0200
TZNAME:EET
DTSTART:20221030T010000
END:STANDARD
END:VTIMEZONE
BEGIN:VEVENT
DTSTART;TZID=Europe/Helsinki:20210114T080000
DTEND;TZID=Europe/Helsinki:20210427T150000
DTSTAMP:20260423T044339
CREATED:20210114T101932Z
LAST-MODIFIED:20210121T150145Z
UID:10001552-1610611200-1619535600@www.iacs.es
SUMMARY:Convocatoria Acción Estratégica en Salud 2021
DESCRIPTION:PUBLICADA LA CONVOCATORIA DE LA ACCIÓN ESTRATÉGICA EN SALUD 2021 \nRESOLUCIÓN CONVOCATORIA AES 2021 \nANUNCIO ISCIII \nJORNADA INFORMATIVA ISCIII jueves\,  21 enero 10H \nAGENDA \nLINK JORNADA \nActuaciones objeto de ayuda del Subprograma Estatal de Generación de Conocimiento. \nPROYECTOS DE INVESTIGACIÓN EN SALUD (FIS) \nFecha límite presentación interna de solicitudes: 16 de febrero de 2021 \nPresentación de solicitudes: Desde el 2 el 23 de febrero de 2021 a las 15:00h (horario peninsular) \nPROYECTOS DE DESARROLLO TECNOLÓGICO EN SALUD (DTS) \nDado que la convocatoria de Proyectos de Desarrollo Tecnológico limita el número de solicitudes a presentar (1 en el caso del IACS) se llevará a cabo una evaluación interna. Para ello\, se ha de dirigir un borrador de la propuesta de interés en participar en la convocatoria a la Unidad de Proyectos (proyectos.iacs@aragon.es) antes del día 2 de febrero de 2021 \nFecha límite presentación interna de solicitudes: 2 de febrero de 2021 \nPresentación de solicitudes: Desde el 9 de febrero al 2 de marzo de 2021 a las 15:00h (horario peninsular) \nPROYECTOS DE PROGRAMACIÓN CONJUNTA INTERNACIONAL \nActive and Assisted Living Programme (AAL) y ERA-Net cofund on\nAquatic Pollutants (Aquatic pollutants) \nPresentación de solicitudes: 5 al 26 de marzo de 2021 a las 15:00h (horario peninsular) \nERA-Net cofund on Traslational Cancer Research (Transcan)\, ERA-Net\ncofund in Personalized Medicine (ERAPerMed)\, Joint Programming Initiative on Antimicrobial Resistance (JPI AMR)\, Collaborative Research in Computational Neuroscience (CRCNS)\, The Network of European Funding for Neuroscience Research (NEURON)\, ERA-Net for the Future and Emerging Technologies Flagships (FLAG- ERA)\, ERA-Net Cofund to support the Joint Programming in Neurodegenerative Diseases (JPco-fuND-2)\, European Joint Program cofund on Rare Diseases (EJP RD)\, Joint Programming Initiative “A Healthy Diet for Healthy Life” (JPI HDHL)\, European Network for translational collaborative RTD projects on Nanomedicine (EuroNanoMed)\, e Interest Group of the European Union and Community of Latin American and Caribbean countries (EU-CELAC IG) \nPresentación de solicitudes: del 18 de octubre al 12 de noviembre de 2021 a las 15:00h (horario peninsular) \nActuaciones objeto de ayuda de los Subprogramas Estatales de Formación\, Incorporación y Movilidad \nContratos PFIS: 24 de febrero al 16 de marzo de 2021\nContratos Río Hortega: 4 de febrero al 25 de febrero de 2021\nContratos Miguel Servet: 4 de febrero al 25 de febrero de 2021\nContratos Miguel Servet tipo II: 4 de febrero al 25 de febrero de 2021\nContratos Sara Borrell: 10 de febrero al 3 de marzo de 2021\nContratos Juan Rodés: 11 de febrero al 3 de marzo de 2021\nContratos para la intensificación de la actividad investigadora en el Sistema Nacional de Salud: 4 de febrero al 24 de febrero de 2021 \nAyudas para la movilidad del personal investigador (Modalidad M-BAE): 3 de febrero al 24 de febrero de 2021\nAyudas para la movilidad del personal investigador (Modalidad M-AES): 3 de febrero al 24 de febrero de 2021 \nProyectos de Investigación Clínica Independiente: 2 de marzo al 23 de marzo de 2021\nActuaciones objeto de ayuda del Subprograma Estatal de fortalecimiento Institucional.\nRICORS_ Redes de Investigación Cooperativa Orientada a Resultados en salud: 6 de abril al 27 de abril de 2021\nIncorporación de una nueva área temática y nuevos grupos a CIBER: 6 de abril al 27 de abril de 2021
URL:https://www.iacs.es/evento/convocatoria-accion-estrategica-en-salud-2021/
LOCATION:San Juan Bosco\, 13\, Zaragoza\, Zaragoza\, 50009\, España
CATEGORIES:Ayudas y subvenciones,Convocatoria,Convocatoria - personas,Convocatoria - proyectos
GEO:41.64381;-0.9024
X-APPLE-STRUCTURED-LOCATION;VALUE=URI;X-ADDRESS=San Juan Bosco 13 Zaragoza Zaragoza 50009 España;X-APPLE-RADIUS=500;X-TITLE=San Juan Bosco\, 13:geo:-0.9024,41.64381
END:VEVENT
BEGIN:VEVENT
DTSTART;TZID=Europe/Helsinki:20210412T080000
DTEND;TZID=Europe/Helsinki:20210415T110000
DTSTAMP:20260423T044339
CREATED:20210412T101322Z
LAST-MODIFIED:20210412T102540Z
UID:10001577-1618214400-1618484400@www.iacs.es
SUMMARY:Encuesta en línea sobre la futura asociación de Horizonte Europa “One Health AMR Partnerhip”
DESCRIPTION:El Ministerio de Ciencia e Innovación\, a través de la Agencia Estatal de Investigación\, ha elaborado una encuesta en línea sobre la futura asociación europea “One Health AMR Partnership”\, dedicada a la investigación sobre la resistencia a antimicrobianos (AMR)\, para recabar los intereses y opiniones de la comunidad investigadora española. \n\n\nLa Comisión Europea baraja la creación de una asociación europea (European Partnership) en Horizonte Europa denominada One Health AMR Partnership\, para coordinar y alinear las actividades y financiación de los países de la UE y de la propia Comisión Europea. El objetivo principal de la futura asociación sería contribuir a lograr los objetivos del European One Health Action Plan against AMR y el WHO Global Action Plan on AMR\, es decir\, reducir las amenazas de la resistencia a antimicrobianos mediante la investigación.Todas aquellas personas interesadas podrán acceder y contestar a la encuesta a través del siguiente enlace: https://ec.europa.eu/eusurvey/runner/EncuestaOneHealth2021 hasta el jueves 15 de abril a las 11:00.
URL:https://www.iacs.es/evento/encuesta-en-linea-sobre-la-futura-asociacion-de-horizonte-europa-one-health-amr-partnerhip/
LOCATION:on-line\, España
CATEGORIES:Convocatoria
GEO:40.463667;-3.74922
END:VEVENT
BEGIN:VEVENT
DTSTART;TZID=Europe/Helsinki:20210413T080000
DTEND;TZID=Europe/Helsinki:20210506T170000
DTSTAMP:20260423T044339
CREATED:20210408T100234Z
LAST-MODIFIED:20210408T101417Z
UID:10001574-1618300800-1620320400@www.iacs.es
SUMMARY:Convocatoria de Expresiones de Interés COVID-19 del Clúster Salud de Horizonte Europa
DESCRIPTION:La Comisión Europea acaba de publicar un Programa de Trabajo extraordinario sobre COVID19 del Clúster 1 (Salud) dentro del nuevo Programa Marco Horizonte Europa https://ec.europa.eu/info/funding-tenders/opportunities/docs/2021-2027/horizon/wp-call/2021-2022/wp-4-health_horizon-2021-2022_en.pdf. \nEsta convocatoria extraordinaria se enmarca en el nuevo Plan europeo de preparación en materia de biodefensa frente a las variantes de COVID-19\, llamado «HERA Incubator». \nLa convocatoria de expresiones de interés abrirá el 13 de abril y cerrará el 6 de Mayo. \nEn dicha convocatoria se incluirán 2 topics: \n\nHORIZON-HLTH-2021-CORONA-01-01 – Vaccines & therapeutic clinical trials to boost COVID-19 prevention and treatment (https://bit.ly/3motKXh).\n\nEl topic está dotado con un presupuesto de 30 millones de euros. La horquilla de financiación recomendada por la EC para las propuestas está entre 3 y 10 M€.\n \nLa Comisión espera financiar al menos una propuesta de vacunas y al menos una propuesta de terapias. \n\nHORIZON-HLTH-2021-CORONA-01-02 – Cohorts united against COVID-19 variants of concern (https://bit.ly/3uuL13P).\n\nEl topic está dotado con un presupuesto de millones de euros. La horquilla de financiación recomendada por la EC para las propuestas está entre 7 y 10 M€ \nCondiciones especiales de la convocatoria: \n\nElegibilidad países: In particular\, due to the urgency of this action and geographical relevance of this action and considering the Union’s interest to retain\, in principle\, relations with the countries associated to Horizon 2020\, and other third countries in the process of association to Horizon Europe\, legal entities established in Albania\, Armenia\, Bosnia and Herzegovina\, Faroe Islands\, Georgia\, Iceland\, Israel\, Kosovo*\, Moldova\, Montenegro\, Morocco\, North Macedonia\, Norway\, Serbia\, Switzerland\, Tunisia\, Turkey\, Ukraine and United Kingdom are eligible for funding from the Union even if the Horizon Europe association agreement with the third country concerned does not apply at the time of signature of the grant agreement.\nEvaluación: In order to ensure a balanced portfolio covering responses to different aspects of the public health emergency under the specific actions above\, and within each specific action\, grants will be awarded to applications not only in order of ranking\, but also to those projects that enhance the quality of the project portfolio through synergies between projects and avoidance of overlaps\, provided that the applications attain all thresholds.\nDisposiciones de emergencia pública: beneficiaries must comply with the public emergency related provisions listed in the General Annexes of the Work Programme 2021 (part G – Legal and financial set-up of the grant agreements) and in the Model Grant Agreement concerning the project implementation under Intellectual Property Rights (IPR)\, background and results\, access rights and rights of use (article 16 and Annex 5) for the duration of the pandemic; and under Communication\, dissemination\, open science and visibility (article 17 and Annex 5) during the entire duration of the action and for four years after the end of the action.\nFormulario para estudios en humanos: https://ec.europa.eu/info/funding-tenders/opportunities/docs/2021-2027/horizon/guidance/essential-information-for-clinical-studies_horizon_en.pdf\n\nSi estás interesado en esta convocatoria o te gustaría tener más información\, no dudes en contactar con Elena Portero (eportero.iacs@aragon.es)
URL:https://www.iacs.es/evento/convocatoria-de-expresiones-de-interes-covid-19-del-cluster-salud-de-horizonte-europa/
LOCATION:on-line\, España
CATEGORIES:Ayudas y subvenciones,Convocatoria,Convocatoria - proyectos
GEO:40.463667;-3.74922
END:VEVENT
BEGIN:VEVENT
DTSTART;TZID=Europe/Helsinki:20210413T080000
DTEND;TZID=Europe/Helsinki:20210506T170000
DTSTAMP:20260423T044339
CREATED:20210408T103244Z
LAST-MODIFIED:20210408T103244Z
UID:10001575-1618300800-1620320400@www.iacs.es
SUMMARY:Convocatoria de Expresiones de Interés COVID-19 de Infraestructuras de Investigación de Horizonte Europa
DESCRIPTION:La Comisión Europea acaba de publicar un Programa de Trabajo extraordinario sobre COVID19 de Infraestructuras de Investigación dentro del nuevo Programa Marco Horizonte Europa (https://ec.europa.eu/info/funding-tenders/opportunities/docs/2021-2027/horizon/wp-call/2021-2022/wp-3-research-infrastructures_horizon-2021-2022_en.pdf). \nEsta convocatoria extraordinaria se enmarca en el nuevo Plan europeo de preparación en materia de biodefensa frente a las variantes de COVID-19\, llamado «HERA Incubator». \nLa convocatoria de expresiones de interés abrirá el 13 de abril y cerrará el 6 de Mayo. \nEn dicha convocatoria se incluirán 2 topics: \n* FAIR and open data sharing in support to European preparedness for COVID-19 and other infectious diseases.\n \nTOPIC ID: HORIZON-INFRA-2021-EMERGENCY-01 (https://bit.ly/3fPuumM).\n \nEl topic está dotado con un presupuesto de 12 millones de euros.  \n* Research infrastructure services for rapid research responses to COVID-19 and other infectious disease epidemics.\n \nTOPIC ID: HORIZON-INFRA-2021-EMERGENCY-02 (https://bit.ly/3sZn97U).\n \nEl topic está dotado con un presupuesto de 21 millones de euros.  \nLa Comisión Europea va a financiar un proyecto en cada topic. \nSi estás interesado en esta convocatoria o te gustaría tener más información\, no dudes en contactar con Elena Portero (eportero.iacs@aragon.es)
URL:https://www.iacs.es/evento/convocatoria-de-expresiones-de-interes-covid-19-de-infraestructuras-de-investigacion-de-horizonte-europa/
LOCATION:on-line\, España
CATEGORIES:Ayudas y subvenciones,Convocatoria,Convocatoria - proyectos
GEO:40.463667;-3.74922
END:VEVENT
END:VCALENDAR