﻿BEGIN:VCALENDAR
VERSION:2.0
PRODID:-//IACS - ECPv6.15.11//NONSGML v1.0//EN
CALSCALE:GREGORIAN
METHOD:PUBLISH
X-WR-CALNAME:IACS
X-ORIGINAL-URL:https://www.iacs.es
X-WR-CALDESC:Eventos para IACS
REFRESH-INTERVAL;VALUE=DURATION:PT1H
X-Robots-Tag:noindex
X-PUBLISHED-TTL:PT1H
BEGIN:VTIMEZONE
TZID:Europe/Helsinki
BEGIN:DAYLIGHT
TZOFFSETFROM:+0200
TZOFFSETTO:+0300
TZNAME:EEST
DTSTART:20200329T010000
END:DAYLIGHT
BEGIN:STANDARD
TZOFFSETFROM:+0300
TZOFFSETTO:+0200
TZNAME:EET
DTSTART:20201025T010000
END:STANDARD
BEGIN:DAYLIGHT
TZOFFSETFROM:+0200
TZOFFSETTO:+0300
TZNAME:EEST
DTSTART:20210328T010000
END:DAYLIGHT
BEGIN:STANDARD
TZOFFSETFROM:+0300
TZOFFSETTO:+0200
TZNAME:EET
DTSTART:20211031T010000
END:STANDARD
BEGIN:DAYLIGHT
TZOFFSETFROM:+0200
TZOFFSETTO:+0300
TZNAME:EEST
DTSTART:20220327T010000
END:DAYLIGHT
BEGIN:STANDARD
TZOFFSETFROM:+0300
TZOFFSETTO:+0200
TZNAME:EET
DTSTART:20221030T010000
END:STANDARD
END:VTIMEZONE
BEGIN:VEVENT
DTSTART;TZID=Europe/Helsinki:20210420T080000
DTEND;TZID=Europe/Helsinki:20210619T170000
DTSTAMP:20260423T004317
CREATED:20210408T110539Z
LAST-MODIFIED:20210408T110539Z
UID:10001576-1618905600-1624122000@www.iacs.es
SUMMARY:Convocatoria: "Inmunoterapia contra el cáncer de próxima generación: dirigida al microambiente tumoral"
DESCRIPTION:El consorcio del nuevo proyecto «TRANSCAN-3 Sustained collaboration of national and regional programmes in cancer research»\, financiado por la Comisión Europea en el marco de Horizonte 2020 desde 2021 a 2026 (Grant Agreement no. 964264)\, ha lanzado su primera Joint Transnational Call cofinanciada por la Comisión Europea (JTC 2021) en el topic: \n«Next generation cancer immunotherapy: targeting the tumour microenvironment» \nTRANSCAN-3 tiene como objetivo promover proyectos de colaboración altamente innovadores y ambiciosos en la investigación traslacional del cáncer a nivel europeo e internacional y considera que es oportuno y relevante fomentar la traslación de los nuevos conocimientos sobre las funciones del microambiente tumoral a la práctica clínica. \nEl impacto esperado de la convocatoria es mejorar la eficacia del tratamiento personalizado de los pacientes con cáncer mediante el desarrollo de nuevas herramientas y estrategias de inmunoterapia específicas\, basadas en una mejor comprensión de las funciones del microambiente tumoral y de su impacto en el curso de la enfermedad. \nObjetivos de la convocatoria: \nAim 1: Identification and validation of TME subclasses and their contribution to the resistance mechanisms: Translational research using tumour samples collected from retrospective and/or prospective cohorts of patients. \nAim 2: Identification and validation of TME subclasses and their contribution to the resistance mechanisms: Translational research using tumour samples collected from retrospective and/or prospective cohorts of patients. \nEn esta convocatoria participan 28 organismos financiadores de 19 países. \nLas pre-propuestas se pueden enviar desde el 20 de Abril al 29 de Junio de 2021.\nSe espera que los consorcios que pasen a la segunda fase de la evaluación tengan hasta Noviembre 2021 para enviar las propuestas completas. \nMás información: http://transcan.eu/opencall.html \nSi estás interesado en esta convocatoria o te gustaría tener más información\, no dudes en contactar con Elena Portero (eportero.iacs@aragon.es)
URL:https://www.iacs.es/evento/convocatoria-inmunoterapia-contra-el-cancer-de-proxima-generacion-dirigida-al-microambiente-tumoral/
LOCATION:on-line\, España
CATEGORIES:Ayudas y subvenciones,Convocatoria,Convocatoria - proyectos
GEO:40.463667;-3.74922
END:VEVENT
END:VCALENDAR