﻿BEGIN:VCALENDAR
VERSION:2.0
PRODID:-//IACS - ECPv6.15.11//NONSGML v1.0//EN
CALSCALE:GREGORIAN
METHOD:PUBLISH
X-ORIGINAL-URL:https://www.iacs.es
X-WR-CALDESC:Eventos para IACS
REFRESH-INTERVAL;VALUE=DURATION:PT1H
X-Robots-Tag:noindex
X-PUBLISHED-TTL:PT1H
BEGIN:VTIMEZONE
TZID:Europe/Madrid
BEGIN:DAYLIGHT
TZOFFSETFROM:+0100
TZOFFSETTO:+0200
TZNAME:CEST
DTSTART:20200329T010000
END:DAYLIGHT
BEGIN:STANDARD
TZOFFSETFROM:+0200
TZOFFSETTO:+0100
TZNAME:CET
DTSTART:20201025T010000
END:STANDARD
BEGIN:DAYLIGHT
TZOFFSETFROM:+0100
TZOFFSETTO:+0200
TZNAME:CEST
DTSTART:20210328T010000
END:DAYLIGHT
BEGIN:STANDARD
TZOFFSETFROM:+0200
TZOFFSETTO:+0100
TZNAME:CET
DTSTART:20211031T010000
END:STANDARD
BEGIN:DAYLIGHT
TZOFFSETFROM:+0100
TZOFFSETTO:+0200
TZNAME:CEST
DTSTART:20220327T010000
END:DAYLIGHT
BEGIN:STANDARD
TZOFFSETFROM:+0200
TZOFFSETTO:+0100
TZNAME:CET
DTSTART:20221030T010000
END:STANDARD
END:VTIMEZONE
BEGIN:VEVENT
DTSTART;TZID=Europe/Madrid:20210622T080000
DTEND;TZID=Europe/Madrid:20211231T170000
DTSTAMP:20260423T061859
CREATED:20210616T124506Z
LAST-MODIFIED:20210616T124746Z
UID:10001592-1624348800-1640970000@www.iacs.es
SUMMARY:La Comisión Europea adopta el Programa de Trabajo principal de Horizonte Europa para 2021-2022
DESCRIPTION:La Comisión Europea ha adoptado el Programa de Trabajo principal (Work Programme) de Horizonte Europa para el periodo 2021-2022\, en el que se detallan los temas (topics) que se financiarán en las convocatorias de propuestas\, que abrirán el plazo de presentación a partir del próximo 22 de junio. \nEste programa de trabajo principal de Horizonte Europa para el período 2021-2022\, describe los objetivos y áreas temáticas específicas que recibirán una financiación total de 14 700 millones de euros. Estas inversiones ayudarán a acelerar las esperadas transiciones ecológica y digital\, asimismo contribuirán tanto a la recuperación sostenible de la UE de la pandemia del coronavirus como a su resistencia frente a crisis futuras.\nHorizonte Europea apoyarán a los investigadores europeos mediante becas\, formación e intercambios\, construirán ecosistemas de innovación europeos más conectados y eficientes y crearán infraestructuras de investigación de primer nivel. Además\, fortalecerá el Espacio Europeo de Investigación. \nTodos los Programas de Trabajo temáticos pueden encontrarse en el  siguiente enlace: \nhttps://ec.europa.eu/info/funding-tenders/opportunities/portal/screen/how-to-participate/reference-documents;programCode=HORIZON \nDesplegando las opciones de “Work programme & call documents”\, a continuación las de “2021-2022” y para terminar las de «HE Main Work Programme 2021-2022» para poder seleccionar la parte en la que estéis interesados para poder descargar los documentos. \nSi estás interesado en Horizonte Europa o te gustaría tener más información\, no dudes en contactar con Elena Portero (eportero.iacs@aragon.es)
URL:https://www.iacs.es/evento/la-comision-europea-adopta-el-programa-de-trabajo-principal-de-horizonte-europa-para-2021-2022/
LOCATION:on-line\, España
CATEGORIES:Agenda,Convocatoria,Convocatoria - proyectos
GEO:40.463667;-3.74922
END:VEVENT
BEGIN:VEVENT
DTSTART;TZID=Europe/Madrid:20210628T080000
DTEND;TZID=Europe/Madrid:20210803T170000
DTSTAMP:20260423T061859
CREATED:20210630T114433Z
LAST-MODIFIED:20210630T114433Z
UID:10001321-1624867200-1628010000@www.iacs.es
SUMMARY:Nueva convocatoria nacional: Misiones I+D en Inteligencia Artificial 2021
DESCRIPTION:El Ministerio de Asuntos Económicos y Transformación Digital\, a través de su Secretaría de Estado de Digitalización e Inteligencia Artificial\, acaba de publicar una nueva convocatoria denominada Misiones I+D en Inteligencia Artificial 2021. \nLa convocatoria estará dotada con un presupuesto de 50 millones de EUR y tendrá como objetivo financiar grandes proyectos de investigación industrial o de desarrollo experimental que se basen en la inteligencia artificial (IA) a través de uno de los sectores estratégicos definidos en el marco de la convocatoria (agricultura\, salud\, medio ambiente\, empleo y energía del siglo XXI) y que demuestren un fuerte impacto potencial. \nLa modalidad de presentación a esta convocatoria es a través de consorcios que deberán componerse\, como mínimo\, por una gran empresa\, un centro tecnológico y un mínimo de 5 PYMES.. \nEn el siguiente enlace (https://portalayudas.mineco.gob.es/misiones-ia-2021/Paginas/Index.aspx) podéis encontrar toda la información sobre la convocatoria. \nEl plazo de entrega de solicitudes estará abierto desde el 28/06/2021 hasta el 03/08/2021 \nPara más información\, no dudéis en contactar con Mónica Torrijos <mtorrijos.iacs@aragon.es>
URL:https://www.iacs.es/evento/nueva-convocatoria-nacional-misiones-id-en-inteligencia-artificial-2021/
LOCATION:on-line\, España
CATEGORIES:Convocatoria,Convocatoria - proyectos
GEO:40.463667;-3.74922
END:VEVENT
BEGIN:VEVENT
DTSTART;TZID=Europe/Madrid:20210702T080000
DTEND;TZID=Europe/Madrid:20211231T170000
DTSTAMP:20260423T061859
CREATED:20210702T111158Z
LAST-MODIFIED:20220112T114425Z
UID:10001324-1625212800-1640970000@www.iacs.es
SUMMARY:LA COMISIÓN EUROPEA LANZA UN NUEVO PORTAL DE COLABORACIÓN: Coronavirus Global R&I Collaboration Portal
DESCRIPTION:La Comisión Europea ha lanzado un nuevo portal de colaboración sobre el coronavirus que ofrece interesantes oportunidades tanto para investigadores como para proyectos de investigación en todo el mundo que se centren en los aspectos socioeconómicos de la pandemia del coronavirus. La iniciativa apoya el «Enfoque global de la investigación y la innovación» que ha definido la Comisión Europea para el nuevo Programa Marco y reconfirma el compromiso de Europa con un nivel de apertura global de la investigación y la innovación que es necesario para impulsar la excelencia\, para unir recursos que permitan lograr el progreso científico y para desarrollar ecosistemas de innovación vibrantes.\n \n\n\nEl portal está abierto a organizaciones de investigación e investigadores individuales de todo el mundo\, ayudándoles a: \n\n    Colaborar en proyectos de investigación relacionados con los aspectos socioeconómicos de la pandemia.\n    Crear oportunidades y establecer contactos.\n    Conectar con otros investigadores y aumentar el impacto de las actividades.\n    Coordinar el intercambio de información.\n    Complementar las sinergias con otras plataformas en línea sobre la pandemia del coronavirus.\n\nEl enlace al nuevo portal es el siguiente: https://coronavirus-global-collaboration.ec.europa.eu/ \n\n \nPara cualquier duda o consulta\, no dudes en contactar con Elena Portero (eportero.iacs@aragon.es)
URL:https://www.iacs.es/evento/la-comision-europea-lanza-un-nuevo-portal-de-colaboracion-coronavirus-global-ri-collaboration-portal/
LOCATION:on-line\, España
CATEGORIES:Agenda,Convocatoria
GEO:40.463667;-3.74922
END:VEVENT
BEGIN:VEVENT
DTSTART;TZID=Europe/Madrid:20210713T120000
DTEND;TZID=Europe/Madrid:20210802T140000
DTSTAMP:20260423T061859
CREATED:20210702T111158Z
LAST-MODIFIED:20210713T132650Z
UID:10001327-1626177600-1627912800@www.iacs.es
SUMMARY:Convocatoria contratación de personal investigador predoctoral en formación para el período 2021-2025 DGA
DESCRIPTION:PUBLICADA la convocatoria para la contratación de personal investigador predoctoral en formación\, bajo la modalidad de contrato predoctoral para el periodo 2021-2025. \nLas subvenciones tendrán una duración máxima de cuatro años. No obstante\, cuando el contrato se concierte con una persona con discapacidad\, podrá alcanzar una duración máxima de seis años. En todo caso\, cuando se hubiese obtenido el título de doctor con anterioridad a la conclusión del plazo máximo de contratación\, la subvención finalizará el último día del mes en que se defienda la tesis doctoral. \nLos contratos predoctorales tendrán duración anual\, prorrogable por iguales periodos de tiempo hasta el máximo de cuatro años incluidas las prórrogas y con dedicación a tiempo completo\, si bien\, cuando el contrato se haya formalizado con una persona que acredite una discapacidad igual o superior al 33%\, la duración del contrato podrá ser hasta un máximo de seis años La duración del contrato estará vinculada a la permanencia en el programa de doctorado. \nComo novedad en esta convocatoria se abre un plazo de 15 días hábiles  para que los centros y organismos\, así como las universidades presenten las solicitudes electrónicas con los mínimos datos del proyecto\, de la dirección del mismo y del personal investigador en formación candidato. \nUna vez transcurrido ese plazo\, se dará acceso a una plataforma electrónica (PIP) en la que los candidatos y candidatas puedan aportar todos los datos y documentación en relación con su titulación\, C.V. y méritos\, memoria del proyecto\, C.V. de la dirección del mismo y\, en su caso\, de la codirección. Para ello es imprescindible que dispongan de certificado electrónico\, tanto para acceder como para firmar la presentación de la documentación. \nFecha limite IACS: 27 de julio de 2021 \nFecha limite DGA: 2 de agosto de 2021 \nConvocatoria  \nDocumentación a presentar  \nPlataforma PIP
URL:https://www.iacs.es/evento/convocatoria-contratacion-de-personal-investigador-predoctoral-en-formacion-para-el-periodo-2021-2025-dga/
LOCATION:San Juan Bosco\, 13\, Zaragoza\, Zaragoza\, 50009\, España
CATEGORIES:Agenda,Ayudas y subvenciones,Convocatoria,Convocatoria - personas
GEO:41.64381;-0.9024
X-APPLE-STRUCTURED-LOCATION;VALUE=URI;X-ADDRESS=San Juan Bosco 13 Zaragoza Zaragoza 50009 España;X-APPLE-RADIUS=500;X-TITLE=San Juan Bosco\, 13:geo:-0.9024,41.64381
END:VEVENT
BEGIN:VEVENT
DTSTART;TZID=Europe/Madrid:20210713T120000
DTEND;TZID=Europe/Madrid:20210917T140000
DTSTAMP:20260423T061859
CREATED:20210702T111158Z
LAST-MODIFIED:20210818T074743Z
UID:10001328-1626177600-1631887200@www.iacs.es
SUMMARY:Convocatoria subvenciones para el desarrollo de proyectos de I+D+i en líneas prioritarias y de carácter multidisciplinar para el periodo 2021-2023 DGA
DESCRIPTION:PUBLICADA convocatoria de subvenciones para el desarrollo de proyectos de I+D+i en líneas prioritarias y de carácter multidisciplinar para el periodo 2021-2023 del Gobierno de Aragón. \nLos requisitos para presentarse como Personal Investigador Responsable a esta convocatoria son: \n\nTener el título de doctorado. \n Pertenecer a un grupo de investigación reconocido por el Gobierno de Aragón 2020-2022.\n\nRequisitos de los centros u organismos solicitantes: \n\nDesarrollar su actividad investigadora en la Comunidad Autónoma de Aragón.\nTener adscrito al personal investigador responsable del proyecto de investigación objeto de solicitud. IMPTE!!\nSer seleccionado en aplicación de los criterios de valoración establecidos en las bases reguladoras y en la propia convocatoria de subvenciones.\nNo estar incurso en alguna de las causas de prohibición para ser beneficiario\, establecidas en la normativa de subvenciones.\nEstar al corriente de obligaciones tributarias\, tanto con la Hacienda del Estado como con la de la Administración de la Comunidad Autónoma de Aragón\, y frente a la Seguridad Social.\nNo desarrollar actividad económica o la que realice debe ser meramente accesoria; o acreditar la adecuada separación entre su actividad no económica y económica.\nNo estar cumpliendo sanción administrativa firme o sentencia firme condenatoria por acciones u omisiones consideradas discriminatorias por la legislación vigente por razón de género.\nNo estar cumpliendo sanción que implique la prohibición de acceder a cualquier tipo de ayuda pública de esa Administración por la comisión de infracciones graves o muy graves previstas en la legislación vigente sobre identidad e igualdad de género.\nNo estar cumpliendo sanción accesoria no pecuniaria consistente en la pérdida del derecho a obtener subvenciones\, bonificaciones o ayudas públicas por infracción de la legislación aragonesa de memoria democrática.\n\nActuaciones subvencionables:\na) La ejecución de proyectos de investigación científica y desarrollo tecnológico que tengan como finalidad la promoción de la investigación de calidad dentro de las líneas prioritarias recogidas en la planificación estratégica de I+D+i del Gobierno de Aragón vigente en el momento de la convocatoria.\nb) La realización de proyectos de investigación y desarrollo tecnológico de carácter multidisciplinar que impliquen la actuación conjunta de investigadoras e investigadores de diferentes áreas de conocimiento y/o grupos de investigación. Con este fin\, deberán abordarse proyectos cuya temática exija realizar investigaciones orientadas a la resolución de problemas cuyo alcance sobrepase el ámbito de una sola área de conocimiento y\, por tanto\, requieran la multidisciplinariedad para su correcto desarrollo.\n2. En ambas modalidades de proyectos de investigación\, se podrá distinguir proyectos de investigación básica que no impliquen la actuación de empresas u organizaciones interesadas en la materia objeto del proyecto\, y proyectos de investigación aplicada en los que exista dicha implicación.\n3. El periodo subvencionable para la realización de los proyectos de investigación será desde el día siguiente al de la fecha de finalización de presentación de solicitudes hasta el 30 de septiembre de 2023. Dentro del periodo anterior\, los proyectos tendrán una duración mínima de dieciocho meses. \nPlazo de presentación DGA 17 de septiembre\, \nPlazo interno IACS: 10 de septiembre. \nConvocatoria \nDocumentos a presentar/Tramitación
URL:https://www.iacs.es/evento/convocatoria-subvenciones-para-el-desarrollo-de-proyectos-de-idi-en-lineas-prioritarias-y-de-caracter-multidisciplinar-para-el-periodo-2021-2023-dga/
LOCATION:CIBA\, San Juan Bosco 13\, Zaragoza\, Zaragoza\, 50009\, España
CATEGORIES:Agenda,Ayudas y subvenciones,Convocatoria,Convocatoria - proyectos
GEO:40.463667;-3.74922
X-APPLE-STRUCTURED-LOCATION;VALUE=URI;X-ADDRESS=CIBA San Juan Bosco 13 Zaragoza Zaragoza 50009 España;X-APPLE-RADIUS=500;X-TITLE=San Juan Bosco 13:geo:-3.74922,40.463667
END:VEVENT
END:VCALENDAR