﻿BEGIN:VCALENDAR
VERSION:2.0
PRODID:-//IACS - ECPv6.15.11//NONSGML v1.0//EN
CALSCALE:GREGORIAN
METHOD:PUBLISH
X-ORIGINAL-URL:https://www.iacs.es
X-WR-CALDESC:Eventos para IACS
REFRESH-INTERVAL;VALUE=DURATION:PT1H
X-Robots-Tag:noindex
X-PUBLISHED-TTL:PT1H
BEGIN:VTIMEZONE
TZID:Europe/Madrid
BEGIN:DAYLIGHT
TZOFFSETFROM:+0100
TZOFFSETTO:+0200
TZNAME:CEST
DTSTART:20200329T010000
END:DAYLIGHT
BEGIN:STANDARD
TZOFFSETFROM:+0200
TZOFFSETTO:+0100
TZNAME:CET
DTSTART:20201025T010000
END:STANDARD
BEGIN:DAYLIGHT
TZOFFSETFROM:+0100
TZOFFSETTO:+0200
TZNAME:CEST
DTSTART:20210328T010000
END:DAYLIGHT
BEGIN:STANDARD
TZOFFSETFROM:+0200
TZOFFSETTO:+0100
TZNAME:CET
DTSTART:20211031T010000
END:STANDARD
BEGIN:DAYLIGHT
TZOFFSETFROM:+0100
TZOFFSETTO:+0200
TZNAME:CEST
DTSTART:20220327T010000
END:DAYLIGHT
BEGIN:STANDARD
TZOFFSETFROM:+0200
TZOFFSETTO:+0100
TZNAME:CET
DTSTART:20221030T010000
END:STANDARD
BEGIN:DAYLIGHT
TZOFFSETFROM:+0100
TZOFFSETTO:+0200
TZNAME:CEST
DTSTART:20230326T010000
END:DAYLIGHT
BEGIN:STANDARD
TZOFFSETFROM:+0200
TZOFFSETTO:+0100
TZNAME:CET
DTSTART:20231029T010000
END:STANDARD
END:VTIMEZONE
BEGIN:VEVENT
DTSTART;TZID=Europe/Madrid:20210622T080000
DTEND;TZID=Europe/Madrid:20211231T170000
DTSTAMP:20260425T184135
CREATED:20210616T124506Z
LAST-MODIFIED:20210616T124746Z
UID:10001592-1624348800-1640970000@www.iacs.es
SUMMARY:La Comisión Europea adopta el Programa de Trabajo principal de Horizonte Europa para 2021-2022
DESCRIPTION:La Comisión Europea ha adoptado el Programa de Trabajo principal (Work Programme) de Horizonte Europa para el periodo 2021-2022\, en el que se detallan los temas (topics) que se financiarán en las convocatorias de propuestas\, que abrirán el plazo de presentación a partir del próximo 22 de junio. \nEste programa de trabajo principal de Horizonte Europa para el período 2021-2022\, describe los objetivos y áreas temáticas específicas que recibirán una financiación total de 14 700 millones de euros. Estas inversiones ayudarán a acelerar las esperadas transiciones ecológica y digital\, asimismo contribuirán tanto a la recuperación sostenible de la UE de la pandemia del coronavirus como a su resistencia frente a crisis futuras.\nHorizonte Europea apoyarán a los investigadores europeos mediante becas\, formación e intercambios\, construirán ecosistemas de innovación europeos más conectados y eficientes y crearán infraestructuras de investigación de primer nivel. Además\, fortalecerá el Espacio Europeo de Investigación. \nTodos los Programas de Trabajo temáticos pueden encontrarse en el  siguiente enlace: \nhttps://ec.europa.eu/info/funding-tenders/opportunities/portal/screen/how-to-participate/reference-documents;programCode=HORIZON \nDesplegando las opciones de “Work programme & call documents”\, a continuación las de “2021-2022” y para terminar las de «HE Main Work Programme 2021-2022» para poder seleccionar la parte en la que estéis interesados para poder descargar los documentos. \nSi estás interesado en Horizonte Europa o te gustaría tener más información\, no dudes en contactar con Elena Portero (eportero.iacs@aragon.es)
URL:https://www.iacs.es/evento/la-comision-europea-adopta-el-programa-de-trabajo-principal-de-horizonte-europa-para-2021-2022/
LOCATION:on-line\, España
CATEGORIES:Agenda,Convocatoria,Convocatoria - proyectos
GEO:40.463667;-3.74922
END:VEVENT
BEGIN:VEVENT
DTSTART;TZID=Europe/Madrid:20210702T080000
DTEND;TZID=Europe/Madrid:20211231T170000
DTSTAMP:20260425T184135
CREATED:20210702T111158Z
LAST-MODIFIED:20220112T114425Z
UID:10001324-1625212800-1640970000@www.iacs.es
SUMMARY:LA COMISIÓN EUROPEA LANZA UN NUEVO PORTAL DE COLABORACIÓN: Coronavirus Global R&I Collaboration Portal
DESCRIPTION:La Comisión Europea ha lanzado un nuevo portal de colaboración sobre el coronavirus que ofrece interesantes oportunidades tanto para investigadores como para proyectos de investigación en todo el mundo que se centren en los aspectos socioeconómicos de la pandemia del coronavirus. La iniciativa apoya el «Enfoque global de la investigación y la innovación» que ha definido la Comisión Europea para el nuevo Programa Marco y reconfirma el compromiso de Europa con un nivel de apertura global de la investigación y la innovación que es necesario para impulsar la excelencia\, para unir recursos que permitan lograr el progreso científico y para desarrollar ecosistemas de innovación vibrantes.\n \n\n\nEl portal está abierto a organizaciones de investigación e investigadores individuales de todo el mundo\, ayudándoles a: \n\n    Colaborar en proyectos de investigación relacionados con los aspectos socioeconómicos de la pandemia.\n    Crear oportunidades y establecer contactos.\n    Conectar con otros investigadores y aumentar el impacto de las actividades.\n    Coordinar el intercambio de información.\n    Complementar las sinergias con otras plataformas en línea sobre la pandemia del coronavirus.\n\nEl enlace al nuevo portal es el siguiente: https://coronavirus-global-collaboration.ec.europa.eu/ \n\n \nPara cualquier duda o consulta\, no dudes en contactar con Elena Portero (eportero.iacs@aragon.es)
URL:https://www.iacs.es/evento/la-comision-europea-lanza-un-nuevo-portal-de-colaboracion-coronavirus-global-ri-collaboration-portal/
LOCATION:on-line\, España
CATEGORIES:Agenda,Convocatoria
GEO:40.463667;-3.74922
END:VEVENT
BEGIN:VEVENT
DTSTART;TZID=Europe/Madrid:20210908T100000
DTEND;TZID=Europe/Madrid:20220108T123000
DTSTAMP:20260425T184135
CREATED:20210921T123910Z
LAST-MODIFIED:20220112T114315Z
UID:10001614-1631095200-1641645000@www.iacs.es
SUMMARY:Public Health Best Practice Portal
DESCRIPTION:La Comisión Europea dispone de un Portal de Buenas Prácticas en Salud Pública que está diseñado para ayudar a encontrar información fiable y concreta sobre prácticas ya implementadas que hayan sido reconocidas como las mejores en el ámbito de la promoción de la salud\, la prevención de enfermedades y la gestión de las enfermedades no transmisibles. También ofrece una visión general de las prácticas recogidas y transmitidas en las acciones cofinanciadas en el marco de los programas de salud de la Comisión Europea. \nEl acceso a dicho Portal es: https://webgate.ec.europa.eu/dyna/bp-portal/ \nPara ampliar esta información o cualquier otra relacionada con Proyectos Internacionales\, no dudes en contactar con Elena Portero (eportero.iacs@aragon.es)
URL:https://www.iacs.es/evento/public-health-best-practice-portal/
LOCATION:on-line\, España
CATEGORIES:Agenda,Convocatoria
GEO:40.463667;-3.74922
END:VEVENT
BEGIN:VEVENT
DTSTART;TZID=Europe/Madrid:20211220T080000
DTEND;TZID=Europe/Madrid:20220216T170000
DTSTAMP:20260425T184135
CREATED:20211220T063019Z
LAST-MODIFIED:20211220T063019Z
UID:10001636-1639987200-1645030800@www.iacs.es
SUMMARY:Convocatoria del Programa Conjunto Europeo de Enfermedades Raras JTC2022
DESCRIPTION:El Programa Conjunto Europeo de Enfermedades Raras (EJP RD) es un programa cuyo objetivo es crear un ecosistema eficaz de investigación sobre enfermedades raras para el progreso\, la innovación y el beneficio de todas las personas con una enfermedad rara.\nEl EJP RD ha publicado su convocatoria para 2022\, en el ámbito de las Enfermedades Raras.\n\nEl objetivo de la convocatoria es permitir que los científicos de diferentes países construyan una colaboración efectiva en un proyecto de investigación interdisciplinario para utilizar los resultados en el futuro en beneficio de los pacientes. Los proyectos se centrarán en las denominadas Enfermedades Raras.\n\nSerán ayudas de tres años de duración\, dirigidas a consorcios transnacionales y multidisciplinares\, que incluyan en las propuestas las diferentes áreas de investigación de la convocatoria:\n1. Phenotype-driven diagnosis: integration across different ontologies\, integration of shared pathways\, digital phenotyping\, development of artificial intelligence approaches/applications to extract health related data in aid of diagnosis;\n2. Prognostic markers/biomarkers investigations for early diagnosis and monitoring;\n3. Methodologies for solving cases that are currently difficult to analyze due to different underlying mechanisms\n4. Functional strategies to globally stratify variants of unknown significance (VUS) for clinical use;\n5. Development of pathway models to enable diagnosis.\n\nA continuación\, podéis encontrar el enlace a la Joint Transnational Call 2022 – EJP RD – European Joint Programme on Rare Diseases: https://www.ejprarediseases.org/jtc2022/ \nLa convocatoria se publicó el 14 de diciembre de 2021 y cerrará el 16 de febrero de 2022 \nPara ampliar esta información o para cualquier otra consulta\, no dudes en contactar con Elena Portero (eportero.iacs@aragon.es)
URL:https://www.iacs.es/evento/convocatoria-del-programa-conjunto-europeo-de-enfermedades-raras-jtc2022/
LOCATION:San Juan Bosco\, 13\, Zaragoza\, Zaragoza\, 50009\, España
CATEGORIES:Convocatoria
GEO:41.64381;-0.9024
X-APPLE-STRUCTURED-LOCATION;VALUE=URI;X-ADDRESS=San Juan Bosco 13 Zaragoza Zaragoza 50009 España;X-APPLE-RADIUS=500;X-TITLE=San Juan Bosco\, 13:geo:-0.9024,41.64381
END:VEVENT
END:VCALENDAR