﻿BEGIN:VCALENDAR
VERSION:2.0
PRODID:-//IACS - ECPv6.15.11//NONSGML v1.0//EN
CALSCALE:GREGORIAN
METHOD:PUBLISH
X-WR-CALNAME:IACS
X-ORIGINAL-URL:https://www.iacs.es
X-WR-CALDESC:Eventos para IACS
REFRESH-INTERVAL;VALUE=DURATION:PT1H
X-Robots-Tag:noindex
X-PUBLISHED-TTL:PT1H
BEGIN:VTIMEZONE
TZID:Europe/Madrid
BEGIN:DAYLIGHT
TZOFFSETFROM:+0100
TZOFFSETTO:+0200
TZNAME:CEST
DTSTART:20220327T010000
END:DAYLIGHT
BEGIN:STANDARD
TZOFFSETFROM:+0200
TZOFFSETTO:+0100
TZNAME:CET
DTSTART:20221030T010000
END:STANDARD
BEGIN:DAYLIGHT
TZOFFSETFROM:+0100
TZOFFSETTO:+0200
TZNAME:CEST
DTSTART:20230326T010000
END:DAYLIGHT
BEGIN:STANDARD
TZOFFSETFROM:+0200
TZOFFSETTO:+0100
TZNAME:CET
DTSTART:20231029T010000
END:STANDARD
BEGIN:DAYLIGHT
TZOFFSETFROM:+0100
TZOFFSETTO:+0200
TZNAME:CEST
DTSTART:20240331T010000
END:DAYLIGHT
BEGIN:STANDARD
TZOFFSETFROM:+0200
TZOFFSETTO:+0100
TZNAME:CET
DTSTART:20241027T010000
END:STANDARD
END:VTIMEZONE
BEGIN:VEVENT
DTSTART;VALUE=DATE:20231102
DTEND;VALUE=DATE:20231211
DTSTAMP:20260423T112247
CREATED:20231005T100817Z
LAST-MODIFIED:20231213T115445Z
UID:10001985-1698883200-1702252799@www.iacs.es
SUMMARY:AVF045/23 Plan de EPOC de Aragón: Organización y procedimientos
DESCRIPTION:Actividad formativa en el ámbito de del uso racional de recursos diagnósticos y terapéuticos ​ \nPlan de Recuperación\, Transformación y Resiliencia – Financiado por la Unión Europea – NextGenerationEU \nDesde la Dirección General de Asistencia Sanitaria se elaboró un programa de atención a la EPOC en 2011 que ha sido actualizado en el nuevo “ Plan de Atención Integral a las personas con EPOC en Aragón” en 2023\, en base aspectos organizativos de la atención al paciente a lo largo del proceso y  a las nuevas guías (GOLD y GesEPOC) y es necesaria una formación de los profesionales\,  para una mejor atención a las personas que padecen una EPOC. \nDirigido a: profesionales del Sistema Aragonés de Salud\, medicina y enfermería de Atención Primaria\, Continuada y Urgencias. \n			\n			\n				\n				\n				\n				\n				\n			\n				\n				\n				\n				\n			\n				\n				\n				\n				\n				\n				\n				PREINSCRÍBETE\n			\n			\n				\n				\n				\n				\n				\n				GUÍA DIDÁCTICA
URL:https://www.iacs.es/evento/https-sites-google-com-iacs-es-epoc-inicio/
LOCATION:on-line\, España
CATEGORIES:Comunicación,Formación,on-line
GEO:40.463667;-3.74922
END:VEVENT
END:VCALENDAR