﻿BEGIN:VCALENDAR
VERSION:2.0
PRODID:-//IACS - ECPv6.15.11//NONSGML v1.0//EN
CALSCALE:GREGORIAN
METHOD:PUBLISH
X-ORIGINAL-URL:https://www.iacs.es
X-WR-CALDESC:Eventos para IACS
REFRESH-INTERVAL;VALUE=DURATION:PT1H
X-Robots-Tag:noindex
X-PUBLISHED-TTL:PT1H
BEGIN:VTIMEZONE
TZID:Europe/Madrid
BEGIN:DAYLIGHT
TZOFFSETFROM:+0100
TZOFFSETTO:+0200
TZNAME:CEST
DTSTART:20250330T010000
END:DAYLIGHT
BEGIN:STANDARD
TZOFFSETFROM:+0200
TZOFFSETTO:+0100
TZNAME:CET
DTSTART:20251026T010000
END:STANDARD
BEGIN:DAYLIGHT
TZOFFSETFROM:+0100
TZOFFSETTO:+0200
TZNAME:CEST
DTSTART:20260329T010000
END:DAYLIGHT
BEGIN:STANDARD
TZOFFSETFROM:+0200
TZOFFSETTO:+0100
TZNAME:CET
DTSTART:20261025T010000
END:STANDARD
BEGIN:DAYLIGHT
TZOFFSETFROM:+0100
TZOFFSETTO:+0200
TZNAME:CEST
DTSTART:20270328T010000
END:DAYLIGHT
BEGIN:STANDARD
TZOFFSETFROM:+0200
TZOFFSETTO:+0100
TZNAME:CET
DTSTART:20271031T010000
END:STANDARD
END:VTIMEZONE
BEGIN:VEVENT
DTSTART;VALUE=DATE:20260514
DTEND;VALUE=DATE:20260606
DTSTAMP:20260421T181516
CREATED:20260309T081840Z
LAST-MODIFIED:20260309T082147Z
UID:10002265-1778716800-1780703999@www.iacs.es
SUMMARY:AVF014/26 Introducción a la investigación cualitativa. Marco teórico y obtención de datos. Ed. 2026
DESCRIPTION:Tradicionalmente en el campo de la salud y de lo sanitario\, especialmente en el caso de la medicina\, la investigación cuantitativa ha sido la más utilizada para generar conocimiento. En este sentido la epidemiología basada en técnicas estadísticas ha tenido un papel fundamental\, centrándose en contar sucesos\, describir frecuencias\, relacionarlas\, nombrar posibilidades de que algo ocurriera (probabilidades)\, establecer relaciones causales\, etc. \nSin embargo\, en las últimas décadas la investigación cualitativa ha adquirido un papel cada vez más relevante\, evidenciándose su utilidad en el abordaje de problemas de salud o sanitarios donde el componente socio-cultural tiene un peso determinante. En este sentido\, las metodologías cualitativas forman parte intrínseca de las Ciencias Sociales. \nObjetivo general \nIntroducir a profesionales del ámbito de la salud en las técnicas de investigación cualitativa. \nDirigido a: \nEste curso va dirigido a profesionales que deseen iniciar una labor investigadora. Dado que se realiza la lectura obligatoria de un artículo en inglés\, se recomienda tener un nivel de inglés suficiente a nivel de comprensión lectora. \nSe ha solicitado acreditación a la Comisión de Formación Continuada de las Profesiones Sanitarias para profesionales licenciados\, diplomados\, grados del Sistema Aragonés de Salud cuyas profesiones estén incluidas en la LOPS \n–   En el caso de Química\, Bioquímica\, Psicología\, física\, y biología\, en la especialidad correspondiente de ciencias de la Salud (QUIR\, PIR\, FIR\, BIR). \n \n			\n			\n				\n				\n				\n				\n				\n				\n				\n				\n				\n				\n					\n					\n						INVESTIGACIÓN\n						\n					\n				\n			\n			\n				\n				\n				\n				\n			\n				\n				\n				\n				\n				\n				\n				PREINSCRÍBETE\n			\n			\n				\n				\n				\n				\n				\n				GUÍA DIDÁCTICA
URL:https://www.iacs.es/evento/avf014-26-introduccion-a-la-investigacion-cualitativa-marco-teorico-y-obtencion-de-datos-ed-2026/
LOCATION:on-line\, España
CATEGORIES:Formación,Formación en Investigación,Preinscripción
GEO:40.463667;-3.74922
END:VEVENT
END:VCALENDAR