﻿BEGIN:VCALENDAR
VERSION:2.0
PRODID:-//IACS - ECPv6.15.11//NONSGML v1.0//EN
CALSCALE:GREGORIAN
METHOD:PUBLISH
X-ORIGINAL-URL:https://www.iacs.es
X-WR-CALDESC:Eventos para IACS
REFRESH-INTERVAL;VALUE=DURATION:PT1H
X-Robots-Tag:noindex
X-PUBLISHED-TTL:PT1H
BEGIN:VTIMEZONE
TZID:Europe/Madrid
BEGIN:DAYLIGHT
TZOFFSETFROM:+0100
TZOFFSETTO:+0200
TZNAME:CEST
DTSTART:20220327T010000
END:DAYLIGHT
BEGIN:STANDARD
TZOFFSETFROM:+0200
TZOFFSETTO:+0100
TZNAME:CET
DTSTART:20221030T010000
END:STANDARD
BEGIN:DAYLIGHT
TZOFFSETFROM:+0100
TZOFFSETTO:+0200
TZNAME:CEST
DTSTART:20230326T010000
END:DAYLIGHT
BEGIN:STANDARD
TZOFFSETFROM:+0200
TZOFFSETTO:+0100
TZNAME:CET
DTSTART:20231029T010000
END:STANDARD
BEGIN:DAYLIGHT
TZOFFSETFROM:+0100
TZOFFSETTO:+0200
TZNAME:CEST
DTSTART:20240331T010000
END:DAYLIGHT
BEGIN:STANDARD
TZOFFSETFROM:+0200
TZOFFSETTO:+0100
TZNAME:CET
DTSTART:20241027T010000
END:STANDARD
END:VTIMEZONE
BEGIN:VEVENT
DTSTART;VALUE=DATE:20230925
DTEND;VALUE=DATE:20231030
DTSTAMP:20260421T232213
CREATED:20230803T150434Z
LAST-MODIFIED:20230911T111956Z
UID:10001955-1695600000-1698623999@www.iacs.es
SUMMARY:AMF043/23 - Enfermedades Emergentes: Control de Vectores y Pandemias Ed. 2023
DESCRIPTION:Las enfermedades emergentes constituyen un importante problema de salud pública\, interrelacionado e incrementado con la globalización. Algunas de ellas son el foco de los medios de comunicación día tras día. Conocerlas es imprescindible para instaurar medidas de prevención y control. En este curso las estudiaremos de forma interactiva y entenderemos sus aspectos más relevantes en múltiples ámbitos\, desde una reunión con amigos\, hasta un viaje internacional. \nDirigido a profesionales de Atención Primaria\, Salud Pública\, veterinarios/as\, farmacéutico/as\, y a todos aquellos con interés en este tipo materia. \nTendrán prioridad aquellas personas que tienen responsabilidad en la formación especializada en las instituciones sanitarias: tutores\, técnicos\, jefes de estudio\, colaboradores en la formación y profesionales interesados en la Formación Sanitaria Especializada (FSE). \n			\n			\n				\n				\n				\n				\n				\n				\n				\n				\n				\n				\n					\n					\n						SALUD GLOBAL\n						\n					\n				\n			\n			\n				\n				\n				\n				\n			\n				\n				\n				\n				\n				\n				\n				PREINSCRÍBETE\n			\n			\n				\n				\n				\n				\n				\n				GUÍA DIDÁCTICA
URL:https://www.iacs.es/evento/enfermedades-emergentes-2023/
LOCATION:on-line\, España
CATEGORIES:Formación,on-line,Salud Global
GEO:40.463667;-3.74922
END:VEVENT
END:VCALENDAR