﻿BEGIN:VCALENDAR
VERSION:2.0
PRODID:-//IACS - ECPv6.15.11//NONSGML v1.0//EN
CALSCALE:GREGORIAN
METHOD:PUBLISH
X-WR-CALNAME:IACS
X-ORIGINAL-URL:https://www.iacs.es
X-WR-CALDESC:Eventos para IACS
REFRESH-INTERVAL;VALUE=DURATION:PT1H
X-Robots-Tag:noindex
X-PUBLISHED-TTL:PT1H
BEGIN:VTIMEZONE
TZID:Europe/Madrid
BEGIN:DAYLIGHT
TZOFFSETFROM:+0100
TZOFFSETTO:+0200
TZNAME:CEST
DTSTART:20220327T010000
END:DAYLIGHT
BEGIN:STANDARD
TZOFFSETFROM:+0200
TZOFFSETTO:+0100
TZNAME:CET
DTSTART:20221030T010000
END:STANDARD
BEGIN:DAYLIGHT
TZOFFSETFROM:+0100
TZOFFSETTO:+0200
TZNAME:CEST
DTSTART:20230326T010000
END:DAYLIGHT
BEGIN:STANDARD
TZOFFSETFROM:+0200
TZOFFSETTO:+0100
TZNAME:CET
DTSTART:20231029T010000
END:STANDARD
BEGIN:DAYLIGHT
TZOFFSETFROM:+0100
TZOFFSETTO:+0200
TZNAME:CEST
DTSTART:20240331T010000
END:DAYLIGHT
BEGIN:STANDARD
TZOFFSETFROM:+0200
TZOFFSETTO:+0100
TZNAME:CET
DTSTART:20241027T010000
END:STANDARD
END:VTIMEZONE
BEGIN:VEVENT
DTSTART;TZID=Europe/Madrid:20230530T103000
DTEND;TZID=Europe/Madrid:20230530T123000
DTSTAMP:20260426T020004
CREATED:20230526T095508Z
LAST-MODIFIED:20230526T095635Z
UID:10001777-1685442600-1685449800@www.iacs.es
SUMMARY:Jornada Horizonte Europa: Aspectos legales y financieros
DESCRIPTION:Martes 30 de mayo en el CIBA \nObjetivo: dar a conocer los aspectos legales y las normas financieras para la correcta gestión de los proyectos enmarcado en el programa Horizonte Europa (2021 – 2027) a los gestores de proyectos europeos y a aquel personal de administración que pueda verse implicado en dicha gestión. \nPonentes: Mª Carmen Bello Merino y Gustavo García Turiño (PNCs de la FECYT) \nPrograma (10:30 – 12:30): \n\nTerceras partes y acuerdos de consorcio\nCostes de personal\nOtros costes (viajes\, facturas internas\, servicios / subcontrataciones\, equipamiento)\nModelo Lump Sum\nConclusiones y dudas\n\nDirigido a: Gestores / investigadores / administración. \nInscripción: Para asistir a la jornada es necesario inscribirse a través de el siguiente link antes del día 29 de mayo a las 13:00.  \nhttps://forms.gle/SS1J8KdEo1UGae5v6 \nOrganiza: \nEl IIS Aragón\, junto con la Dirección General de Investigación e Innovación del Gobierno de Aragón\, Araid y el IACS\, con la participación del Fecyt \nContacto: \ninternacional@iisaragon.es  •  976 71 64 71
URL:https://www.iacs.es/evento/jornada-horizonte-europa-aspectos-legales-y-financieros/
LOCATION:Salón de Actos Lorente de Nó- CIBA
CATEGORIES:Convocatoria - Jornadas y seminarios,Noticia evento
END:VEVENT
END:VCALENDAR