﻿BEGIN:VCALENDAR
VERSION:2.0
PRODID:-//IACS - ECPv6.15.11//NONSGML v1.0//EN
CALSCALE:GREGORIAN
METHOD:PUBLISH
X-ORIGINAL-URL:https://www.iacs.es
X-WR-CALDESC:Eventos para IACS
REFRESH-INTERVAL;VALUE=DURATION:PT1H
X-Robots-Tag:noindex
X-PUBLISHED-TTL:PT1H
BEGIN:VTIMEZONE
TZID:Europe/Madrid
BEGIN:DAYLIGHT
TZOFFSETFROM:+0100
TZOFFSETTO:+0200
TZNAME:CEST
DTSTART:20230326T010000
END:DAYLIGHT
BEGIN:STANDARD
TZOFFSETFROM:+0200
TZOFFSETTO:+0100
TZNAME:CET
DTSTART:20231029T010000
END:STANDARD
BEGIN:DAYLIGHT
TZOFFSETFROM:+0100
TZOFFSETTO:+0200
TZNAME:CEST
DTSTART:20240331T010000
END:DAYLIGHT
BEGIN:STANDARD
TZOFFSETFROM:+0200
TZOFFSETTO:+0100
TZNAME:CET
DTSTART:20241027T010000
END:STANDARD
BEGIN:DAYLIGHT
TZOFFSETFROM:+0100
TZOFFSETTO:+0200
TZNAME:CEST
DTSTART:20250330T010000
END:DAYLIGHT
BEGIN:STANDARD
TZOFFSETFROM:+0200
TZOFFSETTO:+0100
TZNAME:CET
DTSTART:20251026T010000
END:STANDARD
BEGIN:DAYLIGHT
TZOFFSETFROM:+0100
TZOFFSETTO:+0200
TZNAME:CEST
DTSTART:20260329T010000
END:DAYLIGHT
BEGIN:STANDARD
TZOFFSETFROM:+0200
TZOFFSETTO:+0100
TZNAME:CET
DTSTART:20261025T010000
END:STANDARD
END:VTIMEZONE
BEGIN:VEVENT
DTSTART;TZID=Europe/Madrid:20240418T080000
DTEND;TZID=Europe/Madrid:20250506T170000
DTSTAMP:20260423T130537
CREATED:20240503T130743Z
LAST-MODIFIED:20250509T083537Z
UID:10002060-1713427200-1746550800@www.iacs.es
SUMMARY:Ciclo Horizonte Europa a tu alcance
DESCRIPTION:La Unidad de Proyectos del Instituto Aragonés de Ciencias de la Salud organiza en 2024 el ciclo de charlas Horizonte Europa a tu alcance\, centradas en ofrecer las claves a quienes quieran aprovechar las oportunidades que ofrece el Plan Horizonte Europa. A lo largo de más de una decena de sesiones\, se abordará desde cómo presentar las solicitudes y cómo desarrollar un plan de comunicación o cómo introducir los aspectos éticos en los proyectos.  \nEl ciclo de charlas Horizonte Europa a tu alcance\, que está abierto a toda la comunidad investigadora\, forma parte de la convocatoria Preparación y gestión de proyectos europeos y atracción de talento internacional 2023\, financiada por el Ministerio de Ciencia\, Innovación y Universidades. \n\n\n\n\n\nLos temas que se abordarán a lo largo del ciclo de charlas serán: \n\nFinanciación de la I+I en Horizonte Europa: ¿cómo aprovechar nuevas oportunidades de participación para su segunda parte 2025-2027?”\nConoce al detalle el Clúster de Salud de Horizonte Europa\nHorizonte Europa: entender los aspectos legales y financieros del programa para participar mejor\nConociendo en detalle el formulario de solicitud (“template”) de las propuestas Horizonte Europa\nHacía las nuevas convocatorias 2025 en el ámbito de la salud\nInclusión de la perspectiva de género en la investigación científica en salud\nCómo diseñar un plan de comunicación de un proyecto en Horizonte Europa\nEstrategias y habilidades para aprender a divulgar ciencia a la sociedad\nNovedades en el formulario sobre ética en Horizonte Europa\nInnovación Social en proyectos de investigación\nCómo elaborar el Data Management Plan de un proyecto europeo\n\n¡Esperamos que sean de vuestro interés! \nInscripciones abiertas en la sección de la Unidad de Proyectos de la web del IACS \n\n\n\n\n  \n\n\n\n\nEl ciclo de charlas “Horizonte Europa a tu alcance” es parte de la actuación GPE2023-001276-P (Convocatoria “Preparación y gestión de proyectos europeos y atracción de talento internacional 2023”)\, financiada por MICIU/AEI/10.13039/501100011033
URL:https://www.iacs.es/evento/ciclo-horizonte-europa-a-tu-alcance/
LOCATION:Salón de Actos Lorente de Nó- CIBA
CATEGORIES:Convocatoria - Jornadas y seminarios,Noticia evento,Taller proyectos
END:VEVENT
BEGIN:VEVENT
DTSTART;TZID=Europe/Madrid:20240425T123000
DTEND;TZID=Europe/Madrid:20240926T140000
DTSTAMP:20260423T130537
CREATED:20240408T130741Z
LAST-MODIFIED:20240408T131526Z
UID:10002048-1714048200-1727359200@www.iacs.es
SUMMARY:Ciclo de seminarios: Comprar mejor\, experiencias compartidas para optimizar la compra pública en salud
DESCRIPTION:La Cátedra IACS de CPI en Salud organiza un nuevo ciclo de seminarios con el que pretende optimizar la compra pública en salud\, aportando claves específicas orientadas a mejorar las cuatro fases esenciales del contrato: preparación\, selección y adjudicación\, ejecución y medición de su impacto. \nPara ello contaremos con profesionales de diversos ámbitos vinculados con la contratación pública\, tanto del sector público como del privado: administración local y regional\, gestión hospitalaria e industria farmacéutica\, de forma que podamos aprender de su estrategia\, sus éxitos y también\, en su caso\, de los errores cometidos. \nLas inscripciones para el primer seminario\, que se celebrará el 25 de abril de 12h30 a 14h bajo el título «Estrategias de compra eficiente a nivel local»\, ya están abiertas en el formulario que encontrarás en este enlace \n\n\nYlenia Díaz Morán del Ayuntamiento de Riba-roja de Turia\, y Concha Gracia del Ayuntamiento de Utebo\, serán las ponentes de esta primera cita\, en la que debatirá sobre el desarrollo de metodologías para optimizar las compras en el ámbito local y se analizarán casos de éxito en la implementación de prácticas de adquisición más eficientes. \nLas siguientes sesiones del ciclo serán en estas fechas: \n\nJueves 30 de mayo: taller sobre «Innovación en la gestión de compras: Experiencias de hospitales y sector privado»\nJueves 27 de junio: taller sobre «Industria farmacéutica: estrategias para una compra inteligente»\nJueves 26 de septiembre: taller sobre «Administraciones regionales de salud: mejoras en la compra pública»\n\n\nToda la informacin sobre el ciclo está disponible en la web cpi.aragon.es
URL:https://www.iacs.es/evento/ciclo-de-seminarios-comprar-mejor-experiencias-compartidas-para-optimizar-la-compra-publica-en-salud/
LOCATION:Zaragoza
CATEGORIES:Noticia evento
ORGANIZER;CN="C%C3%A1tedra IACS de CPI en Salud":MAILTO:innovacion.iacs@aragon.es
END:VEVENT
BEGIN:VEVENT
DTSTART;TZID=Europe/Madrid:20240508T090000
DTEND;TZID=Europe/Madrid:20240508T200000
DTSTAMP:20260423T130537
CREATED:20240408T091455Z
LAST-MODIFIED:20240409T112421Z
UID:10002046-1715158800-1715198400@www.iacs.es
SUMMARY:Formación específica en anastomosis intraabdominales e instrumentación quirúrgica
DESCRIPTION:8 de mayo de 2024. De 9.00 a 14.00h y de 15.00h a 20.00h | Íntegramente presencial: CIBA \nPlazo límite de preinscripción hasta 2 de mayo \n\n\n\n\n\n\n\n\nCurso eminentemente práctico. Se realizará en las instalaciones del Servicio Científico Técnico de Cirugía experimental. A disposición del curso se pondrán cinco puestos de trabajo\, colocándose en cada uno de ellos cuatro alumnos -dos profesionales de Enfermería y dos de Medicina-\, que serán tutorizados por una enfermera instrumentista y un cirujano.  \nSe simulará un quirófano real y se realizarán todos los pasos necesarios para llevar a cabo una intervención quirúrgica.  \nPara las actividades se hará uso de Pelvitrainers\, instrumental de cirugía abierta y laparoscópica así como tejido real\, procedente de aparato gastrointestinal\, sistema urinario\, arterias y venas.  \n\n\n\n\n\n\n\n\n\n\n\nEl curso está dirigido a personal de Enfermería y Residentes/adjuntos de especialidades quirúrgica. \n\n\n\n\n\n\n\n\n\n\n\n\n\n\n\n\n\n\n\n\nPara la obtención del certificado con la acreditación es necesario asistir al menos al 90% del tiempo total que dura. \n\n\n\n\n\n\n\n\n\n\n\n\n\n\n\n\n\n\n\n\nActividad solicitada para su acreditación por la Comisión de Formación Continuada de la Profesiones Sanitarias de Aragón. \n\n\n\n\n\n\n\n\n\n\n\n\n\n			\n			\n				\n				\n				\n				\n				\n			\n				\n				\n				\n				\n			\n				\n				\n				\n				\n				\n				\n				PREINSCRÍBETE\n			\n			\n				\n				\n				\n				\n				\n				GUÍA DIDÁCTICA
URL:https://www.iacs.es/evento/formacion-especifica-en-anastomosis-intraabdominales-e-intrumentacion-quirurgica/
LOCATION:CIBA\, San Juan Bosco 13\, Zaragoza\, Zaragoza\, 50009\, España
CATEGORIES:Cirugía Experimental,Evento SCT,Noticia evento
GEO:40.463667;-3.74922
X-APPLE-STRUCTURED-LOCATION;VALUE=URI;X-ADDRESS=CIBA San Juan Bosco 13 Zaragoza Zaragoza 50009 España;X-APPLE-RADIUS=500;X-TITLE=San Juan Bosco 13:geo:-3.74922,40.463667
END:VEVENT
BEGIN:VEVENT
DTSTART;TZID=Europe/Madrid:20240513T163000
DTEND;TZID=Europe/Madrid:20240513T190000
DTSTAMP:20260423T130537
CREATED:20240429T123242Z
LAST-MODIFIED:20240510T114826Z
UID:10002056-1715617800-1715626800@www.iacs.es
SUMMARY:I Jornada Salud con Perspectiva desde Atención Primaria
DESCRIPTION:Incorporar la perspectiva de género en la práctica clínica diaria es esencial para proporcionar una atención médica equitativa\, precisa y centrada en las necesidades individuales de cada paciente\, contribuyendo así a mejorar los resultados de salud y el bienestar general de la población. Múltiples enfermedades tienen una expresión clínica (síntomas y signos) diferente en hombres y mujeres; y no considerarlo produce sesgos de género asistenciales en perjuicio de las mujeres”. \nEl Instituto Aragonés de Ciencias de la Salud\, junto con Organon\, organiza el 13 de mayo una jornada dirigida a profesionales sanitarios (Medicina\, Enfermería) que trabajan en Atención Primaria del Sistema Aragonés de Salud\, y tendrá lugar en el salón de actos del CIBA. \nOBJETIVOS:\n\nConseguir Equidad en el acceso y tratamiento de la salud\nProporcionar una atención más integral que aborde las necesidades médicas\, emocionales y sociales únicas de cada paciente\, teniendo en cuenta cómo su género puede influir en su salud y bienestar\nIdentificar factores de riesgo específicos que pueden afectar la salud de hombres y mujeres de manera diferente.\n\n  \nDIRIGIDO A:\nJornada dirigida a profesionales sanitarios (Medicina\, Enfermería) que trabajan en Atención Primaria del Sistema Aragonés de Salud. \nACREDITACIÓN:\nAcreditada con 0.3 créditos por la Comisión de Formación Continuada de las Profesiones Sanitarias de Aragón. \nPROGRAMA:\n16.00 – 16.30 h: Café de bienvenida  \n16.30 – 16.45 h: Inauguración de la jornada: Pilar Borraz\, directora de la gerencia única de Atención Primaria. \nModerador: Julián Illana. Director del Área de Transferencia de Conocimiento del Instituto Aragonés de Ciencias de la Salud \n16.45 – 17.45 h: Mesa 1: Salud Cardiovascular con Perspectiva  \n\nAntonela Lukic\, Adjunta Servicio Cardiología Hospital Clínico Universitario Lozano Blesa\nJuan Carlos Romero\, Médico de Familia del Centro de Salud Alfajarín\n\n17.45 – 18.45 h: Mesa 2: Abordaje diferencial en Migraña y otras patologías dolorosas prevalentes \n\nEva Trillo\, Directora de Atención Primaria Sector Zaragoza II\nMaria José Monzón\, Adjunta Servicio de Neurología Hospital Universitario Miguel Servet\n\n18.45 h: Cierre de la Jornada \nMás información y preinscripciones en este enlace sobre la I Jornada de Perspectiva de Género \nDescargar programa en PDF
URL:https://www.iacs.es/evento/i-jornada-salud-con-perspectiva-desde-atencion-primaria/
LOCATION:Zaragoza
CATEGORIES:Formación,Noticia evento
END:VEVENT
BEGIN:VEVENT
DTSTART;TZID=Europe/Madrid:20240521T170000
DTEND;TZID=Europe/Madrid:20240521T190000
DTSTAMP:20260423T130537
CREATED:20240520T105832Z
LAST-MODIFIED:20240520T105832Z
UID:10002065-1716310800-1716318000@www.iacs.es
SUMMARY:El CIBA abre sus puertas con actividades divulgativas dirigidas a todos los públicos
DESCRIPTION:En el marco de la segunda reunión anual del proyecto europeo HERVCOV\, el martes 21 el Instituto Aragonés de Ciencias de la Salud (IACS) abrirá las puertas del Centro de Investigación Biomédica de Aragón (CIBA) a los ciudadanos aragoneses para mostrarles sus instalaciones y el trabajo que se realiza en él. Será una actividad de divulgación abierta a toda la ciudadanía\, que arrancará a las 17:00 horas y durará dos horas. \nEl acceso a la actividad es libre y\, en ella\, además de contar con un recorrido virtual por los distintos espacios y laboratorios\, se ha preparado un juego de preguntas centrado en conocer qué son los retrovirus endógenos y cómo influyen en el organismo humano.  \nAdemás\, quienes se acerquen hasta el CIBA podrán jugar al ‘Desafío de Biología’\, una dinámica divulgativa basada en el popular DOBBLE y creada por Bioscienza Responsabile\, socio del proyecto HERVCOV. También podrán hablar con los propios científicos que trabajan en el proyecto HERVCOV. \nSOBRE EL PROYECTO HERVCOV\n \nEl proyecto HERVCOV cuenta con la participación de centros de investigación\, empresas y asociaciones procedentes de Croacia\, Francia\, Grecia\, Italia y España. Desde Aragón\, lo hacen el Instituto Aragonés de Ciencias de la Salud (IACS) y la Fundación Agencia Aragonesa para la Investigación y el Desarrollo (ARAID). \nEl IACS es el centro público gestor del conocimiento en Biomedicina y Salud\, que incluye a los profesionales de los hospitales y centros de atención primaria de Aragón y que tiene como misión facilitar la innovación efectiva en los servicios de salud mediante la gestión del conocimiento.
URL:https://www.iacs.es/evento/el-ciba-abre-sus-puertas-con-actividades-divulgativas-dirigidas-a-todos-los-publicos/
LOCATION:Zaragoza
CATEGORIES:Noticia evento
END:VEVENT
BEGIN:VEVENT
DTSTART;TZID=Europe/Madrid:20240528T103000
DTEND;TZID=Europe/Madrid:20240528T134500
DTSTAMP:20260423T130537
CREATED:20240429T174751Z
LAST-MODIFIED:20240429T180427Z
UID:10002057-1716892200-1716903900@www.iacs.es
SUMMARY:Jornada "Modelo de Atención Sociosanitaria" código 2024/0559-ZSC. Plan de Formación 2024
DESCRIPTION:  \n  \nEn el Portal de Formación del Gobierno de Aragón se ha publicado la Jornada MODELO DE ATENCIÓN SOCIOSANITARIA\, código 2024 0559-ZSC\, dirigida a profesionales de los equipos de atención primaria\, geriatras y profesionales del Instituto Aragonés de Servicios Sociales. En ella se dará a conocer el modelo atención farmacéutica y sociosanitaria planteada tras la publicación del DECRETO 246/2023\, y los agentes implicados. \nLa jornada se realiza el 28 de mayo en horario de 10:30 a 13:45 horas en el salón de actos «Lorente de No» del Instituto Aragonés de Ciencias de la salud y está acreditada por la CFC\, con el siguiente programa: \nMesa 1. Modelo de atención sociosanitaria en nuestra CC.AA. 10:30 h- 11:00 h \n1.1 Decreto de prestación farmacéutica\, coordinación para la prescripción y suministro de farmacia en las residencias públicas (Ana Cristina Bandrés\, Coordinadora Unidad URM) \n1.2 Modelo de atención residencial e implicaciones en los cuidados y apoyos sanitarios (Mariano Fago\, asesor de la Gerencia del IASS) \nMesa 2. ¿Qué estamos haciendo?: Modelos desde el punto de vista farmacéutico y social 11:00 h- 13:00 h \n2.1 Modelo de atención farmacéutica\, validación y prestación farmacéutica desde un Servicio de Farmacia de Hospital (Reyes Abad\, jefe de servicio de farmacia del Hospital Universitario Miguel Servet) \n2.2. Modelo de atención farmacéutica y validación desde un Servicio de Farmacia de Atención Primaria (Arantzazu García\, farmacéutica de Atención Primaria sector Alcañiz) \n2.3. Experiencias en nuestra comunidad. Trabajo en la reducción de la polifarmacia y retirada de sujeciones químicas (Juan Pérez\, médico de la residencia de mayores de Alagón) \n2.4. Experiencias en otra comunidad autónoma. Trabajo en el seguimiento y asesoramiento en la prescripción (Idoia Beobide\, responsable de atención farmacéutica de Fundación Matia) \nConclusiones 13:30- 13:45 \nSe puede consultar y solicitar la actividad directamente en https://aplicaciones.aragon.es/egafintra.
URL:https://www.iacs.es/evento/jornada-modelo-de-atencion-sociosanitaria-codigo-2024-0559-zsc-plan-de-formacion-2024/
LOCATION:Salón de Actos Lorente de Nó- CIBA
CATEGORIES:Formación,Noticia evento
END:VEVENT
END:VCALENDAR