﻿BEGIN:VCALENDAR
VERSION:2.0
PRODID:-//IACS - ECPv6.15.11//NONSGML v1.0//EN
CALSCALE:GREGORIAN
METHOD:PUBLISH
X-ORIGINAL-URL:https://www.iacs.es
X-WR-CALDESC:Eventos para IACS
REFRESH-INTERVAL;VALUE=DURATION:PT1H
X-Robots-Tag:noindex
X-PUBLISHED-TTL:PT1H
BEGIN:VTIMEZONE
TZID:Europe/Madrid
BEGIN:DAYLIGHT
TZOFFSETFROM:+0100
TZOFFSETTO:+0200
TZNAME:CEST
DTSTART:20230326T010000
END:DAYLIGHT
BEGIN:STANDARD
TZOFFSETFROM:+0200
TZOFFSETTO:+0100
TZNAME:CET
DTSTART:20231029T010000
END:STANDARD
BEGIN:DAYLIGHT
TZOFFSETFROM:+0100
TZOFFSETTO:+0200
TZNAME:CEST
DTSTART:20240331T010000
END:DAYLIGHT
BEGIN:STANDARD
TZOFFSETFROM:+0200
TZOFFSETTO:+0100
TZNAME:CET
DTSTART:20241027T010000
END:STANDARD
BEGIN:DAYLIGHT
TZOFFSETFROM:+0100
TZOFFSETTO:+0200
TZNAME:CEST
DTSTART:20250330T010000
END:DAYLIGHT
BEGIN:STANDARD
TZOFFSETFROM:+0200
TZOFFSETTO:+0100
TZNAME:CET
DTSTART:20251026T010000
END:STANDARD
BEGIN:DAYLIGHT
TZOFFSETFROM:+0100
TZOFFSETTO:+0200
TZNAME:CEST
DTSTART:20260329T010000
END:DAYLIGHT
BEGIN:STANDARD
TZOFFSETFROM:+0200
TZOFFSETTO:+0100
TZNAME:CET
DTSTART:20261025T010000
END:STANDARD
END:VTIMEZONE
BEGIN:VEVENT
DTSTART;TZID=Europe/Madrid:20240418T080000
DTEND;TZID=Europe/Madrid:20250506T170000
DTSTAMP:20260422T110830
CREATED:20240503T130743Z
LAST-MODIFIED:20250509T083537Z
UID:10002060-1713427200-1746550800@www.iacs.es
SUMMARY:Ciclo Horizonte Europa a tu alcance
DESCRIPTION:La Unidad de Proyectos del Instituto Aragonés de Ciencias de la Salud organiza en 2024 el ciclo de charlas Horizonte Europa a tu alcance\, centradas en ofrecer las claves a quienes quieran aprovechar las oportunidades que ofrece el Plan Horizonte Europa. A lo largo de más de una decena de sesiones\, se abordará desde cómo presentar las solicitudes y cómo desarrollar un plan de comunicación o cómo introducir los aspectos éticos en los proyectos.  \nEl ciclo de charlas Horizonte Europa a tu alcance\, que está abierto a toda la comunidad investigadora\, forma parte de la convocatoria Preparación y gestión de proyectos europeos y atracción de talento internacional 2023\, financiada por el Ministerio de Ciencia\, Innovación y Universidades. \n\n\n\n\n\nLos temas que se abordarán a lo largo del ciclo de charlas serán: \n\nFinanciación de la I+I en Horizonte Europa: ¿cómo aprovechar nuevas oportunidades de participación para su segunda parte 2025-2027?”\nConoce al detalle el Clúster de Salud de Horizonte Europa\nHorizonte Europa: entender los aspectos legales y financieros del programa para participar mejor\nConociendo en detalle el formulario de solicitud (“template”) de las propuestas Horizonte Europa\nHacía las nuevas convocatorias 2025 en el ámbito de la salud\nInclusión de la perspectiva de género en la investigación científica en salud\nCómo diseñar un plan de comunicación de un proyecto en Horizonte Europa\nEstrategias y habilidades para aprender a divulgar ciencia a la sociedad\nNovedades en el formulario sobre ética en Horizonte Europa\nInnovación Social en proyectos de investigación\nCómo elaborar el Data Management Plan de un proyecto europeo\n\n¡Esperamos que sean de vuestro interés! \nInscripciones abiertas en la sección de la Unidad de Proyectos de la web del IACS \n\n\n\n\n  \n\n\n\n\nEl ciclo de charlas “Horizonte Europa a tu alcance” es parte de la actuación GPE2023-001276-P (Convocatoria “Preparación y gestión de proyectos europeos y atracción de talento internacional 2023”)\, financiada por MICIU/AEI/10.13039/501100011033
URL:https://www.iacs.es/evento/ciclo-horizonte-europa-a-tu-alcance/
LOCATION:Salón de Actos Lorente de Nó- CIBA
CATEGORIES:Convocatoria - Jornadas y seminarios,Noticia evento,Taller proyectos
END:VEVENT
BEGIN:VEVENT
DTSTART;TZID=Europe/Madrid:20241108T100000
DTEND;TZID=Europe/Madrid:20241115T130000
DTSTAMP:20260422T110830
CREATED:20241028T140822Z
LAST-MODIFIED:20241106T123043Z
UID:10002124-1731060000-1731675600@www.iacs.es
SUMMARY:Adéntrate en el IACS: Hacemos Ciencia para Descubrir\, Entender y Avanzar
DESCRIPTION:¡Ven y explora el fascinante mundo de la ciencia aplicada en el Instituto Aragonés de Ciencias de la Salud!  \nLos días 8 y 15 de noviembre\, de 10h a 13h\, durante la Semana de la Ciencia\, te invitamos a conocer los Servicios Científico-Técnicos del IACS\, en el Rincón de la Ciencia que organiza la Unidad de Cultura Científica de la Universidad de Zaragoza en el campus de la Plaza San Francisco\, para ver de cerca cómo usamos las herramientas de nuestro día a día y participar en una ruleta interactiva llena de ciencia y descubrimiento.  \nSe trata de una oportunidad única para experimentar la ciencia desde dentro y conocer cómo trabajamos para mejorar la salud y el bienestar de todos.
URL:https://www.iacs.es/evento/adentrate-en-el-iacs-hacemos-ciencia-para-descubrir-entender-y-avanzar/
LOCATION:Campus San Francisco Universidad de Zaragoza\, C. de Pedro Cerbuna\, 12\, Zaragoza\, Zaragoza\, 50009\, España
CATEGORIES:Noticia evento
ATTACH;FMTTYPE=image/jpeg:https://www.iacs.es/wp-content/uploads/2024/10/MACsima-by-nigth-scaled.jpg
GEO:41.6398712;-0.89825
X-APPLE-STRUCTURED-LOCATION;VALUE=URI;X-ADDRESS=Campus San Francisco Universidad de Zaragoza C. de Pedro Cerbuna 12 Zaragoza Zaragoza 50009 España;X-APPLE-RADIUS=500;X-TITLE=C. de Pedro Cerbuna\, 12:geo:-0.89825,41.6398712
END:VEVENT
BEGIN:VEVENT
DTSTART;TZID=Europe/Madrid:20241114T083000
DTEND;TZID=Europe/Madrid:20241114T150000
DTSTAMP:20260422T110830
CREATED:20241015T125141Z
LAST-MODIFIED:20241023T114114Z
UID:10002119-1731573000-1731596400@www.iacs.es
SUMMARY:XI Jornadas RedETS 2024
DESCRIPTION:XI Jornadas RedETS 2024\nRed Española de Agencias de Evaluación de Tecnologías Sanitarias y Prestaciones del Sistema Nacional de Salud (RedETS)\nConstruyendo una Sanidad sostenible: el poder de los Datos de Vida Real \n14 de noviembre | World Trade Center Zaragoza \n			\n				Programa e inscripciones aquí\n			\n			\n				\n				\n				\n				\n			\n				\n				\n			\n				\n				\n				\n				\n				\n				\n				\n				\n				\n				\n				\n				\n				\n				\n				\n				\n				\n				La jornada buscará explorar el impacto transformador del uso de los Datos de Vida Real (RWD) en la sanidad\, explorando cómo pueden impulsar la toma de decisiones informada. La jornada debatirá su potencial en el fortalecimiento de la sostenibilidad del sistema sanitario y los desafíos éticos y regulatorios que rodean su uso. \nEste encuentro no solo pretende ser un espacio de reflexión y discusión\, sino también promover la colaboración entre diversos actores del sistema sanitario para aprovechar al máximo los beneficios de los DVR y garantizar una sanidad más sostenible y equitativa. \nJornada dirigida a profesionales sanitarios\, evaluadores\, gestores y directivos sanitarios\, investigadores y ciudadanía. \nPrograma completo e inscripciones en https://www.iacs.es/decisiones-basadas-en-la-evidencia/xi-jornadas-redets-2024/
URL:https://www.iacs.es/evento/xi-jornadas-redets-2024/
LOCATION:World Trade Center Zaragoza\, Calle de María Zambrano\, Zaragoza\, Zaragoza\, 50018\, Spain
CATEGORIES:Noticia evento
GEO:41.6688123;-0.8890395
X-APPLE-STRUCTURED-LOCATION;VALUE=URI;X-ADDRESS=World Trade Center Zaragoza Calle de María Zambrano Zaragoza Zaragoza 50018 Spain;X-APPLE-RADIUS=500;X-TITLE=Calle de María Zambrano:geo:-0.8890395,41.6688123
END:VEVENT
BEGIN:VEVENT
DTSTART;TZID=Europe/Madrid:20241114T100000
DTEND;TZID=Europe/Madrid:20241114T150000
DTSTAMP:20260422T110830
CREATED:20241018T123225Z
LAST-MODIFIED:20241106T093048Z
UID:10002120-1731578400-1731596400@www.iacs.es
SUMMARY:Jornada IRASPROA 2024
DESCRIPTION:PRESENTACIÓN\nLa resistencia a los antibióticos es uno de los principales problemas de salud pública del siglo XXI a nivel global. El trabajo conjunto de profesionales e instituciones sanitarias es básico para su reducción. \nEn Aragón\, la estrategia IRASPROA para la vigilancia\, prevención y control de infecciones relacionadas con la asistencia sanitaria y optimización de uso de antibióticos\, cumple ya cinco años desde su puesta en marcha. Esta estrategia se encuentra vinculada con el programa PRAN desarrollado por la Agencia Española del Medicamento y Productos Sanitarios\, persiguiendo objetivos comunes de mejora en la prescripción de antibióticos para minimizar posibles resistencias. \nEsta jornada se organiza con la finalidad de actualizar los conocimientos de los profesionales de Atención Primaria y Atención Especializada sobre esta estrategia y consolidar el trabajo desarrollado en estos últimos años\, además de servir de foro de encuentro y participación para los sanitarios que han venido colaborando en su desarrollo. \nDIRIGIDO A\nProfesionales de Medicina\, Farmacia\, Odonto-estomatología y Enfermería. \n\n\n\n\n\n\n\n\n\n\nPROGRAMA\n10:00 – 10:15 Inauguración de la Jornada  \n10:15 – 11:00 Sesión magistral: La inteligencia artificial generativa en la optimización de procesos asistenciales (Gabriel Tirado. Medicina Intensiva. Hospital Royo Villanova). Modera: Coordinación IRASPROA \n11:00 – 12:15 ¿Qué hay de nuevo en…? (Moderan: Catalina Suso\, Equipo PROA Calatayud y Ana López\, Coordinación RedLabRa Aragón) \n\n\nResistencia a los antimicrobianos y “diagnostic stewardship” (Julio García Rodríguez. Servicio de Microbiología. Hospital Universitario La Paz) \n\n\nInfecciones y PROA en el hospital (Esther Calbo. Servicio de Enfermedades Infecciosas. Hospital Mutua de Terrassa) \n\n\nInfecciones y PROA en Atención Primaria (Jaime Bona. Médico de Familia. Unidad Docente Sector Zaragoza 3) \n\n\nPrevención y control de infecciones relacionadas con la asistencia sanitaria (Mª Dolores Martín. Jefe de Servicio de hospital Fundación Jiménez Diaz). \n\n\n12:15 a 12:45 Pausa-café \n12:45 a 14:30 Mesa redonda Quo vadis\, IRASPROA: Cuestión de estrategia. Moderan: Florencio García y Cristina Navarro.  Estrategia IRASPROA) \n\n\nIRASPROA dónde estamos (José Ramón Paño. Coordinación IRASPROA) \n\n\nLos laboratorios de Microbiología (Cristina Seral. Servicio de Microbiología. Hospital Clínico Universitario Lozano Blesa. Coordinación RedLabRA) \n\n\nSalud Pública y la resistencia a los antibióticos (Ponente pendiente de confirmar de Salud Pública) \n\n\nLos equipos IRAS (María Jesús Hernández. Servicio de Medicina Preventiva. Hospital Universitario Miguel Servet) \n\n\nLos equipos PROA de Atención Primaria (Belén Pina. Coordinadora de Equipo PROA Comunitario Sector Zaragoza 2) \n\n\nLos equipos PROA de Hospital (Rosa Martínez. Unidad de Enfermedades Infecciosas. Hospital Universitario Miguel Servet) \n\n\nDebate \n\n\n14:30 a 15:00 Síntesis y Cierre de la Jornada \n\n\n\n\n\n\n\n\n\n\n\n \n\n\n\n\n\n\n\n\n\n \n\n\n \n\n\nSESIÓN PRESENCIAL U ONLINE\nExiste la posibilidad de asistir a esta conferencia en dos modalidades: \n\n\nModalidad presencial: se celebrará en el Salón de Actos Manuel Lizalde\, de la Facultad de Educación de la Universidad de Zaragoza. C/ Pedro Cerbuna 12\, 50009 Zaragoza.  \n\n\nModalidad online: será emitida en directo para visualizar a distancia a través de Zoom. \n\n\nIMPORTANTE: hay que elegir únicamente una de las dos modalidades a la hora de inscribirse. \n\n\n\n\n\n\n\n\n\n\n\n \n\n\n\n\n\n\n\n\n\n \n\n\n \n\n\nACREDITACIÓN\nActividad solicitada para su acreditación por la Comisión de Formación Continuada de la Profesiones Sanitarias de Aragón.  \n\n\n\n\n\n\n\n\n\n\n\n \n\n\n\n\n\n\n\n\n\n \n\n\n \n\n\nLOCALIZACIÓN\nSalón de Actos Manuel Lizalde\, de la Facultad de Educación de la Universidad de Zaragoza. \nC/ Pedro Cerbuna 12\, 50009 Zaragoza \n\n\nSecretaría del evento:\nTfno: 976715899 \nMail: formacion.iacs@aragon.es \n\n\n\n\n\n\n\n\n\n			\n			\n				\n				\n				\n				\n				\n			\n				\n				\n				\n				\n			\n				\n				\n				\n				\n				\n				\n				PREINSCRÍBETE\n			\n			\n				\n				\n				\n				\n				\n				GUÍA DIDÁCTICA
URL:https://www.iacs.es/evento/jornada-irasproa-2024/
LOCATION:Facultad de Educación – Universidad de Zaragoza\, Campus San Francisco C/ Pedro Cerbuna\, 12\, Zaragoza\, Zaragoza\, 50009\, España
CATEGORIES:Formación,Noticia evento
GEO:41.6421442;-0.8996933
X-APPLE-STRUCTURED-LOCATION;VALUE=URI;X-ADDRESS=Facultad de Educación – Universidad de Zaragoza Campus San Francisco C/ Pedro Cerbuna 12 Zaragoza Zaragoza 50009 España;X-APPLE-RADIUS=500;X-TITLE=Campus San Francisco C/ Pedro Cerbuna\, 12:geo:-0.8996933,41.6421442
END:VEVENT
END:VCALENDAR