﻿BEGIN:VCALENDAR
VERSION:2.0
PRODID:-//IACS - ECPv6.15.11//NONSGML v1.0//EN
CALSCALE:GREGORIAN
METHOD:PUBLISH
X-WR-CALNAME:IACS
X-ORIGINAL-URL:https://www.iacs.es
X-WR-CALDESC:Eventos para IACS
REFRESH-INTERVAL;VALUE=DURATION:PT1H
X-Robots-Tag:noindex
X-PUBLISHED-TTL:PT1H
BEGIN:VTIMEZONE
TZID:Europe/Madrid
BEGIN:DAYLIGHT
TZOFFSETFROM:+0100
TZOFFSETTO:+0200
TZNAME:CEST
DTSTART:20230326T010000
END:DAYLIGHT
BEGIN:STANDARD
TZOFFSETFROM:+0200
TZOFFSETTO:+0100
TZNAME:CET
DTSTART:20231029T010000
END:STANDARD
BEGIN:DAYLIGHT
TZOFFSETFROM:+0100
TZOFFSETTO:+0200
TZNAME:CEST
DTSTART:20240331T010000
END:DAYLIGHT
BEGIN:STANDARD
TZOFFSETFROM:+0200
TZOFFSETTO:+0100
TZNAME:CET
DTSTART:20241027T010000
END:STANDARD
BEGIN:DAYLIGHT
TZOFFSETFROM:+0100
TZOFFSETTO:+0200
TZNAME:CEST
DTSTART:20250330T010000
END:DAYLIGHT
BEGIN:STANDARD
TZOFFSETFROM:+0200
TZOFFSETTO:+0100
TZNAME:CET
DTSTART:20251026T010000
END:STANDARD
BEGIN:DAYLIGHT
TZOFFSETFROM:+0100
TZOFFSETTO:+0200
TZNAME:CEST
DTSTART:20260329T010000
END:DAYLIGHT
BEGIN:STANDARD
TZOFFSETFROM:+0200
TZOFFSETTO:+0100
TZNAME:CET
DTSTART:20261025T010000
END:STANDARD
END:VTIMEZONE
BEGIN:VEVENT
DTSTART;TZID=Europe/Madrid:20240418T080000
DTEND;TZID=Europe/Madrid:20250506T170000
DTSTAMP:20260422T065211
CREATED:20240503T130743Z
LAST-MODIFIED:20250509T083537Z
UID:10002060-1713427200-1746550800@www.iacs.es
SUMMARY:Ciclo Horizonte Europa a tu alcance
DESCRIPTION:La Unidad de Proyectos del Instituto Aragonés de Ciencias de la Salud organiza en 2024 el ciclo de charlas Horizonte Europa a tu alcance\, centradas en ofrecer las claves a quienes quieran aprovechar las oportunidades que ofrece el Plan Horizonte Europa. A lo largo de más de una decena de sesiones\, se abordará desde cómo presentar las solicitudes y cómo desarrollar un plan de comunicación o cómo introducir los aspectos éticos en los proyectos.  \nEl ciclo de charlas Horizonte Europa a tu alcance\, que está abierto a toda la comunidad investigadora\, forma parte de la convocatoria Preparación y gestión de proyectos europeos y atracción de talento internacional 2023\, financiada por el Ministerio de Ciencia\, Innovación y Universidades. \n\n\n\n\n\nLos temas que se abordarán a lo largo del ciclo de charlas serán: \n\nFinanciación de la I+I en Horizonte Europa: ¿cómo aprovechar nuevas oportunidades de participación para su segunda parte 2025-2027?”\nConoce al detalle el Clúster de Salud de Horizonte Europa\nHorizonte Europa: entender los aspectos legales y financieros del programa para participar mejor\nConociendo en detalle el formulario de solicitud (“template”) de las propuestas Horizonte Europa\nHacía las nuevas convocatorias 2025 en el ámbito de la salud\nInclusión de la perspectiva de género en la investigación científica en salud\nCómo diseñar un plan de comunicación de un proyecto en Horizonte Europa\nEstrategias y habilidades para aprender a divulgar ciencia a la sociedad\nNovedades en el formulario sobre ética en Horizonte Europa\nInnovación Social en proyectos de investigación\nCómo elaborar el Data Management Plan de un proyecto europeo\n\n¡Esperamos que sean de vuestro interés! \nInscripciones abiertas en la sección de la Unidad de Proyectos de la web del IACS \n\n\n\n\n  \n\n\n\n\nEl ciclo de charlas “Horizonte Europa a tu alcance” es parte de la actuación GPE2023-001276-P (Convocatoria “Preparación y gestión de proyectos europeos y atracción de talento internacional 2023”)\, financiada por MICIU/AEI/10.13039/501100011033
URL:https://www.iacs.es/evento/ciclo-horizonte-europa-a-tu-alcance/
LOCATION:Salón de Actos Lorente de Nó- CIBA
CATEGORIES:Convocatoria - Jornadas y seminarios,Noticia evento,Taller proyectos
END:VEVENT
BEGIN:VEVENT
DTSTART;TZID=Europe/Madrid:20241202T160000
DTEND;TZID=Europe/Madrid:20241202T200000
DTSTAMP:20260422T065211
CREATED:20241107T111655Z
LAST-MODIFIED:20241202T121644Z
UID:10002129-1733155200-1733169600@www.iacs.es
SUMMARY:Jornada Prevención combinada en la respuesta frente al VIH y nuevos retos de futuro
DESCRIPTION:FECHA Y HORA\nLunes 2 de diciembre de 2024\, de 16:00 a 20:00 horas (se puede seguir de manera presencial o en directo por streaming (seleccionarlo en el formulario de preinscripción). \nPreinscripción abierta hasta el 26 de noviembre incluido. \n  \nPRESENTACIÓN\nLa prevención combinada es una estrategia fundamental en la respuesta frente al VIH\, ayudando a enfrentar los desafíos actuales en Salud Pública. Esta jornada\, dirigida a profesionales sanitarios y no sanitarios\, abordará temas clave como el diagnóstico precoz\, la profilaxis pre-exposición (PrEP) y la reducción del estigma asociado al VIH. \nLa jornada tiene como objetivo actualizar conocimientos y fomentar el intercambio de experiencias entre todos los actores que trabajan en la prevención y manejo del VIH\, promoviendo una respuesta basada en la dignidad y los derechos de las personas afectadas. \n  \nDIRIGIDO A\nProfesionales sanitarios y no sanitarios. \n  \nPROGRAMA\n16:00 – 16:10 Inauguración de la Jornada. Elena Gonzalvo\, Directora Gerente IACS. Nuria Gayán. Directora General Salud Pública \n16:10 – 16:50 Mesa 1: Nuevos retos. Ponentes: \n\nAna Clavería. Jefa de Servicio de Prevención y Programas de Salud Pública. Dirección General de Salud Pública\nCarmen Mesa Raya. Equipo investigador ChemSex\n\n16:50 – 17:30 | Mesa 2: Diagnóstico precoz y accesibilidad: pilares de la prevención combinada. Modera: María Pilar Acebes. Jefa de Sección Programas de Salud. Dirección General de Salud Pública. Ponentes: \n\nElena Navarro. Médico de Urgencias> Hospital Clínico Lozano Blesa\nNima Peyman-Fard. Médico de Atención Primaria. Centro de Salud Fuentes Norte\nDarwin Dario Zerpa Valero. Educador en Salud Sexual\, Centro Sociosanitario de carácter Comunitario (ZIPI)-Omsida\n\n17:30 a 18:00 Pausa-café \n18:00 a 18:50 Mesa 3: Abordaje del Manejo del VIH y Manejo de la profilaxis pre-exposicion (PrEP) al VIH. Modera: Isabel Sanjoaquín\, Facultativo Especialista en Enfermedades Infecciosas Hospital Clínico Universitario Lozano Blesa \n\nRosa Martínez\, Facultativo Especialista en Enfermedades Infecciosas Hospital Universitario Miguel Servet\nMaría José Crusells\, Facultativo Especialista en Enfermedades Infecciosas Hospital Clínico Universitario Lozano Blesa\nMercedes Gimeno\, Jefa de Sección Farmacia Hospitalaria Hospital Clínico Universitario Lozano Blesa\nHerminia Navarro\, Jefa de Sección Farmacia Hospitalaria Hospital Universitario Miguel Servet\n\n19:00 a 19:40 Mesa 4: Reducción del estigma y promoción de los derechos en la lucha contra el VIH. Modera: Wafa Ben Cheikh\, Representante Prevención VIH. Dirección General de Salud Pública. Ponentes: \n\nLuis Pradas\, Presidente de la Asociación Mucha Vihda\nJuan Diego\, Presidente de la Asociación Somos LGTB Aragón\nPiedad Arazo\, OMSIDA\nDavid Biel\, psicólogo y colaborador de OMSIDA\n\nSíntesis y Cierre de la Jornada \n  \nSESIÓN PRESENCIAL U ONLINE\nExiste la posibilidad de asistir a esta conferencia en dos modalidades: \n\nModalidad presencial: se celebrará en el Salón de Actos Lorente de No\, del Centro de Investigación Biomédica de Aragón. Avda. San Juan Bosco\, 13\, 50.009 Zaragoza\nModalidad online: será emitida en directo para visualizar a distancia a través de Zoom.\n\nIMPORTANTE: hay que elegir únicamente una de las dos modalidades a la hora de inscribirse. \n  \nACREDITACIÓN\nActividad solicitada para su acreditación por la Comisión de Formación Continuada de la Profesiones Sanitarias de Aragón. \n  \nLOCALIZACIÓN\nSalón de Actos Lorente de No\, del Centro de Investigación Biomédica de Aragón. \nAvenida San Juan Bosco\, 13\, 50009 Zaragoza \n  \nSECRETARÍA DEL EVENTO\nTfno: 976715899 \nMail: formacion.iacs@aragon.es \n			\n			\n				\n				\n				\n				\n			\n				\n				\n				\n				\n				\n				\n				\n				\n				\n				\n				\n\n\n\n\n\n\n\n\n \n\n\n\n\n\n\n\n\n\n\n\n\n\n\n\n\n\n\n\nORGANIZACIÓN\n\nActividad organizada por el Instituto Aragonés de Ciencias de la Salud en colaboración con la Dirección General de Salud Pública \n\n\n\n\n\n\n\n\n\n\n			\n			\n				\n				\n				\n				\n				\n			\n				\n				\n				\n				\n			\n				\n				\n				\n				\n				\n				\n				PREINSCRÍBETE\n			\n			\n				\n				\n				\n				\n				\n				GUÍA DIDÁCTICA
URL:https://www.iacs.es/evento/jornada-prevencion-combinada-en-la-respuesta-frente-al-vih-y-nuevos-retos-de-futuro/
LOCATION:Salón de Actos Lorente de Nó- CIBA
CATEGORIES:Formación,Noticia evento
END:VEVENT
BEGIN:VEVENT
DTSTART;TZID=Europe/Madrid:20241211T103000
DTEND;TZID=Europe/Madrid:20241211T120000
DTSTAMP:20260422T065211
CREATED:20241126T112353Z
LAST-MODIFIED:20241128T075343Z
UID:10002131-1733913000-1733918400@www.iacs.es
SUMMARY:Cómo elaborar el Data Management Plan de un proyecto europeo
DESCRIPTION:La Unidad de Proyectos del Instituto Aragonés de Ciencias de la Salud organiza en 2024 el ciclo de charlas Horizonte Europa a tu alcance\, centradas en ofrecer las claves a quienes quieran aprovechar las oportunidades que ofrece el Plan Horizonte Europa. Abierto a toda la comunidad investigadora\, forma parte de la convocatoria Preparación y gestión de proyectos europeos y atracción de talento internacional 2023\, financiada por el Ministerio de Ciencia\, Innovación y Universidades. \nLa próxima charla será el 11 de diciembre\, con el título «Cómo elaborar el Data Management Plan de un proyecto europeo». Las inscripciones están abiertas en este formulario. \n\n\n\n\n\nNadia Tonello (Head of Data Management\, Barcelona Supercomputing Center) es Doctora en Física por la Universidad Técnica de Munich (TUM)\, con un trabajo de investigación en Astrofísica de Partículas realizado en el Max-Planck-Institut für Physik de Munich (Alemania). Tiene una especialización en Big Data\, y experiencia como Data Scientist y como formadora en gestión de datos científicos. Desde septiembre 2018 lidera el grupo de Data Management en el Barcelona Supercomputing Center – Centro Nacional de Supercomputación (BSC). \nEn esta charla nos explicará las claves para elaborar un Plan de Gestión de Datos efectivo en el contexto de proyectos europeos ofreciendo herramientas y consejos prácticos para resolver los desafíos más comunes que enfrentan los investigadores al preparar esta sección de sus propuestas y durante la ejecución del proyecto. Abordaremos los conceptos fundamentales de los principios FAIR y las buenas prácticas que permiten asegurar la calidad y accesibilidad de los datos de investigación. \nEl evento se celebrará exclusivamente online el 11 de diciembre de 2024 a las 10:30 en el enlace que se facilitará a las personas inscritas. \n¡Esperamos que sean de vuestro interés! \n\n\n\n\n  \n\n\n\n\nEl ciclo de charlas “Horizonte Europa a tu alcance” es parte de la actuación GPE2023-001276-P (Convocatoria “Preparación y gestión de proyectos europeos y atracción de talento internacional 2023”)\, financiada por MICIU/AEI/10.13039/501100011033
URL:https://www.iacs.es/evento/como-elaborar-el-data-management-plan-de-un-proyecto-europeo/
LOCATION:Online\, San Juan Bosco\, 13\, Zaragoza\, Zaragoza\, 50009\, España
CATEGORIES:Convocatoria - Jornadas y seminarios,Noticia evento
GEO:41.6437186;-0.9023079
X-APPLE-STRUCTURED-LOCATION;VALUE=URI;X-ADDRESS=Online San Juan Bosco 13 Zaragoza Zaragoza 50009 España;X-APPLE-RADIUS=500;X-TITLE=San Juan Bosco\, 13:geo:-0.9023079,41.6437186
END:VEVENT
BEGIN:VEVENT
DTSTART;TZID=Europe/Madrid:20241220T120000
DTEND;TZID=Europe/Madrid:20241220T131500
DTSTAMP:20260422T065211
CREATED:20241218T113845Z
LAST-MODIFIED:20241218T113855Z
UID:10002139-1734696000-1734700500@www.iacs.es
SUMMARY:Introduction to the PROCURE Community of Interest Forum: Shaping a future of more effective and resilient healthcare procurement systems
DESCRIPTION:The PROCURE’s project goal is to make current healthcare procurement practices more resilient and efficient across the European Union\, and to ensure that public health and care procurement systems can respond to future emergency crises & pandemics. \nBy identifying how procurement strategies\, plans\, policies and processes were incorporated into public procurement in response to the COVID-19 pandemic\, we will be able to detail the lessons learned for healthcare procurement in response to emergency crises and make considered recommendations to strengthen the capabilities of healthcare procurers. \nThe consortium is made up by 26 partners\, including the Servicio Aragonés de Salud (SALUD)\, and the Instituto Aragonés de Ciencias de la Salud\, that leads the  WP3 (Identifying key elements for successful public procurement practices in the healthcare sector (Delphi methodology). \nPROCURE Community of Interest Forum (CoIF): Shaping a future of more effective and resilient healthcare procurement systems \n📢 Join us for the launch of the PROCURE Community of Interest Forum -CoIF!🗓️ Webinar: Friday\, 20th December 2024⏰ Time: 12:00 CET \nThis webinar will provide an overview of the CoIF\, its objectives\, benefits and how you can get involved in the Forum. \nBe part of a transformative journey to improve healthcare procurement practices across Europe. This is your chance to collaborate\, share insights\, and contribute to building resilient and effective procurement systems. \n💡 Your voice matters! \n📌 Link for enrolment and participation: https://events.teams.microsoft.com/event/a81c240f-ea9a-4eca-b11f-1aacbdf6c951@f809462c-1a2d-49b2-a61c-91a1670ddb5f \nJoin the PROCURE Community! \nAGENDA \n\n12.00 Welcome to the First CoIF Webinar\n12.05 Introduction to PROCURE Project\n12.10 What the CoIf is\n12.20   Thematic Area 1: Procurement Practices\n12.30   Thematic Area 2: Covid crisis lessons learnt\n12.40   Thematic Area 3: Security of supply\n12.50   Thematic Area 4: Sustainable procurement\n13.00   Thematic Area 5: Public procurement of Innovation\n13.10   Questions\n13.15   Wrap up\n\n 
URL:https://www.iacs.es/evento/introduction-to-the-procure-community-of-interest-forum-shaping-a-future-of-more-effective-and-resilient-healthcare-procurement-systems/
LOCATION:Online\, San Juan Bosco\, 13\, Zaragoza\, Zaragoza\, 50009\, España
CATEGORIES:Noticia evento
GEO:41.6437186;-0.9023079
X-APPLE-STRUCTURED-LOCATION;VALUE=URI;X-ADDRESS=Online San Juan Bosco 13 Zaragoza Zaragoza 50009 España;X-APPLE-RADIUS=500;X-TITLE=San Juan Bosco\, 13:geo:-0.9023079,41.6437186
END:VEVENT
BEGIN:VEVENT
DTSTART;TZID=Europe/Madrid:20241223T090000
DTEND;TZID=Europe/Madrid:20241223T140000
DTSTAMP:20260422T065211
CREATED:20241028T121327Z
LAST-MODIFIED:20241122T082130Z
UID:10002123-1734944400-1734962400@www.iacs.es
SUMMARY:VIII Encuentro Jóvenes Investigadores en el Extranjero
DESCRIPTION:El Centro de Investigación Biomédica de Aragón vuelve a acoger el Encuentro de Jóvenes Investigadores por el mundo\, que cumple ocho años de vida\, y para el que ya se ha abierto el plazo de inscripción. La cita será el 23 de diciembre en Zaragoza. \nEste encuentro se ha convertido ya en uno de los referentes de Aragón dentro de la comunidad científica y\, especialmente\, entre quienes buscan nuevas oportunidades laborales. El objetivo es establecer sinergias entre los grupos y centros de investigación\, especialmente aragoneses\, con aquellos jóvenes que están desarrollando su carrera científica fuera de nuestras fronteras y quieren conocer las oportunidades que hay para volver a España. \nPara todos ellos\, el comité científico ha abierto el plazo para presentar candidaturas a ponente. Se buscan perfiles de jóvenes que estén desarrollando su investigación fuera de nuestras fronteras en cualquier área\, aunque por la naturaleza de los organizadores se priorizan los relacionados con biomedicina. Quienes quieran optar a contar su trabajo y a darse a conocer entre los grupo y centros de investigación asistentes\, deberán rellenar un formulario. En él será necesario incluir sus datos de contacto\, su currículo y un breve resumen de la investigación que están llevando a cabo en sus centros de origen y de la que quieran hablar en la cita. \nTambién es el foro ideal para los estudiantes que deseen profundizar en la opción de la investigación como salida laboral. \nWeb del evento:https://www.iacs.es/viii-encuentro-de-jovenes-investigadores-en-el-extranjero-2024/​
URL:https://www.iacs.es/evento/viii-encuentro-jovenes-investigadores-en-el-extranjero/
LOCATION:CIBA\, San Juan Bosco 13\, Zaragoza\, Zaragoza\, 50009\, España
CATEGORIES:Noticia evento
GEO:40.463667;-3.74922
X-APPLE-STRUCTURED-LOCATION;VALUE=URI;X-ADDRESS=CIBA San Juan Bosco 13 Zaragoza Zaragoza 50009 España;X-APPLE-RADIUS=500;X-TITLE=San Juan Bosco 13:geo:-3.74922,40.463667
END:VEVENT
END:VCALENDAR