﻿BEGIN:VCALENDAR
VERSION:2.0
PRODID:-//IACS - ECPv6.15.11//NONSGML v1.0//EN
CALSCALE:GREGORIAN
METHOD:PUBLISH
X-ORIGINAL-URL:https://www.iacs.es
X-WR-CALDESC:Eventos para IACS
REFRESH-INTERVAL;VALUE=DURATION:PT1H
X-Robots-Tag:noindex
X-PUBLISHED-TTL:PT1H
BEGIN:VTIMEZONE
TZID:Europe/Madrid
BEGIN:DAYLIGHT
TZOFFSETFROM:+0100
TZOFFSETTO:+0200
TZNAME:CEST
DTSTART:20230326T010000
END:DAYLIGHT
BEGIN:STANDARD
TZOFFSETFROM:+0200
TZOFFSETTO:+0100
TZNAME:CET
DTSTART:20231029T010000
END:STANDARD
BEGIN:DAYLIGHT
TZOFFSETFROM:+0100
TZOFFSETTO:+0200
TZNAME:CEST
DTSTART:20240331T010000
END:DAYLIGHT
BEGIN:STANDARD
TZOFFSETFROM:+0200
TZOFFSETTO:+0100
TZNAME:CET
DTSTART:20241027T010000
END:STANDARD
BEGIN:DAYLIGHT
TZOFFSETFROM:+0100
TZOFFSETTO:+0200
TZNAME:CEST
DTSTART:20250330T010000
END:DAYLIGHT
BEGIN:STANDARD
TZOFFSETFROM:+0200
TZOFFSETTO:+0100
TZNAME:CET
DTSTART:20251026T010000
END:STANDARD
BEGIN:DAYLIGHT
TZOFFSETFROM:+0100
TZOFFSETTO:+0200
TZNAME:CEST
DTSTART:20260329T010000
END:DAYLIGHT
BEGIN:STANDARD
TZOFFSETFROM:+0200
TZOFFSETTO:+0100
TZNAME:CET
DTSTART:20261025T010000
END:STANDARD
END:VTIMEZONE
BEGIN:VEVENT
DTSTART;TZID=Europe/Madrid:20240418T080000
DTEND;TZID=Europe/Madrid:20250506T170000
DTSTAMP:20260421T163559
CREATED:20240503T130743Z
LAST-MODIFIED:20250509T083537Z
UID:10002060-1713427200-1746550800@www.iacs.es
SUMMARY:Ciclo Horizonte Europa a tu alcance
DESCRIPTION:La Unidad de Proyectos del Instituto Aragonés de Ciencias de la Salud organiza en 2024 el ciclo de charlas Horizonte Europa a tu alcance\, centradas en ofrecer las claves a quienes quieran aprovechar las oportunidades que ofrece el Plan Horizonte Europa. A lo largo de más de una decena de sesiones\, se abordará desde cómo presentar las solicitudes y cómo desarrollar un plan de comunicación o cómo introducir los aspectos éticos en los proyectos.  \nEl ciclo de charlas Horizonte Europa a tu alcance\, que está abierto a toda la comunidad investigadora\, forma parte de la convocatoria Preparación y gestión de proyectos europeos y atracción de talento internacional 2023\, financiada por el Ministerio de Ciencia\, Innovación y Universidades. \n\n\n\n\n\nLos temas que se abordarán a lo largo del ciclo de charlas serán: \n\nFinanciación de la I+I en Horizonte Europa: ¿cómo aprovechar nuevas oportunidades de participación para su segunda parte 2025-2027?”\nConoce al detalle el Clúster de Salud de Horizonte Europa\nHorizonte Europa: entender los aspectos legales y financieros del programa para participar mejor\nConociendo en detalle el formulario de solicitud (“template”) de las propuestas Horizonte Europa\nHacía las nuevas convocatorias 2025 en el ámbito de la salud\nInclusión de la perspectiva de género en la investigación científica en salud\nCómo diseñar un plan de comunicación de un proyecto en Horizonte Europa\nEstrategias y habilidades para aprender a divulgar ciencia a la sociedad\nNovedades en el formulario sobre ética en Horizonte Europa\nInnovación Social en proyectos de investigación\nCómo elaborar el Data Management Plan de un proyecto europeo\n\n¡Esperamos que sean de vuestro interés! \nInscripciones abiertas en la sección de la Unidad de Proyectos de la web del IACS \n\n\n\n\n  \n\n\n\n\nEl ciclo de charlas “Horizonte Europa a tu alcance” es parte de la actuación GPE2023-001276-P (Convocatoria “Preparación y gestión de proyectos europeos y atracción de talento internacional 2023”)\, financiada por MICIU/AEI/10.13039/501100011033
URL:https://www.iacs.es/evento/ciclo-horizonte-europa-a-tu-alcance/
LOCATION:Salón de Actos Lorente de Nó- CIBA
CATEGORIES:Convocatoria - Jornadas y seminarios,Noticia evento,Taller proyectos
END:VEVENT
BEGIN:VEVENT
DTSTART;TZID=Europe/Madrid:20250304T103000
DTEND;TZID=Europe/Madrid:20250304T120000
DTSTAMP:20260421T163559
CREATED:20250217T095623Z
LAST-MODIFIED:20250217T172011Z
UID:10002152-1741084200-1741089600@www.iacs.es
SUMMARY:Cómo diseñar un plan de comunicación de un proyecto Horizonte Europa
DESCRIPTION:Desde la Oficina de Proyectos del Instituto Aragonés de Ciencias de la Salud os invitamos al siguiente seminario del ciclo “Horizonte Europa a tu alcance”: \n“Cómo diseñar un plan de comunicación de un proyecto Horizonte Europa”   \nAlejandra Campos es doctora en Comunicación por la Universidad Pompeu Fabra e Ingeniera informática. Es senior advisor de la Oficina de Proyectos Internacionales de la Universidad Autónoma de Barcelona y desde 2012 asesora de personal investigador en proyectos competitivos\, principalmente en convocatorias de programas marco europeos e internacionales. Alejandra se ha especializado en estrategia de comunicación de la ciencia y en esta charla presentará una herramienta conceptual SCICOMM-Tool que permite empoderar a personas investigadoras y gestoras de proyectos\, no necesariamente expertas en comunicación\, para diseñar la estrategia y el plan de comunicación de un proyecto de investigación (en línea con el desarrollo de competencias de EU RMComp y ResearchComp). \nEl evento se celebrará el 4 de marzo de 2025 a las 10:30 y tendrá carácter híbrido\, tanto presencial en el Salón de Actos del CIBA\, como on-line en el enlace que se facilitará a las personas inscritas. \nPara participar\, os pedimos que os registréis a través de este formulario. \n			\n			\n				\n				\n				\n				\n			\n				\n				\n				\n				\n				\n				\n				\n				\n				\n				\n				Esta actividad es parte de la actuación GPE2023-001276-P (Convocatoria “Preparación y gestión de proyectos europeos y atracción de talento internacional 2023”)\, financiada por MICIU/AEI/10.13039/501100011033. \n 
URL:https://www.iacs.es/evento/como-disenar-un-plan-de-comunicacion-de-un-proyecto-horizonte-europa/
LOCATION:Salón de Actos Lorente de Nó- CIBA
CATEGORIES:Convocatoria - Jornadas y seminarios,Noticia evento,Taller proyectos
END:VEVENT
BEGIN:VEVENT
DTSTART;TZID=Europe/Madrid:20250306T164500
DTEND;TZID=Europe/Madrid:20250306T201500
DTSTAMP:20260421T163600
CREATED:20250214T110254Z
LAST-MODIFIED:20250219T184541Z
UID:10002147-1741279500-1741292100@www.iacs.es
SUMMARY:II Jornada Salud con perspectiva desde Atención Primaria: Decisiones compartidas en endometriosis
DESCRIPTION:La endometriosis es una enfermedad prevalente que afecta al 10% de las mujeres en edad fértil\, alcanzando hasta un 30-50% en mujeres con infertilidad o dolor crónico. Su variada presentación clínica y síntomas que se solapan con otras patologías provocan retrasos en el diagnóstico\, impactando negativamente en la calidad de vida de las pacientes. Es crucial un diagnóstico precoz y una atención integral y multidisciplinar. \nEn 2022\, Aragón actualizó el Programa de Atención a la Endometriosis\, un documento consensuado por especialistas que guía el diagnóstico y tratamiento en centros de Atención Primaria y hospitales\, avalado por sociedades científicas y asociaciones de pacientes. \nLa jornada busca difundir este programa\, actualizar conocimientos en el manejo de la enfermedad y responder a demandas sociales lideradas por asociaciones de pacientes. \nJornada dirigida a profesionales sanitarios (Medicina\, Enfermería) que trabajan en el Sistema Aragonés de Salud.  \nOrganizada por el Instituto Aragonés de Ciencias de la Salud con la colaboración de Organon. \nPrograma e inscripciones
URL:https://www.iacs.es/evento/ii-jornada-salud-con-perspectiva-desde-atencion-primaria-decisiones-compartidas-en-endometriosis/
LOCATION:Salón de Actos Lorente de Nó- CIBA
CATEGORIES:Noticia evento
END:VEVENT
BEGIN:VEVENT
DTSTART;TZID=Europe/Madrid:20250307T163000
DTEND;TZID=Europe/Madrid:20250307T192000
DTSTAMP:20260421T163600
CREATED:20250221T145624Z
LAST-MODIFIED:20250303T141348Z
UID:10002154-1741365000-1741375200@www.iacs.es
SUMMARY:Jornada Día Mundial Enfermedades Raras Aragón
DESCRIPTION:7 marzo 2025\, 16.30 horas \nSala de la Corona. Edificio Pignatelli del Gobierno de Aragón. Pº. Mª. Agustín\, 36 Zaragoza \nCon motivo del Día Mundial de las Enfermedades Raras\, el Departamento de Sanidad del Gobierno de Aragón organiza esta jornada en Aragón para visibilizar la realidad de los pacientes y sus familias\, así como los retos que enfrentan los profesionales sanitarios en el diagnóstico\, tratamiento e investigación. A través de ponencias y mesas de debate\, se abordarán los últimos avances científicos\, el acceso a terapias innovadoras y la importancia de la coordinación entre los distintos niveles asistenciales. Con esta jornada se quiere crear un espacio de encuentro para profesionales\, pacientes y asociaciones\, donde compartir experiencias\, conocer los últimos avances y reflexionar juntos sobre cómo mejorar la atención y la calidad de vida de quienes conviven con estas patologías. \n\n\n\n\n\n\n\n\n\n\nEsta jornada está abierta a profesionales\, pacientes\, familiares y cualquier persona interesada en conocer más sobre las enfermedades raras y cómo podemos mejorar la atención y la calidad de vida de quienes las viven día a día. \n\n\n\n\n\n\n\n\n\n\n			\n				¡Inscríbete hasta el 5 de marzo!
URL:https://www.iacs.es/evento/jornada-dia-mundial-enfermedades-raras-aragon/
LOCATION:Sala de la Corona\, Paseo María Agustín 36\, Zaragoza\, Zaragoza\, España
CATEGORIES:Noticia evento
GEO:41.6533121;-0.8908307
X-APPLE-STRUCTURED-LOCATION;VALUE=URI;X-ADDRESS=Sala de la Corona Paseo María Agustín 36 Zaragoza Zaragoza España;X-APPLE-RADIUS=500;X-TITLE=Paseo María Agustín 36:geo:-0.8908307,41.6533121
END:VEVENT
BEGIN:VEVENT
DTSTART;TZID=Europe/Madrid:20250311T100000
DTEND;TZID=Europe/Madrid:20250311T170000
DTSTAMP:20260421T163600
CREATED:20250307T112950Z
LAST-MODIFIED:20250307T114326Z
UID:10002159-1741687200-1741712400@www.iacs.es
SUMMARY:Seminario "Casos de fracaso. Principales preocupaciones en relación con la seguridad en el suministro"
DESCRIPTION:Seminario «Casos de fracaso. Principales preocupaciones en relación con la seguridad en el suministro» \nEn el marco del COIF (Foro de la Comunidad de Interés) del proyecto PROCURE\, el IACS es responsable del área temática 3: seguridad en el suministro. Con el fin de compartir conocimiento\, promover el debate y el intercambio de opiniones\, se va a celebrar un webinar interactivo en el que se abordarán temas relacionados con la prevención de roturas de stock\, etc. \nSeminario Casos de “fracaso”. Principales preocupaciones en relación con la seguridad en el suministro: Enlace de inscripción \nEn el webinar\, se debatirán los principales retos a la hora de garantizar la disponibilidad y accesibilidad de los servicios y productos sanitarios durante las emergencias. La sesión explorará estrategias para gestionar los recursos en diferentes niveles de crisis y amenazas sanitarias. \nDatos de acceso al webinar (en inglés): \n📅 Date: 11th March\, 10:00 CET\n🔹 Topic: Security of Supply – Key Concerns and Lessons Learned\n🔗 Register here
URL:https://www.iacs.es/evento/seminario-casos-de-fracaso-principales-preocupaciones-en-relacion-con-la-seguridad-en-el-suministro/
LOCATION:Online\, San Juan Bosco\, 13\, Zaragoza\, Zaragoza\, 50009\, España
CATEGORIES:Noticia evento
GEO:41.6437186;-0.9023079
X-APPLE-STRUCTURED-LOCATION;VALUE=URI;X-ADDRESS=Online San Juan Bosco 13 Zaragoza Zaragoza 50009 España;X-APPLE-RADIUS=500;X-TITLE=San Juan Bosco\, 13:geo:-0.9023079,41.6437186
END:VEVENT
BEGIN:VEVENT
DTSTART;TZID=Europe/Madrid:20250317T080000
DTEND;TZID=Europe/Madrid:20251016T235900
DTSTAMP:20260421T163600
CREATED:20250319T110259Z
LAST-MODIFIED:20250908T082714Z
UID:10002164-1742198400-1760659140@www.iacs.es
SUMMARY:La Cátedra IACS convoca la cuarta edición del premio Amparo Poch de CPI en Salud
DESCRIPTION:La Cátedra IACS de Compra Pública de Innovación (CPI) en Salud convoca la cuarta edición del premio Amparo Poch\, con el que se pretende reconocer a los mejores proyectos\, iniciativas y estrategias de Compra Pública de Innovación (CPI) en el sector salud\, diferenciando las etapas clave del proceso y destacando el impacto obtenido en la mejora de los servicios de salud\, el desarrollo tecnológico y la satisfacción de los pacientes. \nEsta edición incluye tres modalidades cuyas bases completas pueden consultarse en la página web de la Cátedra. \nLa primera modalidad\, “Administración Pública – Etapas Tempranas y estrategias de CPI”\, cuenta con el patrocinio del Centro para el Desarrollo Tecnológico y la Innovación (CDTI)\, y está dirigida a proyectos en etapas iniciales de Compra Pública Pre-Comercial (CPP) y/o iniciativas que hayan mostrado avances significativos en la planificación\, estructuración\, o diseño de procesos\, sandbox y/o entornos regulatorios de CPI en salud. \nLa segunda modalidad\, “Administración Pública – Desarrollo Tecnológico TRL 6-8”\, está enfocada a proyectos que han alcanzado un nivel tecnológico intermedio\, con prototipos validados en entornos relevantes (TRLs 6-8). \nPor último\, podrán optar a la tercera modalidad\, “Administración Pública y Empresas – TRL 8-9 y Escalado”\, proyectos con un alto nivel de madurez tecnológica (TRLs 8-9)\, que ya han sido implantados o escalados\, incluyendo desarrollos organizativos o de negocio. Esta modalidad cuenta con dos subcategorías\, Administración Pública y Empresas. \nEl plazo de presentación de los proyectos está abierto hasta el 26 de septiembre de 2025 a través de la página web cpi.aragon.es/catedraiacs/premios-amparo-poch/. \nLa información relativa a los candidatos ganadores seleccionados para  cada una de las modalidades se publicará en el portal oficial de la convocatoria\, el día 26 de septiembre de 2025. \nPara poder optar al premio\, al menos un miembro de la entidad que se presenta deberá estar previamente inscrito en el VIII Congreso de la Cátedra IACS de CPI en Salud que se celebrará los días 15 y 16 de octubre de 2025.  \nSobre la Cátedra IACS \nLa Cátedra IACS forma parte de la estrategia de impulso y consolidación de la Compra Pública de Innovación en el Departamento de Salud del Gobierno de Aragón como un instrumento vital para asegurar que las necesidades públicas de salud se satisfacen mediante soluciones inteligentes e innovadoras. \nCon ella\, el Instituto Aragonés de Ciencias de la Salud y la Universidad de Zaragoza pretenden desarrollar un proyecto conjunto de formación\, investigación\, transferencia de tecnología y conocimiento con la finalidad de generar e intercambiar conocimiento en este ámbito. \nLos Premios Amparo Poch fueron creados por la Cátedra IACS de CPI en Salud en el año 2018 como homenaje a la doctora Amparo Poch y Gastón\, pionera en la práctica de la medicina y en la promoción de la salud.
URL:https://www.iacs.es/evento/la-catedra-iacs-convoca-la-cuarta-edicion-del-premio-amparo-poch-de-cpi-en-salud/
LOCATION:Zaragoza
CATEGORIES:Noticia evento
ORGANIZER;CN="C%C3%A1tedra IACS de CPI en Salud":MAILTO:innovacion.iacs@aragon.es
END:VEVENT
BEGIN:VEVENT
DTSTART;TZID=Europe/Madrid:20250319T100000
DTEND;TZID=Europe/Madrid:20250319T120000
DTSTAMP:20260421T163600
CREATED:20250313T144233Z
LAST-MODIFIED:20250313T144627Z
UID:10002163-1742378400-1742385600@www.iacs.es
SUMMARY:Seminario "Casos de éxito: buenas prácticas y mejoras"
DESCRIPTION:En el marco del COIF (Foro de la Comunidad de Interés) del proyecto PROCURE\, el IACS es responsable del área temática 3: seguridad en el suministro. \nCon el fin de compartir conocimiento\, promover el debate y el intercambio de opiniones\, se va a celebrar el webinar interactivo «Casos de éxito: buenas prácticas y mejoras». \n¿Cómo garantizar la disponibilidad y accesibilidad de los servicios y productos sanitarios durante las emergencias? Este seminario web explorará los mecanismos clave para gestionar eficazmente los recursos en distintos niveles de crisis y amenazas para la salud. \nDatos de acceso al webinar (en inglés): \nSuccess stories: good practices and improvement.🗓 Date: 19 March⏰ Time: 10:00 CET📍 Where: Online \n🔗 Register here
URL:https://www.iacs.es/evento/seminario-casos-de-exito-buenas-practicas-y-mejoras/
LOCATION:Online\, San Juan Bosco\, 13\, Zaragoza\, Zaragoza\, 50009\, España
CATEGORIES:Noticia evento
GEO:41.6437186;-0.9023079
X-APPLE-STRUCTURED-LOCATION;VALUE=URI;X-ADDRESS=Online San Juan Bosco 13 Zaragoza Zaragoza 50009 España;X-APPLE-RADIUS=500;X-TITLE=San Juan Bosco\, 13:geo:-0.9023079,41.6437186
END:VEVENT
END:VCALENDAR