﻿BEGIN:VCALENDAR
VERSION:2.0
PRODID:-//IACS - ECPv6.15.11//NONSGML v1.0//EN
CALSCALE:GREGORIAN
METHOD:PUBLISH
X-WR-CALNAME:IACS
X-ORIGINAL-URL:https://www.iacs.es
X-WR-CALDESC:Eventos para IACS
REFRESH-INTERVAL;VALUE=DURATION:PT1H
X-Robots-Tag:noindex
X-PUBLISHED-TTL:PT1H
BEGIN:VTIMEZONE
TZID:Europe/Helsinki
BEGIN:DAYLIGHT
TZOFFSETFROM:+0200
TZOFFSETTO:+0300
TZNAME:EEST
DTSTART:20180325T010000
END:DAYLIGHT
BEGIN:STANDARD
TZOFFSETFROM:+0300
TZOFFSETTO:+0200
TZNAME:EET
DTSTART:20181028T010000
END:STANDARD
BEGIN:DAYLIGHT
TZOFFSETFROM:+0200
TZOFFSETTO:+0300
TZNAME:EEST
DTSTART:20190331T010000
END:DAYLIGHT
BEGIN:STANDARD
TZOFFSETFROM:+0300
TZOFFSETTO:+0200
TZNAME:EET
DTSTART:20191027T010000
END:STANDARD
BEGIN:DAYLIGHT
TZOFFSETFROM:+0200
TZOFFSETTO:+0300
TZNAME:EEST
DTSTART:20200329T010000
END:DAYLIGHT
BEGIN:STANDARD
TZOFFSETFROM:+0300
TZOFFSETTO:+0200
TZNAME:EET
DTSTART:20201025T010000
END:STANDARD
END:VTIMEZONE
BEGIN:VEVENT
DTSTART;TZID=Europe/Helsinki:20190930T160000
DTEND;TZID=Europe/Helsinki:20191002T200000
DTSTAMP:20260422T155811
CREATED:20190729T122527Z
LAST-MODIFIED:20190729T122910Z
UID:10001463-1569859200-1570046400@www.iacs.es
SUMMARY:Habilidades quirúrgicas. Suturas manuales para personal de enfermería.
DESCRIPTION:La necesidad en la práctica sanitaria de atender pacientes con heridas cutáneas de mayor o menor complejidad\, que precisan de reparación quirúrgica\, hace imprescindible\, para poder efectuarla correctamente\, el tener un conocimiento de los diferentes materiales necesarios para ello\, así como de los distintos tipos de suturas. Este curso\, eminentemente práctico\, hace inicialmente un repaso a los distintos hilos de sutura\, con sus indicaciones\, ventajas e inconvenientes\, una exposición de las diferentes técnicas de sutura\, así como unos conocimientos básicos de las agujas quirúrgicas\, tipos y manejo\, y una introducción a las técnicas de anestesia local. \nGuiaDidactica_Suturas manuales DUE-DEF
URL:https://www.iacs.es/evento/habilidades-quirurgicas-suturas-manuales-personal-enfermeria/
LOCATION:San Juan Bosco\, 13\, Zaragoza\, Zaragoza\, 50009\, España
CATEGORIES:Cirugía Experimental,Formación
END:VEVENT
END:VCALENDAR