﻿BEGIN:VCALENDAR
VERSION:2.0
PRODID:-//IACS - ECPv6.15.11//NONSGML v1.0//EN
CALSCALE:GREGORIAN
METHOD:PUBLISH
X-WR-CALNAME:IACS
X-ORIGINAL-URL:https://www.iacs.es
X-WR-CALDESC:Eventos para IACS
REFRESH-INTERVAL;VALUE=DURATION:PT1H
X-Robots-Tag:noindex
X-PUBLISHED-TTL:PT1H
BEGIN:VTIMEZONE
TZID:Europe/Madrid
BEGIN:DAYLIGHT
TZOFFSETFROM:+0100
TZOFFSETTO:+0200
TZNAME:CEST
DTSTART:20210328T010000
END:DAYLIGHT
BEGIN:STANDARD
TZOFFSETFROM:+0200
TZOFFSETTO:+0100
TZNAME:CET
DTSTART:20211031T010000
END:STANDARD
BEGIN:DAYLIGHT
TZOFFSETFROM:+0100
TZOFFSETTO:+0200
TZNAME:CEST
DTSTART:20220327T010000
END:DAYLIGHT
BEGIN:STANDARD
TZOFFSETFROM:+0200
TZOFFSETTO:+0100
TZNAME:CET
DTSTART:20221030T010000
END:STANDARD
BEGIN:DAYLIGHT
TZOFFSETFROM:+0100
TZOFFSETTO:+0200
TZNAME:CEST
DTSTART:20230326T010000
END:DAYLIGHT
BEGIN:STANDARD
TZOFFSETFROM:+0200
TZOFFSETTO:+0100
TZNAME:CET
DTSTART:20231029T010000
END:STANDARD
END:VTIMEZONE
BEGIN:VEVENT
DTSTART;TZID=Europe/Madrid:20221011T080000
DTEND;TZID=Europe/Madrid:20221124T170000
DTSTAMP:20260421T012938
CREATED:20220927T101220Z
LAST-MODIFIED:20220927T101916Z
UID:10001714-1665475200-1669309200@www.iacs.es
SUMMARY:De la idea al plan estratégico: formación en emprendimiento
DESCRIPTION:Desde la Comisión de Fomento de la Plataforma ITEMAS (https://itemas.org/) y en colaboración con la Escuela de Negocios de PONS IP se van a realizar dos acciones formativas con el objetivo de fomentar el emprendimiento (poner en el mercado la innovación de manera eficaz y coherente) en el personal sanitario. Ambas acciones se pueden realizar de forma independiente o conjunta. \nEl Instituto Aragonés de Ciencias de la Salud\, a través de su Unidad de Innovación\, va a financiar 5 becas para el personal sanitario interesado en la realización de este itinerario formativo. La beca cubre los gastos de realización de esta formación valorada en 500€ en su conjunto. \nLos interesados pueden remitir un correo electrónico a innovacion.iacs@aragon.es antes del martes 4/10/2022\, explicando en unas líneas qué les motiva a desear realizar la formación. \nCada acción formativa está sujeta a completar un grupo de 20 alumnos. \n			\n			\n				\n				\n				\n				\n			\n				\n				\n				\n				\n				\n				\n				\n				\n				\n				\n				De la idea al plan estratégico: formación en emprendimiento (I)\n			\n			\n				\n				\n				\n				\n			\n				\n				\n				\n				\n				\n				\n				\n				\n				\n				\n				\nInicio: 11 de octubre de 2022\nFin: 24 de noviembre de 2022\nModalidad: streaming\nMás información en este enlace\n\n			\n			\n				\n				\n				\n				\n				\n				\n				\n				\n				\n				\n			\n			\n				\n				\n				\n				\n			\n				\n				\n				\n				\n				\n				\n				\n				\n				\n				\n				De la idea al plan estratégico: formación en emprendimiento (II)\n			\n			\n				\n				\n				\n				\n			\n				\n				\n				\n				\n				\n				\n				\n				\n				\n				\n				\nInicio: 30 de octubre de 2022\nFin: 60 días para completar los contenidos del curso desde que se da acceso a la plataforma\nModalidad: online\nMás información en este enlace
URL:https://www.iacs.es/evento/de-la-idea-al-plan-estrategico-formacion-en-emprendimiento/
LOCATION:on-line\, España
CATEGORIES:Noticia evento
GEO:40.463667;-3.74922
END:VEVENT
BEGIN:VEVENT
DTSTART;TZID=Europe/Madrid:20221019T091500
DTEND;TZID=Europe/Madrid:20221020T140000
DTSTAMP:20260421T012938
CREATED:20220920T071508Z
LAST-MODIFIED:20221010T111439Z
UID:10001711-1666170900-1666274400@www.iacs.es
SUMMARY:V Congreso de CPI en Salud
DESCRIPTION:La Cátedra IACS\, de la Universidad de Zaragoza\, reunirá a expertos nacionales e internacionales en octubre\n\n\n\n\n\n\n\n\nLa Compra basada en valor y el Value Based Health Care son los dos ámbitos que abrirán la próxima edición del Congreso de CPI en Salud que organiza la Cátedra IACS.  Los días 19 y 20 de octubre\, expertos nacionales e internacionales se reunirán en el Paraninfo de la Universidad de Zaragoza para compartir su visión sobre ambos términos y ver cómo ésta puede conectar con la Compra Pública de Innovación. Será el broche final al ciclo de seminarios que ha ido desarrollando la cátedra a lo largo del 2022 sobre estos temas \nEl congreso contará con un amplio programa\, en el que no faltará una mesa de experiencias público- privadas de cómo trabajar en beneficio del paciente  o casos reales contados por sus  protagonistas de cómo gestionar las distintas fases de cualquier proceso de CPI\, entre otros.  Además\, como novedad\, se mostrará una radiografía de los procesos de CPI en Salud en España\, que permitirá conocer el crecimiento exponencial en el último lustro.  \nTambién se llevará a cabo un taller práctico en el que se auditará un proyecto  de CPI real a través del Cuestionario de Buenas  Prácticas en CPI\, elaborado por iniciativa  de la Cátedra IACS y  presentado en 2021. El proyecto elegido es ROSIA\, iniciativa  europea que coordina el IACS y que está enfocado a diseñar un servicio de telerehabilitación para las zonas aisladas o poco pobladas.  \nAsimismo\, la organización mantiene el Espacio Abierto\, un formato innovador iniciado en la pasada edición\, y en el que se ofrecerán experiencias relacionadas con la CPI y contadas por sus  protagonistas. Ésta será la quinta edición de un evento ya consolidado en el que se reúnen cada año más de un centenar de gestores sanitarios y expertos en innovación para compartir ideas\, experiencias y proyectos en torno a este modelo de contratación y cómo beneficia al sector de la Salud.  \nEl plazo para inscribirse al V Congreso de CPI en Salud permanecerá abierto hasta el 14 de octubre (plazo ampliado). El  precio es de 75 euros e incluye la asistencia los dos días de congreso así como la comida y cena de la primera jornada. La inscripción debe realizarse a través de la web https://cpi.aragon.es/catedraiacs/congreso-cpi-salud/ \, donde también está disponible el programa provisional. \nActividad acreditada por la Comisión de Formación Continuada para las Profesiones Sanitarias de Aragón con 1\,1 créditos.
URL:https://www.iacs.es/evento/v-congreso-de-cpi-en-salud/
LOCATION:Paraninfo\, Plaza Paraiso s/n\, Zaragoza\, 50001\, España
CATEGORIES:Noticia evento
GEO:41.6471598;-0.885973
X-APPLE-STRUCTURED-LOCATION;VALUE=URI;X-ADDRESS=Paraninfo Plaza Paraiso s/n Zaragoza 50001 España;X-APPLE-RADIUS=500;X-TITLE=Plaza Paraiso s/n:geo:-0.885973,41.6471598
END:VEVENT
END:VCALENDAR