﻿BEGIN:VCALENDAR
VERSION:2.0
PRODID:-//IACS - ECPv6.15.11//NONSGML v1.0//EN
CALSCALE:GREGORIAN
METHOD:PUBLISH
X-WR-CALNAME:IACS
X-ORIGINAL-URL:https://www.iacs.es
X-WR-CALDESC:Eventos para IACS
REFRESH-INTERVAL;VALUE=DURATION:PT1H
X-Robots-Tag:noindex
X-PUBLISHED-TTL:PT1H
BEGIN:VTIMEZONE
TZID:Europe/Madrid
BEGIN:DAYLIGHT
TZOFFSETFROM:+0100
TZOFFSETTO:+0200
TZNAME:CEST
DTSTART:20230326T010000
END:DAYLIGHT
BEGIN:STANDARD
TZOFFSETFROM:+0200
TZOFFSETTO:+0100
TZNAME:CET
DTSTART:20231029T010000
END:STANDARD
BEGIN:DAYLIGHT
TZOFFSETFROM:+0100
TZOFFSETTO:+0200
TZNAME:CEST
DTSTART:20240331T010000
END:DAYLIGHT
BEGIN:STANDARD
TZOFFSETFROM:+0200
TZOFFSETTO:+0100
TZNAME:CET
DTSTART:20241027T010000
END:STANDARD
BEGIN:DAYLIGHT
TZOFFSETFROM:+0100
TZOFFSETTO:+0200
TZNAME:CEST
DTSTART:20250330T010000
END:DAYLIGHT
BEGIN:STANDARD
TZOFFSETFROM:+0200
TZOFFSETTO:+0100
TZNAME:CET
DTSTART:20251026T010000
END:STANDARD
END:VTIMEZONE
BEGIN:VEVENT
DTSTART;TZID=Europe/Madrid:20240605T100000
DTEND;TZID=Europe/Madrid:20240605T130000
DTSTAMP:20260424T042056
CREATED:20240524T092212Z
LAST-MODIFIED:20240524T092212Z
UID:10002067-1717581600-1717592400@www.iacs.es
SUMMARY:El SCT de Secuenciación y Genómica Funcional organiza el seminario What You're Missing Matters! Oxford Nanopore Technologies
DESCRIPTION:El Servicio Científico Técnico de Secuenciación y Genómica Funcional\, en su labor de divulgación de Nuevas Tecnologías de Secuenciación Masiva\, organiza el seminario «What You’re Missing Matters! Oxford Nanopore Technologies». \nEl próximo miércoles 5 de junio\, a las 10 h\, en el Salón de Actos Lorente de No del CIBA\, Alfonso Troyano\, Senior KAM Iberia de Oxford Nanopore\, repasará los beneficios de la utilización de la tecnología de secuenciación de Oxford Nanopore y sus últimas novedades\, analizando las principales ventajas del enfoque disruptivo de esta tecnología de NGS basada en el uso de lecturas largas y su capacidad de análisis de moléculas nativas de DNA o RNA. \nPara inscribirse al seminario es necesario enviar un correo a adnsec@unizar.es \n¡Os esperamos!
URL:https://www.iacs.es/evento/el-sct-de-secuenciacion-y-genomica-funcional-organiza-el-seminario-what-youre-missing-matters-oxford-nanopore-technologies/
LOCATION:Salón de Actos Lorente de Nó- CIBA
CATEGORIES:Evento SCT,Noticia evento
END:VEVENT
END:VCALENDAR