﻿BEGIN:VCALENDAR
VERSION:2.0
PRODID:-//IACS - ECPv6.15.11//NONSGML v1.0//EN
CALSCALE:GREGORIAN
METHOD:PUBLISH
X-ORIGINAL-URL:https://www.iacs.es
X-WR-CALDESC:Eventos para IACS
REFRESH-INTERVAL;VALUE=DURATION:PT1H
X-Robots-Tag:noindex
X-PUBLISHED-TTL:PT1H
BEGIN:VTIMEZONE
TZID:Europe/Madrid
BEGIN:DAYLIGHT
TZOFFSETFROM:+0100
TZOFFSETTO:+0200
TZNAME:CEST
DTSTART:20200329T010000
END:DAYLIGHT
BEGIN:STANDARD
TZOFFSETFROM:+0200
TZOFFSETTO:+0100
TZNAME:CET
DTSTART:20201025T010000
END:STANDARD
BEGIN:DAYLIGHT
TZOFFSETFROM:+0100
TZOFFSETTO:+0200
TZNAME:CEST
DTSTART:20210328T010000
END:DAYLIGHT
BEGIN:STANDARD
TZOFFSETFROM:+0200
TZOFFSETTO:+0100
TZNAME:CET
DTSTART:20211031T010000
END:STANDARD
BEGIN:DAYLIGHT
TZOFFSETFROM:+0100
TZOFFSETTO:+0200
TZNAME:CEST
DTSTART:20220327T010000
END:DAYLIGHT
BEGIN:STANDARD
TZOFFSETFROM:+0200
TZOFFSETTO:+0100
TZNAME:CET
DTSTART:20221030T010000
END:STANDARD
BEGIN:DAYLIGHT
TZOFFSETFROM:+0100
TZOFFSETTO:+0200
TZNAME:CEST
DTSTART:20230326T010000
END:DAYLIGHT
BEGIN:STANDARD
TZOFFSETFROM:+0200
TZOFFSETTO:+0100
TZNAME:CET
DTSTART:20231029T010000
END:STANDARD
BEGIN:DAYLIGHT
TZOFFSETFROM:+0100
TZOFFSETTO:+0200
TZNAME:CEST
DTSTART:20240331T010000
END:DAYLIGHT
BEGIN:STANDARD
TZOFFSETFROM:+0200
TZOFFSETTO:+0100
TZNAME:CET
DTSTART:20241027T010000
END:STANDARD
BEGIN:DAYLIGHT
TZOFFSETFROM:+0100
TZOFFSETTO:+0200
TZNAME:CEST
DTSTART:20250330T010000
END:DAYLIGHT
BEGIN:STANDARD
TZOFFSETFROM:+0200
TZOFFSETTO:+0100
TZNAME:CET
DTSTART:20251026T010000
END:STANDARD
BEGIN:DAYLIGHT
TZOFFSETFROM:+0100
TZOFFSETTO:+0200
TZNAME:CEST
DTSTART:20260329T010000
END:DAYLIGHT
BEGIN:STANDARD
TZOFFSETFROM:+0200
TZOFFSETTO:+0100
TZNAME:CET
DTSTART:20261025T010000
END:STANDARD
BEGIN:DAYLIGHT
TZOFFSETFROM:+0100
TZOFFSETTO:+0200
TZNAME:CEST
DTSTART:20270328T010000
END:DAYLIGHT
BEGIN:STANDARD
TZOFFSETFROM:+0200
TZOFFSETTO:+0100
TZNAME:CET
DTSTART:20271031T010000
END:STANDARD
BEGIN:DAYLIGHT
TZOFFSETFROM:+0100
TZOFFSETTO:+0200
TZNAME:CEST
DTSTART:20280326T010000
END:DAYLIGHT
BEGIN:STANDARD
TZOFFSETFROM:+0200
TZOFFSETTO:+0100
TZNAME:CET
DTSTART:20281029T010000
END:STANDARD
END:VTIMEZONE
BEGIN:VEVENT
DTSTART;TZID=Europe/Madrid:20210521T080000
DTEND;TZID=Europe/Madrid:20270521T170000
DTSTAMP:20260421T020421
CREATED:20210521T074245Z
LAST-MODIFIED:20220128T103121Z
UID:10001583-1621584000-1810918800@www.iacs.es
SUMMARY:REGÍSTRATE COMO EXPERTO EN LA COMISIÓN EUROPEA
DESCRIPTION:La Comisión Europea designa a expertos para ayudarle en los procesos de evaluación de propuestas y en la supervisión de los proyectos concedidos. Asimismo\, en determinadas ocasiones\, la Comisión Europea selecciona expertos para asesorarle en la elaboración\, implementación y evaluación de programas de la UE y en el diseño de políticas. \nLos expertos que lo deseen pueden inscribirse en una base de datos a partir de la cual podrán ser seleccionados. \nSi estás interesado en ofrecer tus servicios en el contexto del programa de investigación e innovación Horizonte Europa\, actualmente en curso\, puedes hacerlo inscribiéndote a través del Portal del Participante en el siguiente enlace: https://ec.europa.eu/info/funding-tenders/opportunities/portal/screen/work-as-an-expert \nParticipar como experto para la Comisión Europea es una experiencia muy interesante que te aportará un valioso conocimiento sobre el proceso de evaluación e implementación de proyectos en el Programa Marco de investigación Horizonte Europa. \nPara cualquier duda puedes contactar con Elena Portero (eportero.iacs@aragon.es).
URL:https://www.iacs.es/evento/registrate-como-experto-en-la-comision-europea/
LOCATION:on-line\, España
CATEGORIES:Convocatoria - Novedades
GEO:40.463667;-3.74922
END:VEVENT
BEGIN:VEVENT
DTSTART;TZID=Europe/Madrid:20251216T080000
DTEND;TZID=Europe/Madrid:20270831T170000
DTSTAMP:20260421T020421
CREATED:20251216T090851Z
LAST-MODIFIED:20251216T090851Z
UID:10002242-1765872000-1819731600@www.iacs.es
SUMMARY:Nueva guía sobre Propiedad Intelectual en Proyectos Europeos
DESCRIPTION:El European IP Helpdesk ha lanzado la actualización de su guía “Your Guide to IP in Europe”\, una herramienta práctica para ayudar a empresas y proyectos de investigación a gestionar y proteger sus activos intangibles.\nLa publicación incluye consejos estratégicos\, ejemplos reales y recursos para integrar la Propiedad Intelectual en la estrategia de los proyectos\, así como orientaciones sobre explotación comercial y colaboración.\nLa guía está disponible de forma gratuita en formato digital en la web del European IP Helpdesk.\n👉 Accede a la guía aquí\nPara ampliar esta información\, o para cualquier otra consulta\, no dudes en contactar con Elena Portero (eportero.iacs@aragon.es)
URL:https://www.iacs.es/evento/nueva-guia-sobre-propiedad-intelectual-en-proyectos-europeos/
LOCATION:Zaragoza
CATEGORIES:Convocatoria,Convocatoria internacional
END:VEVENT
END:VCALENDAR